From mboxrd@z Thu Jan  1 00:00:00 1970
Return-Path: <test-report-bounces@dpdk.org>
Received: from mails.dpdk.org (mails.dpdk.org [217.70.189.124])
	by inbox.dpdk.org (Postfix) with ESMTP id B00FD43D9C
	for <public@inbox.dpdk.org>; Mon,  1 Apr 2024 04:42:42 +0200 (CEST)
Received: from mails.dpdk.org (localhost [127.0.0.1])
	by mails.dpdk.org (Postfix) with ESMTP id AADED4026F;
	Mon,  1 Apr 2024 04:42:42 +0200 (CEST)
Received: from mail-oo1-f99.google.com (mail-oo1-f99.google.com
 [209.85.161.99]) by mails.dpdk.org (Postfix) with ESMTP id 3E61E40265
 for <test-report@dpdk.org>; Mon,  1 Apr 2024 04:42:41 +0200 (CEST)
Received: by mail-oo1-f99.google.com with SMTP id
 006d021491bc7-5a50880ce2aso2289632eaf.0
 for <test-report@dpdk.org>; Sun, 31 Mar 2024 19:42:41 -0700 (PDT)
DKIM-Signature: v=1; a=rsa-sha256; c=relaxed/relaxed;
 d=iol.unh.edu; s=unh-iol; t=1711939360; x=1712544160; darn=dpdk.org;
 h=references:in-reply-to:cc:to:from:subject:message-id:date:from:to
 :cc:subject:date:message-id:reply-to;
 bh=n9Ws/RglwdQAS28d5Pfxgj6e1FoQQ8UsrjKwfpkzmtw=;
 b=i8uhK5BkD2VkDdE5601SaeqvCA81QmFwqfqsFul8BEJPJZX4Y+YEmJX0vQl99bDYoM
 ShwNILy2iyoQ1/fX1epPfGLvBwoQRM9dRJwyIaXYItaOQOJn5v5TF0gAQ3aLaB/1033n
 vySTaYUdvJQ9DlylPvACaWfHJarMp5z37P8B4=
X-Google-DKIM-Signature: v=1; a=rsa-sha256; c=relaxed/relaxed;
 d=1e100.net; s=20230601; t=1711939360; x=1712544160;
 h=references:in-reply-to:cc:to:from:subject:message-id:date
 :x-gm-message-state:from:to:cc:subject:date:message-id:reply-to;
 bh=n9Ws/RglwdQAS28d5Pfxgj6e1FoQQ8UsrjKwfpkzmtw=;
 b=fK9lG2Nu1Nl8Ch5bezGnsgZzqhUm+fhIwYg5R/soOcrhG7oZ8e3saCM/0LUkVeNpf0
 i6Lm/4+Uw87979NsI3JkNPsAc/XbJIQxTLtR+FcoKXRWdESwd2wZ2hxFi6qr1jfX4A/x
 GN57ta4tRPlKrhP8crIPNXM3ubzQnIoRBp6vBsiVC5kDGhJP2C3LfLVbMl3mV3/5YSMc
 8d3hpwbyRFCoeVNrtTJYPA7pLfLwQ8JMlq/dD0CfeftMpVdkeeP4NCVZ5ao8Tk7XzwEq
 hZPxi/UwhQbEHhyUjmDxwr93XyY0vSAET8/7DoO+KVIZCrjnN1n2NUYQ5uN7tS1Z3V4B
 uLvA==
X-Gm-Message-State: AOJu0YwAtsKTdWo5h2B59F/bPogRdufqhRpBEZHYcS6AC3EVRZIC9SG3
 fm4s8ip7oBs2xOWDIU9f2Z7XPtI1PxoBaTpzwXPmtyLZr9/kArclIVJmWI4s8YiWYrDxPalSyye
 dA4f5t3wtI1YiFl5lfTueeWx64SYzvfuVZMBZvUrV
X-Google-Smtp-Source: AGHT+IFbzs3aWBIAwVi7rBCzczP/Xme9VDNkRU6bWaeclQOvcV5tYJ+SONNXivQLX+7z2FB5jojHpPayeCdY
X-Received: by 2002:a4a:ee82:0:b0:5a5:23fb:4477 with SMTP id
 dk2-20020a4aee82000000b005a523fb4477mr7705070oob.2.1711939360563; 
 Sun, 31 Mar 2024 19:42:40 -0700 (PDT)
Received: from postal.iol.unh.edu (postal.iol.unh.edu. [132.177.123.84])
 by smtp-relay.gmail.com with ESMTPS id
 cj27-20020a056820221b00b005a536445955sm314298oob.19.2024.03.31.19.42.40
 (version=TLS1_2 cipher=ECDHE-ECDSA-AES128-GCM-SHA256 bits=128/128);
 Sun, 31 Mar 2024 19:42:40 -0700 (PDT)
X-Relaying-Domain: iol.unh.edu
Date: Sun, 31 Mar 2024 19:42:40 -0700 (PDT)
Message-ID: <660a1f20.050a0220.604ad.0990SMTPIN_ADDED_MISSING@mx.google.com>
Received: from [172.17.0.7] (unknown [172.18.0.217])
 by postal.iol.unh.edu (Postfix) with ESMTP id 09DE06052471;
 Sun, 31 Mar 2024 22:42:40 -0400 (EDT)
Subject: |SUCCESS| pw139012-139013 [PATCH] [v1,2/2] deque: add unit tests for
From: dpdklab@iol.unh.edu
To: Test Report <test-report@dpdk.org>
Cc: dpdk-test-reports@iol.unh.edu
In-Reply-To: <20240401013729.1466298-3-aditya.ambadipudi@arm.com>
References: <20240401013729.1466298-3-aditya.ambadipudi@arm.com>
Content-Type: text/plain
X-BeenThere: test-report@dpdk.org
X-Mailman-Version: 2.1.29
Precedence: list
List-Id: automatic DPDK test reports <test-report.dpdk.org>
List-Unsubscribe: <https://mails.dpdk.org/options/test-report>,
 <mailto:test-report-request@dpdk.org?subject=unsubscribe>
List-Archive: <http://mails.dpdk.org/archives/test-report/>
List-Post: <mailto:test-report@dpdk.org>
List-Help: <mailto:test-report-request@dpdk.org?subject=help>
List-Subscribe: <https://mails.dpdk.org/listinfo/test-report>,
 <mailto:test-report-request@dpdk.org?subject=subscribe>
Errors-To: test-report-bounces@dpdk.org

Test-Label: iol-unit-arm64-testing
Test-Status: SUCCESS
http://dpdk.org/patch/139013

_Testing PASS_

Submitter: Aditya Ambadipudi <aditya.ambadipudi@arm.com>
Date: Monday, April 01 2024 01:37:29 
DPDK git baseline: Repo:dpdk
  Branch: master
  CommitID:a9778aad62470a38ccbb4e09a2a6bf0cc2e0e36d

139012-139013 --> testing pass

Test environment and result as below:

+-----------------------------+------------------------------+---------------------------+----------------+--------------+
|         Environment         | cryptodev_sw_snow3g_autotest | cryptodev_sw_zuc_autotest | dpdk_unit_test | lpm_autotest |
+=============================+==============================+===========================+================+==============+
| Debian 12 (arm)             | PASS                         | PASS                      | PASS           | SKIPPED      |
+-----------------------------+------------------------------+---------------------------+----------------+--------------+
| CentOS Stream 9 (ARM)       | SKIPPED                      | SKIPPED                   | PASS           | SKIPPED      |
+-----------------------------+------------------------------+---------------------------+----------------+--------------+
| Debian 11 (Buster) (ARM)    | SKIPPED                      | SKIPPED                   | PASS           | SKIPPED      |
+-----------------------------+------------------------------+---------------------------+----------------+--------------+
| Fedora 37 (ARM)             | SKIPPED                      | SKIPPED                   | PASS           | SKIPPED      |
+-----------------------------+------------------------------+---------------------------+----------------+--------------+
| 32-bit Ubuntu 20.04.4 (ARM) | SKIPPED                      | SKIPPED                   | PASS           | SKIPPED      |
+-----------------------------+------------------------------+---------------------------+----------------+--------------+
| Fedora 38 (ARM)             | SKIPPED                      | SKIPPED                   | PASS           | SKIPPED      |
+-----------------------------+------------------------------+---------------------------+----------------+--------------+
| Ubuntu 20.04 (ARM)          | SKIPPED                      | SKIPPED                   | PASS           | SKIPPED      |
+-----------------------------+------------------------------+---------------------------+----------------+--------------+
| Ubuntu 20.04 ARM SVE        | SKIPPED                      | SKIPPED                   | SKIPPED        | PASS         |
+-----------------------------+------------------------------+---------------------------+----------------+--------------+


Debian 12 (arm)
	Kernel: Container Host Kernel
	Compiler: gcc 12.2.0

CentOS Stream 9 (ARM)
	Kernel: Container Host Kernel
	Compiler: gcc 11.4.1

Debian 11 (Buster) (ARM)
	Kernel: Container Host Kernel
	Compiler: gcc 10.2.1

Fedora 37 (ARM)
	Kernel: Depends on container host
	Compiler: gcc 12.3.1

32-bit Ubuntu 20.04.4 (ARM)
	Kernel: 5.4.0-155-generic aarch64
	Compiler: gcc 9.4

Fedora 38 (ARM)
	Kernel: Depends on container host
	Compiler: gcc 13.2.1

Ubuntu 20.04 (ARM)
	Kernel: Container Host Kernel
	Compiler: gcc 9.4.0

Ubuntu 20.04 ARM SVE
	Kernel: 5.4.0-167-generic
	Compiler: gcc (Ubuntu 10.5.0-1ubuntu1~20.04) 10.5.0

To view detailed results, visit:
https://lab.dpdk.org/results/dashboard/patchsets/29687/

UNH-IOL DPDK Community Lab

To manage your email subscriptions, visit: 
https://lab.dpdk.org/results/dashboard/preferences/subscriptions/