From mboxrd@z Thu Jan  1 00:00:00 1970
Return-Path: <test-report-bounces@dpdk.org>
Received: from mails.dpdk.org (mails.dpdk.org [217.70.189.124])
	by inbox.dpdk.org (Postfix) with ESMTP id 9AE7143D9C
	for <public@inbox.dpdk.org>; Mon,  1 Apr 2024 04:58:01 +0200 (CEST)
Received: from mails.dpdk.org (localhost [127.0.0.1])
	by mails.dpdk.org (Postfix) with ESMTP id 8B21F402CB;
	Mon,  1 Apr 2024 04:58:01 +0200 (CEST)
Received: from mail-ot1-f100.google.com (mail-ot1-f100.google.com
 [209.85.210.100])
 by mails.dpdk.org (Postfix) with ESMTP id E7D1B40265
 for <test-report@dpdk.org>; Mon,  1 Apr 2024 04:58:00 +0200 (CEST)
Received: by mail-ot1-f100.google.com with SMTP id
 46e09a7af769-6e6ce0702c3so1948031a34.0
 for <test-report@dpdk.org>; Sun, 31 Mar 2024 19:58:00 -0700 (PDT)
DKIM-Signature: v=1; a=rsa-sha256; c=relaxed/relaxed;
 d=iol.unh.edu; s=unh-iol; t=1711940280; x=1712545080; darn=dpdk.org;
 h=references:in-reply-to:cc:to:from:subject:message-id:date:from:to
 :cc:subject:date:message-id:reply-to;
 bh=D+VCHlWssn71aJucSEehq01LUjBwH5zZv5zZKPSRQOs=;
 b=EMcPjVjA7lKG3O+V84fxQr3xdwwMUnP22Fg5nZvdm+zVmYTSJ7F5MBm2TLHeY7MVZK
 4SrSL6rMCAGVPy89aDiWDbTBuTJ2W8/PrD63L+fg4sxOQ393AWDGXdI0BuhXjoQIFcLi
 cAblg35tntYl099ga4GyirYKeu6xEEZodzseg=
X-Google-DKIM-Signature: v=1; a=rsa-sha256; c=relaxed/relaxed;
 d=1e100.net; s=20230601; t=1711940280; x=1712545080;
 h=references:in-reply-to:cc:to:from:subject:message-id:date
 :x-gm-message-state:from:to:cc:subject:date:message-id:reply-to;
 bh=D+VCHlWssn71aJucSEehq01LUjBwH5zZv5zZKPSRQOs=;
 b=NSU379dn57+vFeXOK8V6jSjnqE2ejMTl+qcHBbdY7o/R0UbTVrA/SIPCTCcVP4hJbQ
 D5ErPQfvC33YDr8AZuq/QtfTSUB1+lilxnJ6CIl0ylTjGXrtLaOV5vLpun+cyJYwyyeu
 84XUBUwHN46EtRP6zajkzP4gYciZN1Hz9YWDTzwEikBIkvyv9Xmgm/LKfPVn3kLZ9gDf
 r9A2vC0JGuJpRfXvuZY01P0Sa5h9KlTmTUVvFXczKO/YfHF4QEB56UJeHfF+t6gYU89M
 WzsDXq4CBT0lDjkOdL0IB8gjlFwfpHrlNV3Ne5BLW3YyA2SAD8gOh7/PmLCHQPTZYj3d
 ZC+w==
X-Gm-Message-State: AOJu0YyQHTvhyZwTKJDlpT8JaPxMYY3mAyU3Xb/65mlEtg3GT9bTPJ8z
 Z1N6tt6Bhk4lZd/pg2G2a8BMzQQu7THiYROiHyjWzNChQeOSJH7a08/UYNYglMTlR/w02A8+FNH
 fvnXb3hI7upLjZW/CxcHknjS1vELAUcNku1ApvsJo
X-Google-Smtp-Source: AGHT+IFVRS5AH+gJjOfK9+7QqNdOKYI1WMyyb3RcRs842UROgeSuNMW7dOFDhb1cGe4qplmRuGFZ14cclsFH
X-Received: by 2002:a05:6871:3a2c:b0:22a:55bd:a02e with SMTP id
 pu44-20020a0568713a2c00b0022a55bda02emr10190492oac.42.1711940280153; 
 Sun, 31 Mar 2024 19:58:00 -0700 (PDT)
Received: from postal.iol.unh.edu (postal.iol.unh.edu. [132.177.123.84])
 by smtp-relay.gmail.com with ESMTPS id
 du15-20020a0568703a0f00b0021de29f59e6sm231027oab.12.2024.03.31.19.58.00
 (version=TLS1_2 cipher=ECDHE-ECDSA-AES128-GCM-SHA256 bits=128/128);
 Sun, 31 Mar 2024 19:58:00 -0700 (PDT)
X-Relaying-Domain: iol.unh.edu
Date: Sun, 31 Mar 2024 19:58:00 -0700 (PDT)
Message-ID: <660a22b8.050a0220.c3bcd.c496SMTPIN_ADDED_MISSING@mx.google.com>
Received: from [172.17.0.7] (unknown [172.18.0.217])
 by postal.iol.unh.edu (Postfix) with ESMTP id 9A6E66052471;
 Sun, 31 Mar 2024 22:57:59 -0400 (EDT)
Subject: |SUCCESS| pw139012-139013 [PATCH] [v1,2/2] deque: add unit tests for
From: dpdklab@iol.unh.edu
To: Test Report <test-report@dpdk.org>
Cc: dpdk-test-reports@iol.unh.edu
In-Reply-To: <20240401013729.1466298-3-aditya.ambadipudi@arm.com>
References: <20240401013729.1466298-3-aditya.ambadipudi@arm.com>
Content-Type: text/plain
X-BeenThere: test-report@dpdk.org
X-Mailman-Version: 2.1.29
Precedence: list
List-Id: automatic DPDK test reports <test-report.dpdk.org>
List-Unsubscribe: <https://mails.dpdk.org/options/test-report>,
 <mailto:test-report-request@dpdk.org?subject=unsubscribe>
List-Archive: <http://mails.dpdk.org/archives/test-report/>
List-Post: <mailto:test-report@dpdk.org>
List-Help: <mailto:test-report-request@dpdk.org?subject=help>
List-Subscribe: <https://mails.dpdk.org/listinfo/test-report>,
 <mailto:test-report-request@dpdk.org?subject=subscribe>
Errors-To: test-report-bounces@dpdk.org

Test-Label: iol-unit-arm64-testing
Test-Status: SUCCESS
http://dpdk.org/patch/139013

_Testing PASS_

Submitter: Aditya Ambadipudi <aditya.ambadipudi@arm.com>
Date: Monday, April 01 2024 01:37:29 
DPDK git baseline: Repo:dpdk
  Branch: master
  CommitID:a9778aad62470a38ccbb4e09a2a6bf0cc2e0e36d

139012-139013 --> testing pass

Test environment and result as below:

+-----------------------------+------------------------------+---------------------------+----------------+--------------+
|         Environment         | cryptodev_sw_snow3g_autotest | cryptodev_sw_zuc_autotest | dpdk_unit_test | lpm_autotest |
+=============================+==============================+===========================+================+==============+
| Debian 12 (arm)             | PASS                         | PASS                      | PASS           | SKIPPED      |
+-----------------------------+------------------------------+---------------------------+----------------+--------------+
| CentOS Stream 9 (ARM)       | SKIPPED                      | SKIPPED                   | PASS           | SKIPPED      |
+-----------------------------+------------------------------+---------------------------+----------------+--------------+
| Debian 11 (Buster) (ARM)    | SKIPPED                      | SKIPPED                   | PASS           | SKIPPED      |
+-----------------------------+------------------------------+---------------------------+----------------+--------------+
| Fedora 37 (ARM)             | SKIPPED                      | SKIPPED                   | PASS           | SKIPPED      |
+-----------------------------+------------------------------+---------------------------+----------------+--------------+
| 32-bit Ubuntu 20.04.4 (ARM) | SKIPPED                      | SKIPPED                   | PASS           | SKIPPED      |
+-----------------------------+------------------------------+---------------------------+----------------+--------------+
| Fedora 38 (ARM)             | SKIPPED                      | SKIPPED                   | PASS           | SKIPPED      |
+-----------------------------+------------------------------+---------------------------+----------------+--------------+
| Ubuntu 20.04 (ARM)          | SKIPPED                      | SKIPPED                   | PASS           | SKIPPED      |
+-----------------------------+------------------------------+---------------------------+----------------+--------------+
| Fedora 39 (ARM)             | SKIPPED                      | SKIPPED                   | PASS           | SKIPPED      |
+-----------------------------+------------------------------+---------------------------+----------------+--------------+
| Fedora 38 (ARM Clang)       | SKIPPED                      | SKIPPED                   | PASS           | SKIPPED      |
+-----------------------------+------------------------------+---------------------------+----------------+--------------+
| Ubuntu 20.04 ARM SVE        | SKIPPED                      | SKIPPED                   | SKIPPED        | PASS         |
+-----------------------------+------------------------------+---------------------------+----------------+--------------+


Debian 12 (arm)
	Kernel: Container Host Kernel
	Compiler: gcc 12.2.0

CentOS Stream 9 (ARM)
	Kernel: Container Host Kernel
	Compiler: gcc 11.4.1

Debian 11 (Buster) (ARM)
	Kernel: Container Host Kernel
	Compiler: gcc 10.2.1

Fedora 37 (ARM)
	Kernel: Depends on container host
	Compiler: gcc 12.3.1

32-bit Ubuntu 20.04.4 (ARM)
	Kernel: 5.4.0-155-generic aarch64
	Compiler: gcc 9.4

Fedora 38 (ARM)
	Kernel: Depends on container host
	Compiler: gcc 13.2.1

Ubuntu 20.04 (ARM)
	Kernel: Container Host Kernel
	Compiler: gcc 9.4.0

Fedora 39 (ARM)
	Kernel: Depends on container host
	Compiler: gcc 13.2.1

Fedora 38 (ARM Clang)
	Kernel: Depends on container host
	Compiler: clang 16.0.6

Ubuntu 20.04 ARM SVE
	Kernel: 5.4.0-167-generic
	Compiler: gcc (Ubuntu 10.5.0-1ubuntu1~20.04) 10.5.0

To view detailed results, visit:
https://lab.dpdk.org/results/dashboard/patchsets/29687/

UNH-IOL DPDK Community Lab

To manage your email subscriptions, visit: 
https://lab.dpdk.org/results/dashboard/preferences/subscriptions/