From mboxrd@z Thu Jan  1 00:00:00 1970
Return-Path: <test-report-bounces@dpdk.org>
Received: from mails.dpdk.org (mails.dpdk.org [217.70.189.124])
	by inbox.dpdk.org (Postfix) with ESMTP id 9B51243DAA
	for <public@inbox.dpdk.org>; Mon,  1 Apr 2024 19:55:27 +0200 (CEST)
Received: from mails.dpdk.org (localhost [127.0.0.1])
	by mails.dpdk.org (Postfix) with ESMTP id 95F17402CD;
	Mon,  1 Apr 2024 19:55:27 +0200 (CEST)
Received: from mail-vk1-f225.google.com (mail-vk1-f225.google.com
 [209.85.221.225])
 by mails.dpdk.org (Postfix) with ESMTP id E7BAF4029F
 for <test-report@dpdk.org>; Mon,  1 Apr 2024 19:55:26 +0200 (CEST)
Received: by mail-vk1-f225.google.com with SMTP id
 71dfb90a1353d-4d8e4d0b267so624206e0c.1
 for <test-report@dpdk.org>; Mon, 01 Apr 2024 10:55:26 -0700 (PDT)
DKIM-Signature: v=1; a=rsa-sha256; c=relaxed/relaxed;
 d=iol.unh.edu; s=unh-iol; t=1711994126; x=1712598926; darn=dpdk.org;
 h=references:in-reply-to:cc:to:from:subject:message-id:date:from:to
 :cc:subject:date:message-id:reply-to;
 bh=CyOzaL2ZszvK+foMFSWVXvabSGaYOCDkTnMMcyWXQ7k=;
 b=WFExMFRfQMoNvyI2/as594IKC6UwO54MMHN+cqDBRNHlQYzmJLOU9vWYrUO9dFxLnU
 VqP1KkRS6Sp2LQF4OFf3/lhHl3tue8xoEBsvlciXQJN01RH2DqZRzqUEjl2cDDvJZxg5
 QP2A6SaSkr/oFs0FWYiZBnrJn9fdG8NqBDYWU=
X-Google-DKIM-Signature: v=1; a=rsa-sha256; c=relaxed/relaxed;
 d=1e100.net; s=20230601; t=1711994126; x=1712598926;
 h=references:in-reply-to:cc:to:from:subject:message-id:date
 :x-gm-message-state:from:to:cc:subject:date:message-id:reply-to;
 bh=CyOzaL2ZszvK+foMFSWVXvabSGaYOCDkTnMMcyWXQ7k=;
 b=r0Fb2EUnTC7BBCCX4J0PYc57ugdHIaF5DzPnWXO/TFVojMBMXpPWBvHHz2yACtkjgS
 Z1C14eLRqIbjGnKnd32q5fbpH7AV50uw3EW1iGNn0Zd6LBdyedjkSo+oVFS3vGcq/vYx
 qFZjv9DqrrmdVk9C/5MH+mcljfnE+OQwqDjMgclKG/laDr2IcE2vQ+PJEVgEcrG9e9O/
 xgg/QCWeBnGJTcigMfgZdQonHzCAUW7pK/13kxyqGE3SbFAUHfFE3Gn2fhZF/D/9LI3a
 6vANBPjgfadqCqm4g8GSAw/8QCM3Rh5T0RLX3GqrmseotT2F3lrDYsSyuM+F5qkk9oMA
 3MZw==
X-Gm-Message-State: AOJu0YzLSZJUJjsYtIQv6MirzDsxBsEOv5/EX0UPo9hcSdTNTzIUVIxU
 7yn5Nijz2iIERGhXEIfzjP1rSBUc3d416N65wewG5VEowXzmJKZeQu46D8GgzE0LmJlz5NZlXK8
 ekoD4f8dSlmeCarWk9QAToaYzudbMS8BtWg20LqsE
X-Google-Smtp-Source: AGHT+IGpclL+Tph7Vk+TvNv/d92fXOrw69vrQ/QouxlykbW8TwdH5mA8tJcdzCe9OxYM9Ez3s+HvjuA0Q60u
X-Received: by 2002:a05:6122:c90:b0:4d3:4aad:22d4 with SMTP id
 ba16-20020a0561220c9000b004d34aad22d4mr7612047vkb.0.1711994124835; 
 Mon, 01 Apr 2024 10:55:24 -0700 (PDT)
Received: from postal.iol.unh.edu (postal.iol.unh.edu. [132.177.123.84])
 by smtp-relay.gmail.com with ESMTPS id
 j19-20020a056122219300b004d892c3638esm663455vkd.13.2024.04.01.10.55.24
 (version=TLS1_2 cipher=ECDHE-ECDSA-AES128-GCM-SHA256 bits=128/128);
 Mon, 01 Apr 2024 10:55:24 -0700 (PDT)
X-Relaying-Domain: iol.unh.edu
Date: Mon, 01 Apr 2024 10:55:24 -0700 (PDT)
Message-ID: <660af50c.050a0220.89c65.39dfSMTPIN_ADDED_MISSING@mx.google.com>
Received: from [172.21.0.7] (unknown [172.18.0.240])
 by postal.iol.unh.edu (Postfix) with ESMTP id 852BC6052471;
 Mon,  1 Apr 2024 13:55:24 -0400 (EDT)
Subject: |SUCCESS| pw139015-139016 [PATCH] [2/2] mempool: fix unused warning 
From: dpdklab@iol.unh.edu
To: Test Report <test-report@dpdk.org>
Cc: dpdk-test-reports@iol.unh.edu
In-Reply-To: <20240401170257.121047-3-stephen@networkplumber.org>
References: <20240401170257.121047-3-stephen@networkplumber.org>
Content-Type: text/plain
X-BeenThere: test-report@dpdk.org
X-Mailman-Version: 2.1.29
Precedence: list
List-Id: automatic DPDK test reports <test-report.dpdk.org>
List-Unsubscribe: <https://mails.dpdk.org/options/test-report>,
 <mailto:test-report-request@dpdk.org?subject=unsubscribe>
List-Archive: <http://mails.dpdk.org/archives/test-report/>
List-Post: <mailto:test-report@dpdk.org>
List-Help: <mailto:test-report-request@dpdk.org?subject=help>
List-Subscribe: <https://mails.dpdk.org/listinfo/test-report>,
 <mailto:test-report-request@dpdk.org?subject=subscribe>
Errors-To: test-report-bounces@dpdk.org

Test-Label: iol-unit-arm64-testing
Test-Status: SUCCESS
http://dpdk.org/patch/139016

_Testing PASS_

Submitter: Stephen Hemminger <stephen@networkplumber.org>
Date: Monday, April 01 2024 17:01:53 
DPDK git baseline: Repo:dpdk
  Branch: master
  CommitID:a9778aad62470a38ccbb4e09a2a6bf0cc2e0e36d

139015-139016 --> testing pass

Test environment and result as below:

+--------------------------+---------------------------+------------------------------+----------------+
|       Environment        | cryptodev_sw_zuc_autotest | cryptodev_sw_snow3g_autotest | dpdk_unit_test |
+==========================+===========================+==============================+================+
| Debian 12 (arm)          | PASS                      | PASS                         | SKIPPED        |
+--------------------------+---------------------------+------------------------------+----------------+
| Debian 11 (Buster) (ARM) | SKIPPED                   | SKIPPED                      | PASS           |
+--------------------------+---------------------------+------------------------------+----------------+
| CentOS Stream 9 (ARM)    | SKIPPED                   | SKIPPED                      | PASS           |
+--------------------------+---------------------------+------------------------------+----------------+


Debian 12 (arm)
	Kernel: Container Host Kernel
	Compiler: gcc 12.2.0

Debian 11 (Buster) (ARM)
	Kernel: Container Host Kernel
	Compiler: gcc 10.2.1

CentOS Stream 9 (ARM)
	Kernel: Container Host Kernel
	Compiler: gcc 11.4.1

To view detailed results, visit:
https://lab.dpdk.org/results/dashboard/patchsets/29689/

UNH-IOL DPDK Community Lab

To manage your email subscriptions, visit: 
https://lab.dpdk.org/results/dashboard/preferences/subscriptions/