From mboxrd@z Thu Jan  1 00:00:00 1970
Return-Path: <test-report-bounces@dpdk.org>
Received: from mails.dpdk.org (mails.dpdk.org [217.70.189.124])
	by inbox.dpdk.org (Postfix) with ESMTP id 4726943DAA
	for <public@inbox.dpdk.org>; Mon,  1 Apr 2024 19:57:21 +0200 (CEST)
Received: from mails.dpdk.org (localhost [127.0.0.1])
	by mails.dpdk.org (Postfix) with ESMTP id 35BD8402CD;
	Mon,  1 Apr 2024 19:57:21 +0200 (CEST)
Received: from mail-io1-f99.google.com (mail-io1-f99.google.com
 [209.85.166.99]) by mails.dpdk.org (Postfix) with ESMTP id 624CB4029F
 for <test-report@dpdk.org>; Mon,  1 Apr 2024 19:57:19 +0200 (CEST)
Received: by mail-io1-f99.google.com with SMTP id
 ca18e2360f4ac-7c89cd8df36so65973639f.1
 for <test-report@dpdk.org>; Mon, 01 Apr 2024 10:57:19 -0700 (PDT)
DKIM-Signature: v=1; a=rsa-sha256; c=relaxed/relaxed;
 d=iol.unh.edu; s=unh-iol; t=1711994239; x=1712599039; darn=dpdk.org;
 h=references:in-reply-to:cc:to:from:subject:message-id:date:from:to
 :cc:subject:date:message-id:reply-to;
 bh=zdqMDuZvZJGCzqPMZxWLMv8wcN3PVE1rMckpBFuHt68=;
 b=hqmX0bXv7ujPsW2SGsF3Hnk8VPg7RfThfbBb29zJhzT/3SzNEQKgzg4DzCA9Hz9NVR
 HeAKgf4CXYlXb+dzwaMHK9KP2jZ/7FK9rBtPqlULiUJc9U2WrGygCFUjVDnByNW1yTWF
 N2WvSeRoj2DmV5HEMZK6znIPSuvanraBWl6I0=
X-Google-DKIM-Signature: v=1; a=rsa-sha256; c=relaxed/relaxed;
 d=1e100.net; s=20230601; t=1711994239; x=1712599039;
 h=references:in-reply-to:cc:to:from:subject:message-id:date
 :x-gm-message-state:from:to:cc:subject:date:message-id:reply-to;
 bh=zdqMDuZvZJGCzqPMZxWLMv8wcN3PVE1rMckpBFuHt68=;
 b=CLIiPFuDf7Ej1dI3LmrSzinpKegsgQY+WsiGmWbEIXRs+0kU8IptSbZ/A8cUYXBEHV
 6c0B0Ejk6sTPrFiV8UvcF70UKOt4ny6BiXsInNJq302Aa0y+aN8mrSyvYw61SvOSBqcx
 WRtAGZbD3S3XjnegEOGzPRpgat4vASow567bbxlHi0uIwp9LekRzNa+ll9X5LK1ZRkj6
 urxbTuJZSoZR0BooOsk1dKrBckzQ0POWRty0SvFuFiqSOsaQU0Qriz1XYR117Hm/gJxR
 SQk90X8/fA6RM6BLERUAgFi2t/WDo5JXVUq3KWDj88mSzOKewxP6NKOg+zRQQEhOHWR2
 oVqA==
X-Gm-Message-State: AOJu0Yxq3EkLs4q5IoatW+8wUCawT2eZD+HYPt0fMBnmG0Vgd1532T1d
 A7IKQoL02OYbu7rx4+SjtOgcCzQdh3MijTu2A585enRc58Ms9piyqv2Wq1+DCsdeCwLht4BZwlS
 Ku1ZCqxLA5Sz0GVqY6MzlihpiJWWJaKz+mV9FRDlJYyvcKUs18eXXDX16
X-Google-Smtp-Source: AGHT+IFP3Nyn7BozsQ8POJ44ls2AUs3BKIrcK7eu5mI+iiCvg9+pcpbqGTLO6nT4gbKih7BUzgBZnkFMorlx
X-Received: by 2002:a5d:83cd:0:b0:7d0:cd44:18d0 with SMTP id
 u13-20020a5d83cd000000b007d0cd4418d0mr2903795ior.19.1711994238732; 
 Mon, 01 Apr 2024 10:57:18 -0700 (PDT)
Received: from postal.iol.unh.edu (postal.iol.unh.edu.
 [2606:4100:3880:1234::84]) by smtp-relay.gmail.com with ESMTPS id
 i1-20020a0566022c8100b007d0b3bfa95esm237605iow.21.2024.04.01.10.57.18
 (version=TLS1_2 cipher=ECDHE-ECDSA-AES128-GCM-SHA256 bits=128/128);
 Mon, 01 Apr 2024 10:57:18 -0700 (PDT)
X-Relaying-Domain: iol.unh.edu
Date: Mon, 01 Apr 2024 10:57:18 -0700 (PDT)
Message-ID: <660af57e.050a0220.8afcd.cb64SMTPIN_ADDED_MISSING@mx.google.com>
Received: from [172.21.0.9] (unknown [172.18.0.240])
 by postal.iol.unh.edu (Postfix) with ESMTP id 594566052471;
 Mon,  1 Apr 2024 13:57:18 -0400 (EDT)
Subject: |SUCCESS| pw139015-139016 [PATCH] [2/2] mempool: fix unused warning 
From: dpdklab@iol.unh.edu
To: Test Report <test-report@dpdk.org>
Cc: dpdk-test-reports@iol.unh.edu
In-Reply-To: <20240401170257.121047-3-stephen@networkplumber.org>
References: <20240401170257.121047-3-stephen@networkplumber.org>
Content-Type: text/plain
X-BeenThere: test-report@dpdk.org
X-Mailman-Version: 2.1.29
Precedence: list
List-Id: automatic DPDK test reports <test-report.dpdk.org>
List-Unsubscribe: <https://mails.dpdk.org/options/test-report>,
 <mailto:test-report-request@dpdk.org?subject=unsubscribe>
List-Archive: <http://mails.dpdk.org/archives/test-report/>
List-Post: <mailto:test-report@dpdk.org>
List-Help: <mailto:test-report-request@dpdk.org?subject=help>
List-Subscribe: <https://mails.dpdk.org/listinfo/test-report>,
 <mailto:test-report-request@dpdk.org?subject=subscribe>
Errors-To: test-report-bounces@dpdk.org

Test-Label: iol-compile-arm64-testing
Test-Status: SUCCESS
http://dpdk.org/patch/139016

_Testing PASS_

Submitter: Stephen Hemminger <stephen@networkplumber.org>
Date: Monday, April 01 2024 17:01:53 
DPDK git baseline: Repo:dpdk
  Branch: master
  CommitID:a9778aad62470a38ccbb4e09a2a6bf0cc2e0e36d

139015-139016 --> testing pass

Test environment and result as below:

+--------------------------+--------------------+
|       Environment        | dpdk_meson_compile |
+==========================+====================+
| Ubuntu 20.04 ARM SVE     | PASS               |
+--------------------------+--------------------+
| Debian 12 with MUSDK     | PASS               |
+--------------------------+--------------------+
| Fedora 37 (ARM)          | PASS               |
+--------------------------+--------------------+
| Fedora 38 (ARM)          | PASS               |
+--------------------------+--------------------+
| Debian 11 (Buster) (ARM) | PASS               |
+--------------------------+--------------------+
| Fedora 39 (ARM)          | PASS               |
+--------------------------+--------------------+
| CentOS Stream 9 (ARM)    | PASS               |
+--------------------------+--------------------+
| Debian 12 (arm)          | PASS               |
+--------------------------+--------------------+
| Ubuntu 20.04 (ARM)       | PASS               |
+--------------------------+--------------------+


Ubuntu 20.04 ARM SVE
	Kernel: 5.4.0-167-generic
	Compiler: gcc (Ubuntu 10.5.0-1ubuntu1~20.04) 10.5.0

Debian 12 with MUSDK
	Kernel: Container Host Kernel
	Compiler: gcc 12.2.0

Fedora 37 (ARM)
	Kernel: Depends on container host
	Compiler: gcc 12.3.1

Fedora 38 (ARM)
	Kernel: Depends on container host
	Compiler: gcc 13.2.1

Debian 11 (Buster) (ARM)
	Kernel: Container Host Kernel
	Compiler: gcc 10.2.1

Fedora 39 (ARM)
	Kernel: Depends on container host
	Compiler: gcc 13.2.1

CentOS Stream 9 (ARM)
	Kernel: Container Host Kernel
	Compiler: gcc 11.4.1

Debian 12 (arm)
	Kernel: Container Host Kernel
	Compiler: gcc 12.2.0

Ubuntu 20.04 (ARM)
	Kernel: Container Host Kernel
	Compiler: gcc 9.4.0

To view detailed results, visit:
https://lab.dpdk.org/results/dashboard/patchsets/29689/

UNH-IOL DPDK Community Lab

To manage your email subscriptions, visit: 
https://lab.dpdk.org/results/dashboard/preferences/subscriptions/