From mboxrd@z Thu Jan  1 00:00:00 1970
Return-Path: <test-report-bounces@dpdk.org>
Received: from mails.dpdk.org (mails.dpdk.org [217.70.189.124])
	by inbox.dpdk.org (Postfix) with ESMTP id 4A59543DAB
	for <public@inbox.dpdk.org>; Mon,  1 Apr 2024 20:00:21 +0200 (CEST)
Received: from mails.dpdk.org (localhost [127.0.0.1])
	by mails.dpdk.org (Postfix) with ESMTP id 400F7402CD;
	Mon,  1 Apr 2024 20:00:21 +0200 (CEST)
Received: from mail-qv1-f98.google.com (mail-qv1-f98.google.com
 [209.85.219.98]) by mails.dpdk.org (Postfix) with ESMTP id 480BE4029F
 for <test-report@dpdk.org>; Mon,  1 Apr 2024 20:00:20 +0200 (CEST)
Received: by mail-qv1-f98.google.com with SMTP id
 6a1803df08f44-6963c0c507eso41318296d6.1
 for <test-report@dpdk.org>; Mon, 01 Apr 2024 11:00:20 -0700 (PDT)
DKIM-Signature: v=1; a=rsa-sha256; c=relaxed/relaxed;
 d=iol.unh.edu; s=unh-iol; t=1711994419; x=1712599219; darn=dpdk.org;
 h=references:in-reply-to:cc:to:from:subject:message-id:date:from:to
 :cc:subject:date:message-id:reply-to;
 bh=iWbzfyViMtxtizzVhZvYt+IaX3HzGhKKPEkxtaQGAd4=;
 b=JkSt8l2vC/wfWUp/ojYPMdoEzgVqxBr0OM3d0DMnwkHKUfUBkuJdHZaZ5fcwvh6eGC
 /HW/tzWcRdK+7FwGe6b6P6wNhQD/r1LcJ89nFMCJkKpBX4ejollEr/duUtgMWR/82E08
 7l06DUzOyzr0KUKkjDMA1qTk4q+sKvgFsdyCw=
X-Google-DKIM-Signature: v=1; a=rsa-sha256; c=relaxed/relaxed;
 d=1e100.net; s=20230601; t=1711994419; x=1712599219;
 h=references:in-reply-to:cc:to:from:subject:message-id:date
 :x-gm-message-state:from:to:cc:subject:date:message-id:reply-to;
 bh=iWbzfyViMtxtizzVhZvYt+IaX3HzGhKKPEkxtaQGAd4=;
 b=NDrX5sFb8NPBuibct32CdDQj4yCOg8yHmOnS1Xk/CMsIbD0Em+p4+4J9Ot9DZFLEtP
 AeLo6PJJrAaggulevuA8Usi0Vq/I4gZ7QF4ENE1e8ua/Dp98eOkVfDyjzJWFyUbRaziK
 2rkC4XRhPxJy0D0AK+rnxZ9yLwiV8L7FcUw/3Y6ZGp83MjQCMMlwUKLJaNDjNySVgKRn
 bjU3TgGpNoySIashD2ftLcdkc3y/1EqptTlIRdm4AgECF1Poy5j0jgKvaaFPC7cxPAmH
 IhEIoBh2ITxp76v/LqSq3EjA6EFNCur/ppYQeG7W4nX55sTg02xT8mGTCrnWUIDh/bMr
 Q8KA==
X-Gm-Message-State: AOJu0YxkxSgGb5Vid5mtCGIj5q77ulD2/mQ7OL79dKyFaqLZLFsJpKmh
 GvqvbBYKBglBoB8C0s5YXP89hIUqPxcJUMx7iDVybSN8U6FTYxJwlI8IFbB2RNjPpEU5WoUbcjr
 2E4c2SmLSJs6cudkod9JfBj6JM1Knp6bXTSI7UXN94zpY//KLZTVjs4Vx
X-Google-Smtp-Source: AGHT+IFMIeo1kjvhV8u09mvwuw+01oTMqfryNf5ubgnNial0pwIpnh2ELqr37y2DdvPBHZkvKXOBzPlJgaym
X-Received: by 2002:a0c:f341:0:b0:698:ecf7:13bd with SMTP id
 e1-20020a0cf341000000b00698ecf713bdmr16489393qvm.15.1711994419781; 
 Mon, 01 Apr 2024 11:00:19 -0700 (PDT)
Received: from postal.iol.unh.edu (postal.iol.unh.edu.
 [2606:4100:3880:1234::84]) by smtp-relay.gmail.com with ESMTPS id
 hr7-20020a05621423c700b0069903f9ec5fsm307515qvb.50.2024.04.01.11.00.19
 (version=TLS1_2 cipher=ECDHE-ECDSA-AES128-GCM-SHA256 bits=128/128);
 Mon, 01 Apr 2024 11:00:19 -0700 (PDT)
X-Relaying-Domain: iol.unh.edu
Date: Mon, 01 Apr 2024 11:00:19 -0700 (PDT)
Message-ID: <660af633.050a0220.57617.1ef1SMTPIN_ADDED_MISSING@mx.google.com>
Received: from [172.21.0.6] (unknown [172.18.0.240])
 by postal.iol.unh.edu (Postfix) with ESMTP id 752D26052471;
 Mon,  1 Apr 2024 14:00:19 -0400 (EDT)
Subject: |SUCCESS| pw139015-139016 [PATCH] [2/2] mempool: fix unused warning 
From: dpdklab@iol.unh.edu
To: Test Report <test-report@dpdk.org>
Cc: dpdk-test-reports@iol.unh.edu
In-Reply-To: <20240401170257.121047-3-stephen@networkplumber.org>
References: <20240401170257.121047-3-stephen@networkplumber.org>
Content-Type: text/plain
X-BeenThere: test-report@dpdk.org
X-Mailman-Version: 2.1.29
Precedence: list
List-Id: automatic DPDK test reports <test-report.dpdk.org>
List-Unsubscribe: <https://mails.dpdk.org/options/test-report>,
 <mailto:test-report-request@dpdk.org?subject=unsubscribe>
List-Archive: <http://mails.dpdk.org/archives/test-report/>
List-Post: <mailto:test-report@dpdk.org>
List-Help: <mailto:test-report-request@dpdk.org?subject=help>
List-Subscribe: <https://mails.dpdk.org/listinfo/test-report>,
 <mailto:test-report-request@dpdk.org?subject=subscribe>
Errors-To: test-report-bounces@dpdk.org

Test-Label: iol-abi-testing
Test-Status: SUCCESS
http://dpdk.org/patch/139016

_Testing PASS_

Submitter: Stephen Hemminger <stephen@networkplumber.org>
Date: Monday, April 01 2024 17:01:53 
DPDK git baseline: Repo:dpdk
  Branch: master
  CommitID:a9778aad62470a38ccbb4e09a2a6bf0cc2e0e36d

139015-139016 --> testing pass

Test environment and result as below:

+------------------+----------+
|   Environment    | abi_test |
+==================+==========+
| CentOS Stream 8  | PASS     |
+------------------+----------+
| Fedora 38        | PASS     |
+------------------+----------+
| Fedora 39        | PASS     |
+------------------+----------+
| Ubuntu 22.04     | PASS     |
+------------------+----------+
| CentOS Stream 9  | PASS     |
+------------------+----------+
| openSUSE Leap 15 | PASS     |
+------------------+----------+
| RHEL8            | PASS     |
+------------------+----------+
| Debian Bullseye  | PASS     |
+------------------+----------+
| Fedora 37        | PASS     |
+------------------+----------+
| Debian 12        | PASS     |
+------------------+----------+


CentOS Stream 8
	Kernel: 5.4.0-167-generic
	Compiler: gcc 8.5.0 20210514

Fedora 38
	Kernel: Depends on container host
	Compiler: clang 16.0.6

Fedora 39
	Kernel: Depends on container host
	Compiler: clang 17.0.6

Ubuntu 22.04
	Kernel: 5.4.0-167-generic
	Compiler: gcc 11.4.0

CentOS Stream 9
	Kernel: 5.4.0-167-generic
	Compiler: gcc 11.4.1 20230605

openSUSE Leap 15
	Kernel: 5.4.0-167-generic
	Compiler: gcc 7.5.0

RHEL8
	Kernel: 5.4.0-167-generic
	Compiler: gcc 8.5.0 20210514 (Red Hat 8.5.0-20)

Debian Bullseye
	Kernel: 5.4.0-167-generic
	Compiler: gcc 10.2.1-6

Fedora 37
	Kernel: Depends on container host system
	Compiler: gcc 12.3.1

Debian 12
	Kernel: Container Host Kernel
	Compiler: gcc 10.2.1

To view detailed results, visit:
https://lab.dpdk.org/results/dashboard/patchsets/29689/

UNH-IOL DPDK Community Lab

To manage your email subscriptions, visit: 
https://lab.dpdk.org/results/dashboard/preferences/subscriptions/