From mboxrd@z Thu Jan  1 00:00:00 1970
Return-Path: <test-report-bounces@dpdk.org>
Received: from mails.dpdk.org (mails.dpdk.org [217.70.189.124])
	by inbox.dpdk.org (Postfix) with ESMTP id 4764B43DAB
	for <public@inbox.dpdk.org>; Mon,  1 Apr 2024 20:03:44 +0200 (CEST)
Received: from mails.dpdk.org (localhost [127.0.0.1])
	by mails.dpdk.org (Postfix) with ESMTP id 3DFAA402CD;
	Mon,  1 Apr 2024 20:03:44 +0200 (CEST)
Received: from mail-qv1-f99.google.com (mail-qv1-f99.google.com
 [209.85.219.99]) by mails.dpdk.org (Postfix) with ESMTP id 888664029F
 for <test-report@dpdk.org>; Mon,  1 Apr 2024 20:03:42 +0200 (CEST)
Received: by mail-qv1-f99.google.com with SMTP id
 6a1803df08f44-6969388c36fso24808106d6.1
 for <test-report@dpdk.org>; Mon, 01 Apr 2024 11:03:42 -0700 (PDT)
DKIM-Signature: v=1; a=rsa-sha256; c=relaxed/relaxed;
 d=iol.unh.edu; s=unh-iol; t=1711994622; x=1712599422; darn=dpdk.org;
 h=references:in-reply-to:cc:to:from:subject:message-id:date:from:to
 :cc:subject:date:message-id:reply-to;
 bh=eGfHs6zkhp5PcEGp5QX3tTWzhFo+xtYG/GaiFSbYB3Y=;
 b=amBP+3KQWAZjIVA73nm4BSnuSRquWXEMbeJXpClYNLYDuB0uAxvzCFvj1wumS5TKTM
 0/MU0/926ji0+zVS+ZDUOY0OO66uSu1cobwnVVkF9uF4q4BusmZRjzU6ntGZbbzkrTvE
 1F9xexhRyB5YZAYoqNmTJAcXz10dYi0/0EzTM=
X-Google-DKIM-Signature: v=1; a=rsa-sha256; c=relaxed/relaxed;
 d=1e100.net; s=20230601; t=1711994622; x=1712599422;
 h=references:in-reply-to:cc:to:from:subject:message-id:date
 :x-gm-message-state:from:to:cc:subject:date:message-id:reply-to;
 bh=eGfHs6zkhp5PcEGp5QX3tTWzhFo+xtYG/GaiFSbYB3Y=;
 b=P7OBUaEuyFivZ94IchTSaYlxXnvzOmkUle+BWyJC3QuuZYiae9GrG+PUfRIpGftVbM
 rjrG9Z3gCUCkprePKI2u7QQCFXD4ffleRpZjbEActkRcK1xRW0IcbEIlmiRheFrOzUot
 joIKcfIBbjZbRFGghpuae1BEk6dJnTicS69LVO321s9nu6QMrgKv9ietYt7ptdnQAEXm
 etZputrRdYxXTK9CWsJqBsfKg1NXyLlriiVEN8aGuTA/g+UEXFwhnyFgKsIqySd5TAcl
 OsNIKQ2C+qaSfxWFmmYKucaP1D5yfXaykAOKZbvHaBxnF/kh/mrZ94Hw8aJMbt1xsVUu
 /MBw==
X-Gm-Message-State: AOJu0YzlV+s+VIlWdB0Qsy9KRB6pb1OOfzflNUNvcqUA9qj67t47WkM4
 VwttVxH1VEtknAhxPVuPsik7Q84amdSJVPchIN/NWqpsZWlf1izn0229N/VbmrW71jdhwY2WFA1
 K7Y9KqeXllf5vUTtlhhBzM5zuM9VyW828uVSAS36iyL8YdkgqkPlEZ4aG
X-Google-Smtp-Source: AGHT+IH/Fp7gvL+hsS6Csq8VLWFaSB3V5Vr5AddfHWwM34Bfi3LydZ/zbvaqhpqLNw4aixLa/w8MVt4jZuHY
X-Received: by 2002:a0c:db86:0:b0:696:64a4:6df9 with SMTP id
 m6-20020a0cdb86000000b0069664a46df9mr10620177qvk.17.1711994621966; 
 Mon, 01 Apr 2024 11:03:41 -0700 (PDT)
Received: from postal.iol.unh.edu (postal.iol.unh.edu.
 [2606:4100:3880:1234::84]) by smtp-relay.gmail.com with ESMTPS id
 gh7-20020a05621429c700b00698f01a5bf2sm619314qvb.26.2024.04.01.11.03.41
 (version=TLS1_2 cipher=ECDHE-ECDSA-AES128-GCM-SHA256 bits=128/128);
 Mon, 01 Apr 2024 11:03:41 -0700 (PDT)
X-Relaying-Domain: iol.unh.edu
Date: Mon, 01 Apr 2024 11:03:41 -0700 (PDT)
Message-ID: <660af6fd.050a0220.96fe4.49deSMTPIN_ADDED_MISSING@mx.google.com>
Received: from [172.21.0.7] (unknown [172.18.0.240])
 by postal.iol.unh.edu (Postfix) with ESMTP id B082C6052471;
 Mon,  1 Apr 2024 14:03:41 -0400 (EDT)
Subject: |SUCCESS| pw139015-139016 [PATCH] [2/2] mempool: fix unused warning 
From: dpdklab@iol.unh.edu
To: Test Report <test-report@dpdk.org>
Cc: dpdk-test-reports@iol.unh.edu
In-Reply-To: <20240401170257.121047-3-stephen@networkplumber.org>
References: <20240401170257.121047-3-stephen@networkplumber.org>
Content-Type: text/plain
X-BeenThere: test-report@dpdk.org
X-Mailman-Version: 2.1.29
Precedence: list
List-Id: automatic DPDK test reports <test-report.dpdk.org>
List-Unsubscribe: <https://mails.dpdk.org/options/test-report>,
 <mailto:test-report-request@dpdk.org?subject=unsubscribe>
List-Archive: <http://mails.dpdk.org/archives/test-report/>
List-Post: <mailto:test-report@dpdk.org>
List-Help: <mailto:test-report-request@dpdk.org?subject=help>
List-Subscribe: <https://mails.dpdk.org/listinfo/test-report>,
 <mailto:test-report-request@dpdk.org?subject=subscribe>
Errors-To: test-report-bounces@dpdk.org

Test-Label: iol-compile-amd64-testing
Test-Status: SUCCESS
http://dpdk.org/patch/139016

_Testing PASS_

Submitter: Stephen Hemminger <stephen@networkplumber.org>
Date: Monday, April 01 2024 17:01:53 
DPDK git baseline: Repo:dpdk
  Branch: master
  CommitID:a9778aad62470a38ccbb4e09a2a6bf0cc2e0e36d

139015-139016 --> testing pass

Test environment and result as below:

+---------------------+--------------------+----------------------+-------------------+
|     Environment     | dpdk_meson_compile | dpdk_mingw64_compile | dpdk_msvc_compile |
+=====================+====================+======================+===================+
| FreeBSD 13.2        | PASS               | SKIPPED              | SKIPPED           |
+---------------------+--------------------+----------------------+-------------------+
| CentOS Stream 9     | PASS               | SKIPPED              | SKIPPED           |
+---------------------+--------------------+----------------------+-------------------+
| Windows Server 2022 | PASS               | PASS                 | PASS              |
+---------------------+--------------------+----------------------+-------------------+
| Windows Server 2019 | PASS               | PASS                 | SKIPPED           |
+---------------------+--------------------+----------------------+-------------------+
| Debian 12           | PASS               | SKIPPED              | SKIPPED           |
+---------------------+--------------------+----------------------+-------------------+
| Fedora 38           | PASS               | SKIPPED              | SKIPPED           |
+---------------------+--------------------+----------------------+-------------------+
| Fedora 37           | PASS               | SKIPPED              | SKIPPED           |
+---------------------+--------------------+----------------------+-------------------+
| Ubuntu 22.04        | PASS               | SKIPPED              | SKIPPED           |
+---------------------+--------------------+----------------------+-------------------+
| openSUSE Leap 15    | PASS               | SKIPPED              | SKIPPED           |
+---------------------+--------------------+----------------------+-------------------+


FreeBSD 13.2
	Kernel: 13.2
	Compiler: clang 14.0.5

CentOS Stream 9
	Kernel: 5.4.0-167-generic
	Compiler: gcc 11.4.1 20230605

Windows Server 2022
	Kernel: 10.0.20348.2031
	Compiler: clang 15.0.7, gcc 8.1.0 (MinGW), and MSVC VS 17.9

Windows Server 2019
	Kernel: 10.0.17763
	Compiler: clang 14.0 and gcc 8.1.0 (MinGW)

Debian 12
	Kernel: Container Host Kernel
	Compiler: gcc 10.2.1

Fedora 38
	Kernel: Depends on container host
	Compiler: gcc 13.2.1

Fedora 37
	Kernel: Depends on container host system
	Compiler: gcc 12.3.1

Ubuntu 22.04
	Kernel: 5.4.0-167-generic
	Compiler: gcc 11.4.0

openSUSE Leap 15
	Kernel: 5.4.0-167-generic
	Compiler: gcc 7.5.0

To view detailed results, visit:
https://lab.dpdk.org/results/dashboard/patchsets/29689/

UNH-IOL DPDK Community Lab

To manage your email subscriptions, visit: 
https://lab.dpdk.org/results/dashboard/preferences/subscriptions/