From mboxrd@z Thu Jan  1 00:00:00 1970
Return-Path: <test-report-bounces@dpdk.org>
Received: from mails.dpdk.org (mails.dpdk.org [217.70.189.124])
	by inbox.dpdk.org (Postfix) with ESMTP id 5F00343DC3
	for <public@inbox.dpdk.org>; Tue,  2 Apr 2024 19:26:59 +0200 (CEST)
Received: from mails.dpdk.org (localhost [127.0.0.1])
	by mails.dpdk.org (Postfix) with ESMTP id 5AC31402D8;
	Tue,  2 Apr 2024 19:26:59 +0200 (CEST)
Received: from mail-yw1-f225.google.com (mail-yw1-f225.google.com
 [209.85.128.225])
 by mails.dpdk.org (Postfix) with ESMTP id 210324025D
 for <test-report@dpdk.org>; Tue,  2 Apr 2024 19:26:58 +0200 (CEST)
Received: by mail-yw1-f225.google.com with SMTP id
 00721157ae682-60a434ea806so58261557b3.3
 for <test-report@dpdk.org>; Tue, 02 Apr 2024 10:26:58 -0700 (PDT)
DKIM-Signature: v=1; a=rsa-sha256; c=relaxed/relaxed;
 d=iol.unh.edu; s=unh-iol; t=1712078817; x=1712683617; darn=dpdk.org;
 h=references:in-reply-to:cc:to:from:subject:message-id:date:from:to
 :cc:subject:date:message-id:reply-to;
 bh=nUg/gGdt5ytaLQFDi07v0KMyqas8alDeg/BFwn7LTqQ=;
 b=JoakAfuHk/dCNblGXhjhKWRD5c1x1cG38OohcAb7jVLTgCVnmp9LLBLMs/UuW18et6
 /+P6ogKnAoehQnqentMGLjQNiJNs/OGUavYkySD8Xha8jWTgEt7cKUne8vOtcp9KpFyu
 M4ky36DeBfc86Kjf7fTIjk0DHW+9+8NTLGdTo=
X-Google-DKIM-Signature: v=1; a=rsa-sha256; c=relaxed/relaxed;
 d=1e100.net; s=20230601; t=1712078817; x=1712683617;
 h=references:in-reply-to:cc:to:from:subject:message-id:date
 :x-gm-message-state:from:to:cc:subject:date:message-id:reply-to;
 bh=nUg/gGdt5ytaLQFDi07v0KMyqas8alDeg/BFwn7LTqQ=;
 b=T+sHIfQRC0AKcR5qDyd2u68Ra68kmIQpZFvm3+wgRI6IZMlEtDfgW3i5D8KRUfEhXS
 1FVrHYwa9PP/ZnNADVNahuM2IcQ5bgCdZ+bI+bXCjWGnjXGRieHCQ/ImtMNI1pkdnH1h
 FZPveSWxSq1pXtsKZ1u9jRLbJlyOTU6Xl2irnu7DpDlCE+rKR+LBi229FglGHfaUDaFz
 G9lsom7HHuMBBIGcCjuWjp7uzUh6SIeBCUhpbBr0cKnqyS989BrVOoNZcbUKEpl6UIte
 GffgC1rkOy3nazQ8JToBHrfoLde/WYu0kzYF7ooI44B84VbQmzVbgz+4elU8Ztm1NB/V
 azog==
X-Gm-Message-State: AOJu0YwsQzK+Adj+AJPVufjYn8FN9bBMTEiDADrxuYYcbRaw7I3Xmo7b
 3SEBXTYmJpvNZB1MRpddaId38J3XBDK3A1rdi6t7ghDyHFZQ9S5mCtOWJpYhA7tow6A6rLyDVC9
 8IWN3XfWzVhqmSVD3W3nROW9Hr890e3GGD5y3jwer
X-Google-Smtp-Source: AGHT+IFceZyJ0r8vKbVvN5p9O9Y1wJJo56Lx9Fu6iCKZmTPru3H6XEvZoxckLcVmkLa3VU1fNWna75ZwyNHh
X-Received: by 2002:a5b:1d1:0:b0:dd1:48c9:53f3 with SMTP id
 f17-20020a5b01d1000000b00dd148c953f3mr214785ybp.60.1712078817492; 
 Tue, 02 Apr 2024 10:26:57 -0700 (PDT)
Received: from postal.iol.unh.edu (postal.iol.unh.edu. [132.177.123.84])
 by smtp-relay.gmail.com with ESMTPS id
 w4-20020a25df04000000b00dc64ba82c30sm567364ybg.0.2024.04.02.10.26.57
 (version=TLS1_2 cipher=ECDHE-ECDSA-AES128-GCM-SHA256 bits=128/128);
 Tue, 02 Apr 2024 10:26:57 -0700 (PDT)
X-Relaying-Domain: iol.unh.edu
Date: Tue, 02 Apr 2024 10:26:57 -0700 (PDT)
Message-ID: <660c3fe1.250a0220.abdb0.f9a0SMTPIN_ADDED_MISSING@mx.google.com>
Received: from [172.21.0.8] (unknown [172.18.0.240])
 by postal.iol.unh.edu (Postfix) with ESMTP id 263A36052471;
 Tue,  2 Apr 2024 13:26:57 -0400 (EDT)
Subject: |SUCCESS| pw139018-139021 [PATCH] [4/4] doc: replace use of ifconfig
From: dpdklab@iol.unh.edu
To: Test Report <test-report@dpdk.org>
Cc: dpdk-test-reports@iol.unh.edu
In-Reply-To: <20240402163050.133923-5-stephen@networkplumber.org>
References: <20240402163050.133923-5-stephen@networkplumber.org>
Content-Type: text/plain
X-BeenThere: test-report@dpdk.org
X-Mailman-Version: 2.1.29
Precedence: list
List-Id: automatic DPDK test reports <test-report.dpdk.org>
List-Unsubscribe: <https://mails.dpdk.org/options/test-report>,
 <mailto:test-report-request@dpdk.org?subject=unsubscribe>
List-Archive: <http://mails.dpdk.org/archives/test-report/>
List-Post: <mailto:test-report@dpdk.org>
List-Help: <mailto:test-report-request@dpdk.org?subject=help>
List-Subscribe: <https://mails.dpdk.org/listinfo/test-report>,
 <mailto:test-report-request@dpdk.org?subject=subscribe>
Errors-To: test-report-bounces@dpdk.org

Test-Label: iol-abi-testing
Test-Status: SUCCESS
http://dpdk.org/patch/139021

_Testing PASS_

Submitter: Stephen Hemminger <stephen@networkplumber.org>
Date: Tuesday, April 02 2024 16:29:36 
DPDK git baseline: Repo:dpdk
  Branch: master
  CommitID:e2e546ab5bf5e024986ccb5310ab43982f3bb40c

139018-139021 --> testing pass

Test environment and result as below:

+------------------+----------+
|   Environment    | abi_test |
+==================+==========+
| Ubuntu 22.04     | PASS     |
+------------------+----------+
| RHEL8            | PASS     |
+------------------+----------+
| Debian Bullseye  | PASS     |
+------------------+----------+
| Fedora 38        | PASS     |
+------------------+----------+
| openSUSE Leap 15 | PASS     |
+------------------+----------+
| CentOS Stream 8  | PASS     |
+------------------+----------+


Ubuntu 22.04
	Kernel: 5.4.0-167-generic
	Compiler: gcc 11.4.0

RHEL8
	Kernel: 5.4.0-167-generic
	Compiler: gcc 8.5.0 20210514 (Red Hat 8.5.0-20)

Debian Bullseye
	Kernel: 5.4.0-167-generic
	Compiler: gcc 10.2.1-6

Fedora 38
	Kernel: Depends on container host
	Compiler: clang 16.0.6

openSUSE Leap 15
	Kernel: 5.4.0-167-generic
	Compiler: gcc 7.5.0

CentOS Stream 8
	Kernel: 5.4.0-167-generic
	Compiler: gcc 8.5.0 20210514

To view detailed results, visit:
https://lab.dpdk.org/results/dashboard/patchsets/29691/

UNH-IOL DPDK Community Lab

To manage your email subscriptions, visit: 
https://lab.dpdk.org/results/dashboard/preferences/subscriptions/