From mboxrd@z Thu Jan  1 00:00:00 1970
Return-Path: <test-report-bounces@dpdk.org>
Received: from mails.dpdk.org (mails.dpdk.org [217.70.189.124])
	by inbox.dpdk.org (Postfix) with ESMTP id CF20D43DC3
	for <public@inbox.dpdk.org>; Tue,  2 Apr 2024 19:40:06 +0200 (CEST)
Received: from mails.dpdk.org (localhost [127.0.0.1])
	by mails.dpdk.org (Postfix) with ESMTP id CA8974028C;
	Tue,  2 Apr 2024 19:40:06 +0200 (CEST)
Received: from mail-pl1-f225.google.com (mail-pl1-f225.google.com
 [209.85.214.225])
 by mails.dpdk.org (Postfix) with ESMTP id 45FC84025D
 for <test-report@dpdk.org>; Tue,  2 Apr 2024 19:40:05 +0200 (CEST)
Received: by mail-pl1-f225.google.com with SMTP id
 d9443c01a7336-1e284ba6331so4350955ad.0
 for <test-report@dpdk.org>; Tue, 02 Apr 2024 10:40:05 -0700 (PDT)
DKIM-Signature: v=1; a=rsa-sha256; c=relaxed/relaxed;
 d=iol.unh.edu; s=unh-iol; t=1712079604; x=1712684404; darn=dpdk.org;
 h=references:in-reply-to:cc:to:from:subject:message-id:date:from:to
 :cc:subject:date:message-id:reply-to;
 bh=oCyRCgFzGWphXZpyHHbSoHV2Q+NrPPLGTy0cEqalyx4=;
 b=eFsgXGQpwoWtKLJvI1ruqwuch4eKb/+GLpyc7WUS6I3n/fayYU3Ao3+a526Q57ZMko
 Kq74eKZcv3gZlqcetdhi55JfKHWw9vpI6ZEVsmvNmTdsjP2IXXG+wfod22EJwDkvF0WN
 AQPu4Pk40RkgMqVX5uHnBE39AGfG2u1bxYIpY=
X-Google-DKIM-Signature: v=1; a=rsa-sha256; c=relaxed/relaxed;
 d=1e100.net; s=20230601; t=1712079604; x=1712684404;
 h=references:in-reply-to:cc:to:from:subject:message-id:date
 :x-gm-message-state:from:to:cc:subject:date:message-id:reply-to;
 bh=oCyRCgFzGWphXZpyHHbSoHV2Q+NrPPLGTy0cEqalyx4=;
 b=HzLcM5JalUmPNwQ7o6YaFm4IEVCLxHs9zQy8w+YahNXfxylaxu14GZaa78GaqG5jxX
 OOQrYTimvj4xvP+zoUk12IS7i/XAG0YqBtpvVqLyxxU51OO6kMO42pMXns53/i+oVcpC
 cZ8KsJNgVnvxxNfyHlorjPMfKjnwHF/soJuhbqPDS0wiYNIfO3w/OoBXt0NWgNsrtxFm
 rDiYggL1aqsvis5Epd4Dxe2tqHhEizPWGvERylv8j9OOCh+1Cci3J9HYUuqnNMM15Nx8
 sRGOj2lC8rU4GL/9dOGKQH1LcH3ymFPCTTl0lm/t6zctJM6u0lr44hrpdKEUBaSnwL3x
 jT3A==
X-Gm-Message-State: AOJu0YyxMf9uki+gJqCT5mqlFeZ71MUhoBlBPoMRdXK+Dkr9LmRO16Wb
 PIZIV/ilVaose+V+cimhFn7U3h4tChqvkQlY7Hn+Gz5FM/Mi2T1wsXgHxQpWdPXIOMmkDwqCOgz
 CaF8N+9S2+DYzcmcsF9C7IOh8moQUbojO5gTdlvHyeSaI5e5AtA5T+UdC
X-Google-Smtp-Source: AGHT+IG9PoOTNGWkSpq6139imAB7IBtfHAXPH05qDRopuZFIa7tmtL+28vJsrA5EMKIhsOn/3wSjt2NvSQ6w
X-Received: by 2002:a17:903:2983:b0:1e0:e2bd:f906 with SMTP id
 lm3-20020a170903298300b001e0e2bdf906mr4672164plb.35.1712079604437; 
 Tue, 02 Apr 2024 10:40:04 -0700 (PDT)
Received: from postal.iol.unh.edu (postal.iol.unh.edu.
 [2606:4100:3880:1234::84]) by smtp-relay.gmail.com with ESMTPS id
 w13-20020a1709027b8d00b001d8f6c67cf1sm277032pll.55.2024.04.02.10.40.04
 (version=TLS1_2 cipher=ECDHE-ECDSA-AES128-GCM-SHA256 bits=128/128);
 Tue, 02 Apr 2024 10:40:04 -0700 (PDT)
X-Relaying-Domain: iol.unh.edu
Date: Tue, 02 Apr 2024 10:40:04 -0700 (PDT)
Message-ID: <660c42f4.170a0220.2cd5d.ed7bSMTPIN_ADDED_MISSING@mx.google.com>
Received: from [172.21.0.7] (unknown [172.18.0.240])
 by postal.iol.unh.edu (Postfix) with ESMTP id DC61A6052471;
 Tue,  2 Apr 2024 13:40:03 -0400 (EDT)
Subject: |SUCCESS| pw139018-139021 [PATCH] [4/4] doc: replace use of ifconfig
From: dpdklab@iol.unh.edu
To: Test Report <test-report@dpdk.org>
Cc: dpdk-test-reports@iol.unh.edu
In-Reply-To: <20240402163050.133923-5-stephen@networkplumber.org>
References: <20240402163050.133923-5-stephen@networkplumber.org>
Content-Type: text/plain
X-BeenThere: test-report@dpdk.org
X-Mailman-Version: 2.1.29
Precedence: list
List-Id: automatic DPDK test reports <test-report.dpdk.org>
List-Unsubscribe: <https://mails.dpdk.org/options/test-report>,
 <mailto:test-report-request@dpdk.org?subject=unsubscribe>
List-Archive: <http://mails.dpdk.org/archives/test-report/>
List-Post: <mailto:test-report@dpdk.org>
List-Help: <mailto:test-report-request@dpdk.org?subject=help>
List-Subscribe: <https://mails.dpdk.org/listinfo/test-report>,
 <mailto:test-report-request@dpdk.org?subject=subscribe>
Errors-To: test-report-bounces@dpdk.org

Test-Label: iol-unit-arm64-testing
Test-Status: SUCCESS
http://dpdk.org/patch/139021

_Testing PASS_

Submitter: Stephen Hemminger <stephen@networkplumber.org>
Date: Tuesday, April 02 2024 16:29:36 
DPDK git baseline: Repo:dpdk
  Branch: master
  CommitID:e2e546ab5bf5e024986ccb5310ab43982f3bb40c

139018-139021 --> testing pass

Test environment and result as below:

+--------------------------+------------------------------+---------------------------+----------------+
|       Environment        | cryptodev_sw_snow3g_autotest | cryptodev_sw_zuc_autotest | dpdk_unit_test |
+==========================+==============================+===========================+================+
| Debian 12 (arm)          | PASS                         | PASS                      | PASS           |
+--------------------------+------------------------------+---------------------------+----------------+
| CentOS Stream 9 (ARM)    | SKIPPED                      | SKIPPED                   | PASS           |
+--------------------------+------------------------------+---------------------------+----------------+
| Fedora 38 (ARM)          | SKIPPED                      | SKIPPED                   | PASS           |
+--------------------------+------------------------------+---------------------------+----------------+
| Debian 11 (Buster) (ARM) | SKIPPED                      | SKIPPED                   | PASS           |
+--------------------------+------------------------------+---------------------------+----------------+
| Ubuntu 20.04 (ARM)       | SKIPPED                      | SKIPPED                   | PASS           |
+--------------------------+------------------------------+---------------------------+----------------+
| Fedora 37 (ARM)          | SKIPPED                      | SKIPPED                   | PASS           |
+--------------------------+------------------------------+---------------------------+----------------+


Debian 12 (arm)
	Kernel: Container Host Kernel
	Compiler: gcc 12.2.0

CentOS Stream 9 (ARM)
	Kernel: Container Host Kernel
	Compiler: gcc 11.4.1

Fedora 38 (ARM)
	Kernel: Depends on container host
	Compiler: gcc 13.2.1

Debian 11 (Buster) (ARM)
	Kernel: Container Host Kernel
	Compiler: gcc 10.2.1

Ubuntu 20.04 (ARM)
	Kernel: Container Host Kernel
	Compiler: gcc 9.4.0

Fedora 37 (ARM)
	Kernel: Depends on container host
	Compiler: gcc 12.3.1

To view detailed results, visit:
https://lab.dpdk.org/results/dashboard/patchsets/29691/

UNH-IOL DPDK Community Lab

To manage your email subscriptions, visit: 
https://lab.dpdk.org/results/dashboard/preferences/subscriptions/