From mboxrd@z Thu Jan  1 00:00:00 1970
Return-Path: <test-report-bounces@dpdk.org>
Received: from mails.dpdk.org (mails.dpdk.org [217.70.189.124])
	by inbox.dpdk.org (Postfix) with ESMTP id A964743DC3
	for <public@inbox.dpdk.org>; Tue,  2 Apr 2024 19:44:19 +0200 (CEST)
Received: from mails.dpdk.org (localhost [127.0.0.1])
	by mails.dpdk.org (Postfix) with ESMTP id A4BA840272;
	Tue,  2 Apr 2024 19:44:19 +0200 (CEST)
Received: from mail-oo1-f97.google.com (mail-oo1-f97.google.com
 [209.85.161.97]) by mails.dpdk.org (Postfix) with ESMTP id 130FB4025D
 for <test-report@dpdk.org>; Tue,  2 Apr 2024 19:44:19 +0200 (CEST)
Received: by mail-oo1-f97.google.com with SMTP id
 006d021491bc7-5a493475aefso41516eaf.1
 for <test-report@dpdk.org>; Tue, 02 Apr 2024 10:44:19 -0700 (PDT)
DKIM-Signature: v=1; a=rsa-sha256; c=relaxed/relaxed;
 d=iol.unh.edu; s=unh-iol; t=1712079858; x=1712684658; darn=dpdk.org;
 h=references:in-reply-to:cc:to:from:subject:message-id:date:from:to
 :cc:subject:date:message-id:reply-to;
 bh=sx9XzZQVQa5N2lvFYo44GlKRzTrJ9RYunyetndoUUw8=;
 b=OfRhli+JxE4isIMFGcV3qxo0h5pG/JnPSB30v5ZAirNTo7jhWjwF5syoe0tW5FQ8YF
 WPiMGXB5tbQMf6nbK4gUBzUwN4+vcLTW7XJzo0jTVc0ecZ9cMoWHZ2vrfN2DMkeZcy2o
 pldy6gxdq4phMPoWhPv/VAOQb2w0WspQVCOuY=
X-Google-DKIM-Signature: v=1; a=rsa-sha256; c=relaxed/relaxed;
 d=1e100.net; s=20230601; t=1712079858; x=1712684658;
 h=references:in-reply-to:cc:to:from:subject:message-id:date
 :x-gm-message-state:from:to:cc:subject:date:message-id:reply-to;
 bh=sx9XzZQVQa5N2lvFYo44GlKRzTrJ9RYunyetndoUUw8=;
 b=E1/G6t/2fx4xM3hFBuLxFu04H140I4K8TTfygj0wN9X/ow3mUAb39f1FvuCvdI+YwN
 +21+YfzU78unCKOcRAzzEJT5yLVVkhXY5glj1tvbV+kMBl+4EGcn9I9pfyC3fEkgPanK
 OUeCe3M/oxMRdhfSVuPFIp8UaevkampE8zJBMIdoQdgY/q6yTmztzvQLb872OtKTqH3I
 RCbc8Zk+B6iIG0okRBVlAPZkuwHit1w2Vd65EV4fr4onjGui4WB92zu5YfRaYneXQPJk
 AKdENbw7i0Ej6LlkBU1/H+FH2Q0X7mSxLSDBO/qqjCPOYR2G2HO64d2XXPdbrfFItWf5
 b2yQ==
X-Gm-Message-State: AOJu0YzydnOPI/a7+sfItBhbiG7WL8arlkUTefxE+lZ0biNCl5ffv+KJ
 8Ll4J6HkWIOcaQWlEAppqfx4LAB9TRGlh/z4yT/XmIG5A/WyHw70nPuA2qiZDcWf5+0wiXepDdf
 y7djPaHzjSAH2wAd8OVTQP7M2AzB9lP5yJZpmTLLhkBX1jIldW1rDAVbL
X-Google-Smtp-Source: AGHT+IHBLJg3xFX9L6LT4ME1pBctLKexR7C8Fdfvv4xDMatGGOabpWZTNpC0FjicioGFHr2fXwjfL0X8bxCc
X-Received: by 2002:a05:6870:46a4:b0:22e:805:4862 with SMTP id
 a36-20020a05687046a400b0022e08054862mr75561oap.26.1712079858360; 
 Tue, 02 Apr 2024 10:44:18 -0700 (PDT)
Received: from postal.iol.unh.edu (postal.iol.unh.edu.
 [2606:4100:3880:1234::84]) by smtp-relay.gmail.com with ESMTPS id
 ca6-20020a056830610600b006e6d5146122sm751348otb.2.2024.04.02.10.44.18
 (version=TLS1_2 cipher=ECDHE-ECDSA-AES128-GCM-SHA256 bits=128/128);
 Tue, 02 Apr 2024 10:44:18 -0700 (PDT)
X-Relaying-Domain: iol.unh.edu
Date: Tue, 02 Apr 2024 10:44:18 -0700 (PDT)
Message-ID: <660c43f2.050a0220.2668e.78f1SMTPIN_ADDED_MISSING@mx.google.com>
Received: from [172.21.0.6] (unknown [172.18.0.240])
 by postal.iol.unh.edu (Postfix) with ESMTP id BCF256052471;
 Tue,  2 Apr 2024 13:44:17 -0400 (EDT)
Subject: |SUCCESS| pw139018-139021 [PATCH] [4/4] doc: replace use of ifconfig
From: dpdklab@iol.unh.edu
To: Test Report <test-report@dpdk.org>
Cc: dpdk-test-reports@iol.unh.edu
In-Reply-To: <20240402163050.133923-5-stephen@networkplumber.org>
References: <20240402163050.133923-5-stephen@networkplumber.org>
Content-Type: text/plain
X-BeenThere: test-report@dpdk.org
X-Mailman-Version: 2.1.29
Precedence: list
List-Id: automatic DPDK test reports <test-report.dpdk.org>
List-Unsubscribe: <https://mails.dpdk.org/options/test-report>,
 <mailto:test-report-request@dpdk.org?subject=unsubscribe>
List-Archive: <http://mails.dpdk.org/archives/test-report/>
List-Post: <mailto:test-report@dpdk.org>
List-Help: <mailto:test-report-request@dpdk.org?subject=help>
List-Subscribe: <https://mails.dpdk.org/listinfo/test-report>,
 <mailto:test-report-request@dpdk.org?subject=subscribe>
Errors-To: test-report-bounces@dpdk.org

Test-Label: iol-unit-amd64-testing
Test-Status: SUCCESS
http://dpdk.org/patch/139021

_Testing PASS_

Submitter: Stephen Hemminger <stephen@networkplumber.org>
Date: Tuesday, April 02 2024 16:29:36 
DPDK git baseline: Repo:dpdk
  Branch: master
  CommitID:e2e546ab5bf5e024986ccb5310ab43982f3bb40c

139018-139021 --> testing pass

Test environment and result as below:

+---------------------+----------------+
|     Environment     | dpdk_unit_test |
+=====================+================+
| Windows Server 2019 | PASS           |
+---------------------+----------------+
| Debian Bullseye     | PASS           |
+---------------------+----------------+
| Windows Server 2022 | PASS           |
+---------------------+----------------+
| CentOS Stream 9     | PASS           |
+---------------------+----------------+


Windows Server 2019
	Kernel: 10.0.17763
	Compiler: clang 14.0 and gcc 8.1.0 (MinGW)

Debian Bullseye
	Kernel: 5.4.0-167-generic
	Compiler: gcc 10.2.1-6

Windows Server 2022
	Kernel: 10.0.20348.2031
	Compiler: clang 15.0.7, gcc 8.1.0 (MinGW), and MSVC VS 17.9

CentOS Stream 9
	Kernel: 5.4.0-167-generic
	Compiler: gcc 11.4.1 20230605

To view detailed results, visit:
https://lab.dpdk.org/results/dashboard/patchsets/29691/

UNH-IOL DPDK Community Lab

To manage your email subscriptions, visit: 
https://lab.dpdk.org/results/dashboard/preferences/subscriptions/