From mboxrd@z Thu Jan  1 00:00:00 1970
Return-Path: <test-report-bounces@dpdk.org>
Received: from mails.dpdk.org (mails.dpdk.org [217.70.189.124])
	by inbox.dpdk.org (Postfix) with ESMTP id 0B87943DC3
	for <public@inbox.dpdk.org>; Tue,  2 Apr 2024 19:46:21 +0200 (CEST)
Received: from mails.dpdk.org (localhost [127.0.0.1])
	by mails.dpdk.org (Postfix) with ESMTP id 06D2940272;
	Tue,  2 Apr 2024 19:46:21 +0200 (CEST)
Received: from mail-yw1-f228.google.com (mail-yw1-f228.google.com
 [209.85.128.228])
 by mails.dpdk.org (Postfix) with ESMTP id C3E2D4025D
 for <test-report@dpdk.org>; Tue,  2 Apr 2024 19:46:19 +0200 (CEST)
Received: by mail-yw1-f228.google.com with SMTP id
 00721157ae682-6098a20ab22so47917997b3.2
 for <test-report@dpdk.org>; Tue, 02 Apr 2024 10:46:19 -0700 (PDT)
DKIM-Signature: v=1; a=rsa-sha256; c=relaxed/relaxed;
 d=iol.unh.edu; s=unh-iol; t=1712079979; x=1712684779; darn=dpdk.org;
 h=references:in-reply-to:cc:to:from:subject:message-id:date:from:to
 :cc:subject:date:message-id:reply-to;
 bh=pa/WQY6tJaWrDFPLOYccB8TE58gxnzCfoKQ5TOBiUCA=;
 b=gnCiTs8tt7OkdzEaSok5Ona11Zw4QUvwyEMMkxgk/c6LeTKWtYXDZcuVE2hbnLKs30
 SI7t1vAE3uwgYlJXOSL1eVc0gXUZ9ddw7eSnPAs087mcSZGNPN95Qirk8ffMVYzj+WEg
 sBEcvSOt3VN18uHrvdaerKn/9KtsYjOV4/Qhk=
X-Google-DKIM-Signature: v=1; a=rsa-sha256; c=relaxed/relaxed;
 d=1e100.net; s=20230601; t=1712079979; x=1712684779;
 h=references:in-reply-to:cc:to:from:subject:message-id:date
 :x-gm-message-state:from:to:cc:subject:date:message-id:reply-to;
 bh=pa/WQY6tJaWrDFPLOYccB8TE58gxnzCfoKQ5TOBiUCA=;
 b=cQGS9mc0wYDUTh1z9qiVy3o4ZeA4wMXahzHYc/SzE6F4kFw+Cfz6p0P6xmo1qiPC+X
 fs9gAF1UaHFARw4s5u2dBlDAOKBptslAPs87F169wOwwmQeYPGdAE3lES7s03lIYS1Yx
 /GNCPlvANLA9lSoN8G6qYZ6yY2SO7IbN2Su+3uTNshkvw10uabC0G9AAOdNAsuSy5T/W
 eQWeo7GAMintkInm6WiU8834jGFMILV9ePY+BmzKylQ22nPQsd0LAcTtADGJxWXbPagH
 r0536Nwzp4Vn2inMogDdiKR30gyXAIvps4GYiJBESaLvkyGv3/0Vf+xGEgjOyO2Uj+cY
 0MUQ==
X-Gm-Message-State: AOJu0Yz+b9KlS8KdVMlSE/FN2TTd9jLQ/Sw425a823W21e58No8r2/l4
 3giydt0Cgw9OLrwxzbtcEwwvsbL+7zNoq5SaQMdx3Y0JIdI3U+t9Gxm2koYeLk5y86I8CxSxJVs
 mVJKz+jyo1em5/BFl0qGV1BvP3okI6uSAZM4tW3xsDHRuvR9saC3Gewsb
X-Google-Smtp-Source: AGHT+IG/ieN2KHVnzBfxx7B5PxjPferzhQUfhAZL77sm9txm5DFqJr6waAIb6TmMemGvTEGi+kbjyY0oA/4Y
X-Received: by 2002:a0d:eb47:0:b0:615:14d2:945d with SMTP id
 u68-20020a0deb47000000b0061514d2945dmr332208ywe.3.1712079974181; 
 Tue, 02 Apr 2024 10:46:14 -0700 (PDT)
Received: from postal.iol.unh.edu (postal.iol.unh.edu.
 [2606:4100:3880:1234::84]) by smtp-relay.gmail.com with ESMTPS id
 ey1-20020a05690c300100b00611a0d3ba27sm677018ywb.60.2024.04.02.10.46.14
 (version=TLS1_2 cipher=ECDHE-ECDSA-AES128-GCM-SHA256 bits=128/128);
 Tue, 02 Apr 2024 10:46:14 -0700 (PDT)
X-Relaying-Domain: iol.unh.edu
Date: Tue, 02 Apr 2024 10:46:14 -0700 (PDT)
Message-ID: <660c4466.050a0220.ae1b.37b2SMTPIN_ADDED_MISSING@mx.google.com>
Received: from [172.21.0.6] (unknown [172.18.0.240])
 by postal.iol.unh.edu (Postfix) with ESMTP id C68776052471;
 Tue,  2 Apr 2024 13:46:13 -0400 (EDT)
Subject: |SUCCESS| pw139018-139021 [PATCH] [4/4] doc: replace use of ifconfig
From: dpdklab@iol.unh.edu
To: Test Report <test-report@dpdk.org>
Cc: dpdk-test-reports@iol.unh.edu
In-Reply-To: <20240402163050.133923-5-stephen@networkplumber.org>
References: <20240402163050.133923-5-stephen@networkplumber.org>
Content-Type: text/plain
X-BeenThere: test-report@dpdk.org
X-Mailman-Version: 2.1.29
Precedence: list
List-Id: automatic DPDK test reports <test-report.dpdk.org>
List-Unsubscribe: <https://mails.dpdk.org/options/test-report>,
 <mailto:test-report-request@dpdk.org?subject=unsubscribe>
List-Archive: <http://mails.dpdk.org/archives/test-report/>
List-Post: <mailto:test-report@dpdk.org>
List-Help: <mailto:test-report-request@dpdk.org?subject=help>
List-Subscribe: <https://mails.dpdk.org/listinfo/test-report>,
 <mailto:test-report-request@dpdk.org?subject=subscribe>
Errors-To: test-report-bounces@dpdk.org

Test-Label: iol-compile-amd64-testing
Test-Status: SUCCESS
http://dpdk.org/patch/139021

_Testing PASS_

Submitter: Stephen Hemminger <stephen@networkplumber.org>
Date: Tuesday, April 02 2024 16:29:36 
DPDK git baseline: Repo:dpdk
  Branch: master
  CommitID:e2e546ab5bf5e024986ccb5310ab43982f3bb40c

139018-139021 --> testing pass

Test environment and result as below:

+---------------------+--------------------+----------------------+-------------------+
|     Environment     | dpdk_meson_compile | dpdk_mingw64_compile | dpdk_msvc_compile |
+=====================+====================+======================+===================+
| FreeBSD 13.2        | PASS               | SKIPPED              | SKIPPED           |
+---------------------+--------------------+----------------------+-------------------+
| Windows Server 2022 | PASS               | PASS                 | PASS              |
+---------------------+--------------------+----------------------+-------------------+
| Windows Server 2019 | PASS               | PASS                 | SKIPPED           |
+---------------------+--------------------+----------------------+-------------------+
| CentOS Stream 8     | PASS               | SKIPPED              | SKIPPED           |
+---------------------+--------------------+----------------------+-------------------+
| Debian Bullseye     | PASS               | SKIPPED              | SKIPPED           |
+---------------------+--------------------+----------------------+-------------------+
| CentOS Stream 9     | PASS               | SKIPPED              | SKIPPED           |
+---------------------+--------------------+----------------------+-------------------+
| Debian 12           | PASS               | SKIPPED              | SKIPPED           |
+---------------------+--------------------+----------------------+-------------------+
| Fedora 38           | PASS               | SKIPPED              | SKIPPED           |
+---------------------+--------------------+----------------------+-------------------+
| Fedora 37           | PASS               | SKIPPED              | SKIPPED           |
+---------------------+--------------------+----------------------+-------------------+
| Fedora 39           | PASS               | SKIPPED              | SKIPPED           |
+---------------------+--------------------+----------------------+-------------------+
| Ubuntu 20.04        | PASS               | SKIPPED              | SKIPPED           |
+---------------------+--------------------+----------------------+-------------------+
| RHEL8               | PASS               | SKIPPED              | SKIPPED           |
+---------------------+--------------------+----------------------+-------------------+
| openSUSE Leap 15    | PASS               | SKIPPED              | SKIPPED           |
+---------------------+--------------------+----------------------+-------------------+


FreeBSD 13.2
	Kernel: 13.2
	Compiler: clang 14.0.5

Windows Server 2022
	Kernel: 10.0.20348.2031
	Compiler: clang 15.0.7, gcc 8.1.0 (MinGW), and MSVC VS 17.9

Windows Server 2019
	Kernel: 10.0.17763
	Compiler: clang 14.0 and gcc 8.1.0 (MinGW)

CentOS Stream 8
	Kernel: 5.4.0-167-generic
	Compiler: gcc 8.5.0 20210514

Debian Bullseye
	Kernel: 5.4.0-167-generic
	Compiler: gcc 10.2.1-6

CentOS Stream 9
	Kernel: 5.4.0-167-generic
	Compiler: gcc 11.4.1 20230605

Debian 12
	Kernel: Container Host Kernel
	Compiler: gcc 10.2.1

Fedora 38
	Kernel: Depends on container host
	Compiler: gcc 13.2.1

Fedora 37
	Kernel: Depends on container host system
	Compiler: gcc 12.3.1

Fedora 39
	Kernel: Depends on container host
	Compiler: gcc 13.2.1

Ubuntu 20.04
	Kernel: 5.4.0-167-generic
	Compiler: gcc 9.4.0-1ubuntu1~20.04.1

RHEL8
	Kernel: 5.4.0-167-generic
	Compiler: gcc 8.5.0 20210514 (Red Hat 8.5.0-20)

openSUSE Leap 15
	Kernel: 5.4.0-167-generic
	Compiler: gcc 7.5.0

To view detailed results, visit:
https://lab.dpdk.org/results/dashboard/patchsets/29691/

UNH-IOL DPDK Community Lab

To manage your email subscriptions, visit: 
https://lab.dpdk.org/results/dashboard/preferences/subscriptions/