From mboxrd@z Thu Jan  1 00:00:00 1970
Return-Path: <test-report-bounces@dpdk.org>
Received: from mails.dpdk.org (mails.dpdk.org [217.70.189.124])
	by inbox.dpdk.org (Postfix) with ESMTP id 6821043DC3
	for <public@inbox.dpdk.org>; Tue,  2 Apr 2024 19:48:56 +0200 (CEST)
Received: from mails.dpdk.org (localhost [127.0.0.1])
	by mails.dpdk.org (Postfix) with ESMTP id 63BC840272;
	Tue,  2 Apr 2024 19:48:56 +0200 (CEST)
Received: from mail-io1-f100.google.com (mail-io1-f100.google.com
 [209.85.166.100])
 by mails.dpdk.org (Postfix) with ESMTP id 4CC484025D
 for <test-report@dpdk.org>; Tue,  2 Apr 2024 19:48:54 +0200 (CEST)
Received: by mail-io1-f100.google.com with SMTP id
 ca18e2360f4ac-7cc01644f51so308314639f.2
 for <test-report@dpdk.org>; Tue, 02 Apr 2024 10:48:54 -0700 (PDT)
DKIM-Signature: v=1; a=rsa-sha256; c=relaxed/relaxed;
 d=iol.unh.edu; s=unh-iol; t=1712080134; x=1712684934; darn=dpdk.org;
 h=references:in-reply-to:cc:to:from:subject:message-id:date:from:to
 :cc:subject:date:message-id:reply-to;
 bh=fiGONEF2vJCh8vWa5ExTLpDWYYHE9M3QB1rqfzKu5bI=;
 b=V2mHSzQU1uBxOOdp1bXq3RKI3xIl6+Bxl+utoel0ZrGvsGzYhneYvydmv5NCScCatS
 fPu4BS9FL1AAdPyPs1bydxl0HFJXTG2SrZLR5VgP4/iitd6oTNyRb7YWele0E6kkEUOY
 pyBUPCqu99UMWLL2/aiiozqvxU2B1mkg/qN6s=
X-Google-DKIM-Signature: v=1; a=rsa-sha256; c=relaxed/relaxed;
 d=1e100.net; s=20230601; t=1712080134; x=1712684934;
 h=references:in-reply-to:cc:to:from:subject:message-id:date
 :x-gm-message-state:from:to:cc:subject:date:message-id:reply-to;
 bh=fiGONEF2vJCh8vWa5ExTLpDWYYHE9M3QB1rqfzKu5bI=;
 b=AOXzl/jPxvDzOICLhELON8REdncSQmPmUie7qpuTk6ERknOyiuAZOayt8c4O7fshPw
 CrIsIyxOSqmOgyitj2u5MiLntkb3Bq4dwEgkkyuXTJp2xs1tMn1qlV2/orczOy/v8z9g
 0U/J6EPFXZLjy708GkU4lK1zoYm5tilIZSBPgQa1eHJ3pWVKTrJgwxI72CMnGDVD0i0m
 HBDV4s6N0XINf4WvGA3LlG6TYaE9cQbtLZrMlqvLbg8phVsVS+PI2jFbf1/XKXy0M6rC
 o6bFFSdZaVMb793iUtaA2jSyOvjpOVvY2gMVDoAeB7SOb+xReSf9sW1hFy/Q6dluP2+y
 CdPQ==
X-Gm-Message-State: AOJu0Yz8jO6jCGzEHe6rGfgy3JtRdqE8BEFdNhGgwuZGWf1U+/7RqdqM
 43/Oa7k+rH+MAED6KRhIQ1HMuqAKYNuih76GNE7CXMqcOPlhbimqr7XBo8+8po1LbPkxWizAyt6
 h1IC/9HnWK7WfujXeMywgFIyjzoOMSkS+qQs/Lwec
X-Google-Smtp-Source: AGHT+IGOnzuFhGkxJQGhGyo9aGN1UNgYQtaiqE09XcuTmNsoy9c5BaKUzoa4wHJ2vHzzMLg5O6BW2U4Lie86
X-Received: by 2002:a05:6602:214b:b0:7d0:89d3:bbe5 with SMTP id
 y11-20020a056602214b00b007d089d3bbe5mr14611561ioy.1.1712080133843; 
 Tue, 02 Apr 2024 10:48:53 -0700 (PDT)
Received: from postal.iol.unh.edu (postal.iol.unh.edu. [132.177.123.84])
 by smtp-relay.gmail.com with ESMTPS id
 fc5-20020a0566023fc500b007cc08387f36sm547717iob.2.2024.04.02.10.48.53
 (version=TLS1_2 cipher=ECDHE-ECDSA-AES128-GCM-SHA256 bits=128/128);
 Tue, 02 Apr 2024 10:48:53 -0700 (PDT)
X-Relaying-Domain: iol.unh.edu
Date: Tue, 02 Apr 2024 10:48:53 -0700 (PDT)
Message-ID: <660c4505.050a0220.41d5.c955SMTPIN_ADDED_MISSING@mx.google.com>
Received: from [172.21.0.6] (unknown [172.18.0.240])
 by postal.iol.unh.edu (Postfix) with ESMTP id 497FF6052471;
 Tue,  2 Apr 2024 13:48:53 -0400 (EDT)
Subject: |SUCCESS| pw139018-139021 [PATCH] [4/4] doc: replace use of ifconfig
From: dpdklab@iol.unh.edu
To: Test Report <test-report@dpdk.org>
Cc: dpdk-test-reports@iol.unh.edu
In-Reply-To: <20240402163050.133923-5-stephen@networkplumber.org>
References: <20240402163050.133923-5-stephen@networkplumber.org>
Content-Type: text/plain
X-BeenThere: test-report@dpdk.org
X-Mailman-Version: 2.1.29
Precedence: list
List-Id: automatic DPDK test reports <test-report.dpdk.org>
List-Unsubscribe: <https://mails.dpdk.org/options/test-report>,
 <mailto:test-report-request@dpdk.org?subject=unsubscribe>
List-Archive: <http://mails.dpdk.org/archives/test-report/>
List-Post: <mailto:test-report@dpdk.org>
List-Help: <mailto:test-report-request@dpdk.org?subject=help>
List-Subscribe: <https://mails.dpdk.org/listinfo/test-report>,
 <mailto:test-report-request@dpdk.org?subject=subscribe>
Errors-To: test-report-bounces@dpdk.org

Test-Label: iol-unit-amd64-testing
Test-Status: SUCCESS
http://dpdk.org/patch/139021

_Testing PASS_

Submitter: Stephen Hemminger <stephen@networkplumber.org>
Date: Tuesday, April 02 2024 16:29:36 
DPDK git baseline: Repo:dpdk
  Branch: master
  CommitID:e2e546ab5bf5e024986ccb5310ab43982f3bb40c

139018-139021 --> testing pass

Test environment and result as below:

+---------------------+----------------+
|     Environment     | dpdk_unit_test |
+=====================+================+
| Windows Server 2019 | PASS           |
+---------------------+----------------+
| Debian Bullseye     | PASS           |
+---------------------+----------------+
| Windows Server 2022 | PASS           |
+---------------------+----------------+
| CentOS Stream 9     | PASS           |
+---------------------+----------------+
| CentOS Stream 8     | PASS           |
+---------------------+----------------+
| Fedora 38           | PASS           |
+---------------------+----------------+


Windows Server 2019
	Kernel: 10.0.17763
	Compiler: clang 14.0 and gcc 8.1.0 (MinGW)

Debian Bullseye
	Kernel: 5.4.0-167-generic
	Compiler: gcc 10.2.1-6

Windows Server 2022
	Kernel: 10.0.20348.2031
	Compiler: clang 15.0.7, gcc 8.1.0 (MinGW), and MSVC VS 17.9

CentOS Stream 9
	Kernel: 5.4.0-167-generic
	Compiler: gcc 11.4.1 20230605

CentOS Stream 8
	Kernel: 5.4.0-167-generic
	Compiler: gcc 8.5.0 20210514

Fedora 38
	Kernel: Depends on container host
	Compiler: gcc 13.2.1

To view detailed results, visit:
https://lab.dpdk.org/results/dashboard/patchsets/29691/

UNH-IOL DPDK Community Lab

To manage your email subscriptions, visit: 
https://lab.dpdk.org/results/dashboard/preferences/subscriptions/