From mboxrd@z Thu Jan  1 00:00:00 1970
Return-Path: <test-report-bounces@dpdk.org>
Received: from mails.dpdk.org (mails.dpdk.org [217.70.189.124])
	by inbox.dpdk.org (Postfix) with ESMTP id 38ACB43DC3
	for <public@inbox.dpdk.org>; Tue,  2 Apr 2024 19:53:58 +0200 (CEST)
Received: from mails.dpdk.org (localhost [127.0.0.1])
	by mails.dpdk.org (Postfix) with ESMTP id 2B07940272;
	Tue,  2 Apr 2024 19:53:58 +0200 (CEST)
Received: from mail-ot1-f98.google.com (mail-ot1-f98.google.com
 [209.85.210.98]) by mails.dpdk.org (Postfix) with ESMTP id 779FB4025D
 for <test-report@dpdk.org>; Tue,  2 Apr 2024 19:53:56 +0200 (CEST)
Received: by mail-ot1-f98.google.com with SMTP id
 46e09a7af769-6e89b6daa1fso1900771a34.0
 for <test-report@dpdk.org>; Tue, 02 Apr 2024 10:53:56 -0700 (PDT)
DKIM-Signature: v=1; a=rsa-sha256; c=relaxed/relaxed;
 d=iol.unh.edu; s=unh-iol; t=1712080436; x=1712685236; darn=dpdk.org;
 h=references:in-reply-to:cc:to:from:subject:message-id:date:from:to
 :cc:subject:date:message-id:reply-to;
 bh=ozWlr1j1Zvc2YrbI7Q8lYLBNRPGoGT7LsUeCF1lnyYc=;
 b=G4IGv1s+fYM+1Laru4Hkoeom+WE32J2PZX69lHefnIJhtFYDhbHKL56heDGesBpFR3
 rEVkvI7HtgTBZTSjJPEzA8QwVrTeasf7M73L9Mgx4qrurNzE0xVmPDEC7Xim5SVqeEk1
 bCjtoCVzZUWi26AgLMDsqBtPO2D8GWR6ORR1Y=
X-Google-DKIM-Signature: v=1; a=rsa-sha256; c=relaxed/relaxed;
 d=1e100.net; s=20230601; t=1712080436; x=1712685236;
 h=references:in-reply-to:cc:to:from:subject:message-id:date
 :x-gm-message-state:from:to:cc:subject:date:message-id:reply-to;
 bh=ozWlr1j1Zvc2YrbI7Q8lYLBNRPGoGT7LsUeCF1lnyYc=;
 b=Qdcummn7rHs5uZxq+zOAk9A0hD+hesbDJ+4P5YP9wQz6aRhQmg3BVY4iO27tpSQu9j
 NDUY/rrx/vMYKQyKHPjDnrHtbTHOaHdUMMYTXWNKB7uR8qV4kzPOHTC4oB5XqUW9XCjC
 PDHIy5P1lwGwXSxgtuBuTvB9LhMZLXtbNnXhzdQjYLcz4fLsPpOn+ojmtkLTyFuClyW2
 OATM5PJB4NYYKaknevigiwHH4R13asHDnUKAJVdILqtvgeqHm8dpp/ADSjz8vZZ856AF
 yDsGYdgao+sqBFqKQsCNEe3kgWeq5mYt68h41OhWD5HdCrc7/yL5kh+qDDOB7yGIMiTw
 0UJw==
X-Gm-Message-State: AOJu0Yy7JGwouBJOGP7lOwZHQ0bcGmiMhVdSFGM1CfvrfBTZ6oDC5Dto
 T67KP1WR7K11AWqMLQrjx1qelSCnCx2X5RQvqG4Aln7+EFh2QssU8wDslrI1mAoVhlLpygdshkZ
 uowPuxqKEj1U9Pcihib3TJk0+nGPpwFzd2vGvnly+alulciqEgoYR9Pvt
X-Google-Smtp-Source: AGHT+IEvRmNDZj2vcgCMbatHtv+5h4Awt0i0QmqspA2IK8TVoiexI/nIBl4+k3QE07J6yYWwJRr7zfE8CDLv
X-Received: by 2002:a9d:7509:0:b0:6e6:ba73:c7da with SMTP id
 r9-20020a9d7509000000b006e6ba73c7damr13970474otk.19.1712080435805; 
 Tue, 02 Apr 2024 10:53:55 -0700 (PDT)
Received: from postal.iol.unh.edu (postal.iol.unh.edu.
 [2606:4100:3880:1234::84]) by smtp-relay.gmail.com with ESMTPS id
 f8-20020a056214164800b00690b0a3f163sm32825qvw.68.2024.04.02.10.53.55
 (version=TLS1_2 cipher=ECDHE-ECDSA-AES128-GCM-SHA256 bits=128/128);
 Tue, 02 Apr 2024 10:53:55 -0700 (PDT)
X-Relaying-Domain: iol.unh.edu
Date: Tue, 02 Apr 2024 10:53:55 -0700 (PDT)
Message-ID: <660c4633.050a0220.575f0.255fSMTPIN_ADDED_MISSING@mx.google.com>
Received: from [172.17.0.8] (unknown [172.18.0.217])
 by postal.iol.unh.edu (Postfix) with ESMTP id 798F46052471;
 Tue,  2 Apr 2024 13:53:55 -0400 (EDT)
Subject: |SUCCESS| pw139018-139021 [PATCH] [4/4] doc: replace use of ifconfig
From: dpdklab@iol.unh.edu
To: Test Report <test-report@dpdk.org>
Cc: dpdk-test-reports@iol.unh.edu
In-Reply-To: <20240402163050.133923-5-stephen@networkplumber.org>
References: <20240402163050.133923-5-stephen@networkplumber.org>
Content-Type: text/plain
X-BeenThere: test-report@dpdk.org
X-Mailman-Version: 2.1.29
Precedence: list
List-Id: automatic DPDK test reports <test-report.dpdk.org>
List-Unsubscribe: <https://mails.dpdk.org/options/test-report>,
 <mailto:test-report-request@dpdk.org?subject=unsubscribe>
List-Archive: <http://mails.dpdk.org/archives/test-report/>
List-Post: <mailto:test-report@dpdk.org>
List-Help: <mailto:test-report-request@dpdk.org?subject=help>
List-Subscribe: <https://mails.dpdk.org/listinfo/test-report>,
 <mailto:test-report-request@dpdk.org?subject=subscribe>
Errors-To: test-report-bounces@dpdk.org

Test-Label: iol-unit-amd64-testing
Test-Status: SUCCESS
http://dpdk.org/patch/139021

_Testing PASS_

Submitter: Stephen Hemminger <stephen@networkplumber.org>
Date: Tuesday, April 02 2024 16:29:36 
DPDK git baseline: Repo:dpdk
  Branch: master
  CommitID:e2e546ab5bf5e024986ccb5310ab43982f3bb40c

139018-139021 --> testing pass

Test environment and result as below:

+---------------------+----------------+
|     Environment     | dpdk_unit_test |
+=====================+================+
| Windows Server 2019 | PASS           |
+---------------------+----------------+
| Debian Bullseye     | PASS           |
+---------------------+----------------+
| Windows Server 2022 | PASS           |
+---------------------+----------------+
| CentOS Stream 9     | PASS           |
+---------------------+----------------+
| CentOS Stream 8     | PASS           |
+---------------------+----------------+
| Fedora 38           | PASS           |
+---------------------+----------------+
| Debian 12           | PASS           |
+---------------------+----------------+
| Ubuntu 22.04        | PASS           |
+---------------------+----------------+


Windows Server 2019
	Kernel: 10.0.17763
	Compiler: clang 14.0 and gcc 8.1.0 (MinGW)

Debian Bullseye
	Kernel: 5.4.0-167-generic
	Compiler: gcc 10.2.1-6

Windows Server 2022
	Kernel: 10.0.20348.2031
	Compiler: clang 15.0.7, gcc 8.1.0 (MinGW), and MSVC VS 17.9

CentOS Stream 9
	Kernel: 5.4.0-167-generic
	Compiler: gcc 11.4.1 20230605

CentOS Stream 8
	Kernel: 5.4.0-167-generic
	Compiler: gcc 8.5.0 20210514

Fedora 38
	Kernel: Depends on container host
	Compiler: gcc 13.2.1

Debian 12
	Kernel: Container Host Kernel
	Compiler: gcc 10.2.1

Ubuntu 22.04
	Kernel: 5.4.0-167-generic
	Compiler: gcc 11.4.0

To view detailed results, visit:
https://lab.dpdk.org/results/dashboard/patchsets/29691/

UNH-IOL DPDK Community Lab

To manage your email subscriptions, visit: 
https://lab.dpdk.org/results/dashboard/preferences/subscriptions/