From mboxrd@z Thu Jan  1 00:00:00 1970
Return-Path: <test-report-bounces@dpdk.org>
Received: from mails.dpdk.org (mails.dpdk.org [217.70.189.124])
	by inbox.dpdk.org (Postfix) with ESMTP id 5E15543DCA
	for <public@inbox.dpdk.org>; Tue,  2 Apr 2024 22:48:06 +0200 (CEST)
Received: from mails.dpdk.org (localhost [127.0.0.1])
	by mails.dpdk.org (Postfix) with ESMTP id 845F140272;
	Tue,  2 Apr 2024 22:48:05 +0200 (CEST)
Received: from mail-pl1-f226.google.com (mail-pl1-f226.google.com
 [209.85.214.226])
 by mails.dpdk.org (Postfix) with ESMTP id 0778B4025D
 for <test-report@dpdk.org>; Tue,  2 Apr 2024 22:48:04 +0200 (CEST)
Received: by mail-pl1-f226.google.com with SMTP id
 d9443c01a7336-1e0d82d441bso50804855ad.3
 for <test-report@dpdk.org>; Tue, 02 Apr 2024 13:48:03 -0700 (PDT)
DKIM-Signature: v=1; a=rsa-sha256; c=relaxed/relaxed;
 d=iol.unh.edu; s=unh-iol; t=1712090883; x=1712695683; darn=dpdk.org;
 h=references:in-reply-to:cc:to:from:subject:message-id:date:from:to
 :cc:subject:date:message-id:reply-to;
 bh=StUvqFHAy43Lfu6mtxLUSnwdAeCeJHD0dqmNbwZoFPU=;
 b=i14pPvJ0EKDvqcsKwzApWZdEi+omRH524887aV2OdmwdlqlvgVQpree6RNil99jJAh
 h5k1vKuzCuoq4ojGfk27mIyzSOnzFpFXUXfzpoANhdLA//ilfFWD/pIqYY4uBWL5e1SP
 DXh7sKWvdFYiK6HzQKh7+yAV3PNtvnVVhpzwI=
X-Google-DKIM-Signature: v=1; a=rsa-sha256; c=relaxed/relaxed;
 d=1e100.net; s=20230601; t=1712090883; x=1712695683;
 h=references:in-reply-to:cc:to:from:subject:message-id:date
 :x-gm-message-state:from:to:cc:subject:date:message-id:reply-to;
 bh=StUvqFHAy43Lfu6mtxLUSnwdAeCeJHD0dqmNbwZoFPU=;
 b=HVLtLYlq2+e+WGq5wKJfCpxmaBYBJpoCFKka0XacWsgtol5S2kzxsYemL2xKIzU2xG
 OXoxPzOP1xnaZICam3boactJHbs1elnpFidVFpkz8QvVDTbeUzMqy0PABZxOu/Dbohv3
 /bv7AVFiK1rFo4CEoUcOb/M45pVQhjKNurzlVhbdTE4dlznThko68w8Ux1FLL1X6GdOr
 0KdsMR6do6TQTyJn5vtC79jPZYj5n5NH0+g1M2XS6oz0aVFz4fZqk4xwo3rabZKQ/Vza
 9oMTZ+eL2r52+ZSu7V8BwZ0jD7vQGAk0OlaTHIhR29clJGE4GlRUG0g11rRNUNNjtz9Q
 d9nA==
X-Gm-Message-State: AOJu0Yzs5QeFGI/hEcDUbGd3B7PXszFDvqWA00555iOdUkwkMFN4Qnm8
 N2P51w1deWhKLIE+uI8eFGtoy2kqu+44lcXUWnoL+9a1JEvdt170kUrCZtdfU8/ZF1SBK4rpkUG
 aaQgIUNoNQEp2QCG5CdqRBCdNtraclQPD+ec11EwQ3UHRmV8I9CFTr/em
X-Google-Smtp-Source: AGHT+IHqkWjgq7SpxXgN4ortw4jm6i+acltsBaRkR8kpQ1zJY6oS53Mo/sJHRSWelNZga3mInGUbJ6tBNSlc
X-Received: by 2002:a17:902:e5ca:b0:1e2:3776:5b31 with SMTP id
 u10-20020a170902e5ca00b001e237765b31mr973701plf.47.1712090883231; 
 Tue, 02 Apr 2024 13:48:03 -0700 (PDT)
Received: from postal.iol.unh.edu (postal.iol.unh.edu.
 [2606:4100:3880:1234::84]) by smtp-relay.gmail.com with ESMTPS id
 a21-20020a170902ee9500b001e2623ddc54sm126806pld.27.2024.04.02.13.48.03
 (version=TLS1_2 cipher=ECDHE-ECDSA-AES128-GCM-SHA256 bits=128/128);
 Tue, 02 Apr 2024 13:48:03 -0700 (PDT)
X-Relaying-Domain: iol.unh.edu
Date: Tue, 02 Apr 2024 13:48:03 -0700 (PDT)
Message-ID: <660c6f03.170a0220.11f80.616aSMTPIN_ADDED_MISSING@mx.google.com>
Received: from [172.21.0.6] (unknown [172.18.0.240])
 by postal.iol.unh.edu (Postfix) with ESMTP id 5DF246052471;
 Tue,  2 Apr 2024 16:48:02 -0400 (EDT)
Subject: |SUCCESS| pw139031-139034 [PATCH] [v9,4/4] cryptodev: remove rte mar
From: dpdklab@iol.unh.edu
To: Test Report <test-report@dpdk.org>
Cc: dpdk-test-reports@iol.unh.edu
In-Reply-To: <1712088530-24948-5-git-send-email-roretzla@linux.microsoft.com>
References: <1712088530-24948-5-git-send-email-roretzla@linux.microsoft.com>
Content-Type: text/plain
X-BeenThere: test-report@dpdk.org
X-Mailman-Version: 2.1.29
Precedence: list
List-Id: automatic DPDK test reports <test-report.dpdk.org>
List-Unsubscribe: <https://mails.dpdk.org/options/test-report>,
 <mailto:test-report-request@dpdk.org?subject=unsubscribe>
List-Archive: <http://mails.dpdk.org/archives/test-report/>
List-Post: <mailto:test-report@dpdk.org>
List-Help: <mailto:test-report-request@dpdk.org?subject=help>
List-Subscribe: <https://mails.dpdk.org/listinfo/test-report>,
 <mailto:test-report-request@dpdk.org?subject=subscribe>
Errors-To: test-report-bounces@dpdk.org

Test-Label: iol-compile-amd64-testing
Test-Status: SUCCESS
http://dpdk.org/patch/139034

_Testing PASS_

Submitter: Tyler Retzlaff <roretzla@linux.microsoft.com>
Date: Tuesday, April 02 2024 20:08:50 
DPDK git baseline: Repo:dpdk
  Branch: master
  CommitID:e2e546ab5bf5e024986ccb5310ab43982f3bb40c

139031-139034 --> testing pass

Test environment and result as below:

+---------------------+--------------------+----------------------+-------------------+
|     Environment     | dpdk_meson_compile | dpdk_mingw64_compile | dpdk_msvc_compile |
+=====================+====================+======================+===================+
| FreeBSD 13.2        | PASS               | SKIPPED              | SKIPPED           |
+---------------------+--------------------+----------------------+-------------------+
| Windows Server 2022 | PASS               | PASS                 | PASS              |
+---------------------+--------------------+----------------------+-------------------+
| Windows Server 2019 | PASS               | SKIPPED              | SKIPPED           |
+---------------------+--------------------+----------------------+-------------------+


FreeBSD 13.2
	Kernel: 13.2
	Compiler: clang 14.0.5

Windows Server 2022
	Kernel: 10.0.20348.2031
	Compiler: clang 15.0.7, gcc 8.1.0 (MinGW), and MSVC VS 17.9

Windows Server 2019
	Kernel: 10.0.17763
	Compiler: clang 14.0 and gcc 8.1.0 (MinGW)

To view detailed results, visit:
https://lab.dpdk.org/results/dashboard/patchsets/29694/

UNH-IOL DPDK Community Lab

To manage your email subscriptions, visit: 
https://lab.dpdk.org/results/dashboard/preferences/subscriptions/