From mboxrd@z Thu Jan  1 00:00:00 1970
Return-Path: <test-report-bounces@dpdk.org>
Received: from mails.dpdk.org (mails.dpdk.org [217.70.189.124])
	by inbox.dpdk.org (Postfix) with ESMTP id 2F8FD43DCC
	for <public@inbox.dpdk.org>; Tue,  2 Apr 2024 22:59:06 +0200 (CEST)
Received: from mails.dpdk.org (localhost [127.0.0.1])
	by mails.dpdk.org (Postfix) with ESMTP id 2A89540272;
	Tue,  2 Apr 2024 22:59:06 +0200 (CEST)
Received: from mail-ot1-f98.google.com (mail-ot1-f98.google.com
 [209.85.210.98]) by mails.dpdk.org (Postfix) with ESMTP id 1893F4025D
 for <test-report@dpdk.org>; Tue,  2 Apr 2024 22:59:05 +0200 (CEST)
Received: by mail-ot1-f98.google.com with SMTP id
 46e09a7af769-6e6a5bd015dso3108387a34.2
 for <test-report@dpdk.org>; Tue, 02 Apr 2024 13:59:05 -0700 (PDT)
DKIM-Signature: v=1; a=rsa-sha256; c=relaxed/relaxed;
 d=iol.unh.edu; s=unh-iol; t=1712091544; x=1712696344; darn=dpdk.org;
 h=references:in-reply-to:cc:to:from:subject:message-id:date:from:to
 :cc:subject:date:message-id:reply-to;
 bh=dXksU+xiOoirxug0D6ye56P/bmqkXGYKOX27bPgTdyU=;
 b=X4fPkB/mRFKhlt+2IRu1yycoY3sOg+W6K3VEHvLGwGSIYfvdZ099z8fg/PhLEb6irQ
 qOmViZOpq1N/NZ+vSX1pAIdoY2YMNkCu3Tb7bB4g5hW6i1efy2BzDeEG5en4Tk0jxHSx
 G+xwEaWyodVNdFkD4iXsKf5xEpVits5W6Ehhw=
X-Google-DKIM-Signature: v=1; a=rsa-sha256; c=relaxed/relaxed;
 d=1e100.net; s=20230601; t=1712091544; x=1712696344;
 h=references:in-reply-to:cc:to:from:subject:message-id:date
 :x-gm-message-state:from:to:cc:subject:date:message-id:reply-to;
 bh=dXksU+xiOoirxug0D6ye56P/bmqkXGYKOX27bPgTdyU=;
 b=w52C94KOGQyqj7KR8zobNB/1ty4MPVyPVx+Z+1/CWFss3QombZ7gv3pW2NX04xcgX/
 3F4trqW31uzuofyS2gCxUGBoROCsOovGRTN5eOtpDQWVOIcmXWD+ZBrOVXGvobwIRe3/
 o2fBVpB3BJpaPk1DJi8cjCnXPrsD0LewxN5ZAhqG5CynTKBKIb0jSjcd5kqCwBtA38Rj
 7mCNKgEw4QJNtsVNfFRuFYskC97NmSHhb1HRQnQiPodScCfF1R5X02VHsbUEnO7/RNCX
 vfCE9D2A4I+HXQoRjfmZ+4vcgn3Qdhu59fhPw5NCtQyJitm4H5Bl1QfeXsQ6DVK6z1S6
 799Q==
X-Gm-Message-State: AOJu0YzfupNLbr1Usrlqv2K0XjaRBStSzhLsXRzYW05ICnKDkFiT988W
 cx1oVX2wHfAxj1fH8Q6UyYrA06ZL1TvUhVW/VvVru5SFF0GIIymBAme3uPfdDcppVJemKSgsKnJ
 Q6/nUgGoxUZrMGuBkhdY0yNGOvFELzub6BGv1WJzw3dGNh082NV7PoD+F
X-Google-Smtp-Source: AGHT+IHrXLOnE0dCFudCF3U3SEkHi/8at8e2i2qeNU6jUZm5w4R2YA4y3B5hHLagZ1RlLmM7B4MKqaqpbUw+
X-Received: by 2002:a05:6870:d253:b0:22e:1458:479f with SMTP id
 h19-20020a056870d25300b0022e1458479fmr12631500oac.43.1712091544403; 
 Tue, 02 Apr 2024 13:59:04 -0700 (PDT)
Received: from postal.iol.unh.edu (postal.iol.unh.edu.
 [2606:4100:3880:1234::84]) by smtp-relay.gmail.com with ESMTPS id
 kr7-20020a0568719ec700b00221a2cf0cc5sm359969oac.1.2024.04.02.13.59.04
 (version=TLS1_2 cipher=ECDHE-ECDSA-AES128-GCM-SHA256 bits=128/128);
 Tue, 02 Apr 2024 13:59:04 -0700 (PDT)
X-Relaying-Domain: iol.unh.edu
Date: Tue, 02 Apr 2024 13:59:04 -0700 (PDT)
Message-ID: <660c7198.050a0220.eb816.2644SMTPIN_ADDED_MISSING@mx.google.com>
Received: from [172.21.0.7] (unknown [172.18.0.240])
 by postal.iol.unh.edu (Postfix) with ESMTP id D96896052471;
 Tue,  2 Apr 2024 16:59:03 -0400 (EDT)
Subject: |SUCCESS| pw139031-139034 [PATCH] [v9,4/4] cryptodev: remove rte mar
From: dpdklab@iol.unh.edu
To: Test Report <test-report@dpdk.org>
Cc: dpdk-test-reports@iol.unh.edu
In-Reply-To: <1712088530-24948-5-git-send-email-roretzla@linux.microsoft.com>
References: <1712088530-24948-5-git-send-email-roretzla@linux.microsoft.com>
Content-Type: text/plain
X-BeenThere: test-report@dpdk.org
X-Mailman-Version: 2.1.29
Precedence: list
List-Id: automatic DPDK test reports <test-report.dpdk.org>
List-Unsubscribe: <https://mails.dpdk.org/options/test-report>,
 <mailto:test-report-request@dpdk.org?subject=unsubscribe>
List-Archive: <http://mails.dpdk.org/archives/test-report/>
List-Post: <mailto:test-report@dpdk.org>
List-Help: <mailto:test-report-request@dpdk.org?subject=help>
List-Subscribe: <https://mails.dpdk.org/listinfo/test-report>,
 <mailto:test-report-request@dpdk.org?subject=subscribe>
Errors-To: test-report-bounces@dpdk.org

Test-Label: iol-unit-arm64-testing
Test-Status: SUCCESS
http://dpdk.org/patch/139034

_Testing PASS_

Submitter: Tyler Retzlaff <roretzla@linux.microsoft.com>
Date: Tuesday, April 02 2024 20:08:50 
DPDK git baseline: Repo:dpdk
  Branch: master
  CommitID:e2e546ab5bf5e024986ccb5310ab43982f3bb40c

139031-139034 --> testing pass

Test environment and result as below:

+-----------------------------+------------------------------+----------------+
|         Environment         | cryptodev_sw_snow3g_autotest | dpdk_unit_test |
+=============================+==============================+================+
| Debian 12 (arm)             | PASS                         | SKIPPED        |
+-----------------------------+------------------------------+----------------+
| Debian 11 (Buster) (ARM)    | SKIPPED                      | PASS           |
+-----------------------------+------------------------------+----------------+
| 32-bit Ubuntu 20.04.4 (ARM) | SKIPPED                      | PASS           |
+-----------------------------+------------------------------+----------------+


Debian 12 (arm)
	Kernel: Container Host Kernel
	Compiler: gcc 12.2.0

Debian 11 (Buster) (ARM)
	Kernel: Container Host Kernel
	Compiler: gcc 10.2.1

32-bit Ubuntu 20.04.4 (ARM)
	Kernel: 5.4.0-155-generic aarch64
	Compiler: gcc 9.4

To view detailed results, visit:
https://lab.dpdk.org/results/dashboard/patchsets/29694/

UNH-IOL DPDK Community Lab

To manage your email subscriptions, visit: 
https://lab.dpdk.org/results/dashboard/preferences/subscriptions/