From mboxrd@z Thu Jan  1 00:00:00 1970
Return-Path: <test-report-bounces@dpdk.org>
Received: from mails.dpdk.org (mails.dpdk.org [217.70.189.124])
	by inbox.dpdk.org (Postfix) with ESMTP id 87E1D43DC8
	for <public@inbox.dpdk.org>; Tue,  2 Apr 2024 23:30:54 +0200 (CEST)
Received: from mails.dpdk.org (localhost [127.0.0.1])
	by mails.dpdk.org (Postfix) with ESMTP id 8219440272;
	Tue,  2 Apr 2024 23:30:54 +0200 (CEST)
Received: from mail-il1-f226.google.com (mail-il1-f226.google.com
 [209.85.166.226])
 by mails.dpdk.org (Postfix) with ESMTP id 92C244025D
 for <test-report@dpdk.org>; Tue,  2 Apr 2024 23:30:52 +0200 (CEST)
Received: by mail-il1-f226.google.com with SMTP id
 e9e14a558f8ab-3688d5c5f75so30696515ab.1
 for <test-report@dpdk.org>; Tue, 02 Apr 2024 14:30:52 -0700 (PDT)
DKIM-Signature: v=1; a=rsa-sha256; c=relaxed/relaxed;
 d=iol.unh.edu; s=unh-iol; t=1712093452; x=1712698252; darn=dpdk.org;
 h=references:in-reply-to:cc:to:from:subject:message-id:date:from:to
 :cc:subject:date:message-id:reply-to;
 bh=N/lyh+pg0o3DcIAp2lFkxTzO38W+KxRoYC0coiqEB10=;
 b=IDzY7T3/gqMIskqWqQhAlFkHTGgCufZBspgpKENHYwbcBE31n1NpWROedhLnmDV1T4
 bqtN2fcbq0urdgS+KgsSCz4QQyxZ/Y7ZOa3wq1O9wFnImhJKBkGXeGUQwFjokTIr/C4b
 vsQPWcYhydbIwx4oy/zvor6RyNhdcIuM8znPY=
X-Google-DKIM-Signature: v=1; a=rsa-sha256; c=relaxed/relaxed;
 d=1e100.net; s=20230601; t=1712093452; x=1712698252;
 h=references:in-reply-to:cc:to:from:subject:message-id:date
 :x-gm-message-state:from:to:cc:subject:date:message-id:reply-to;
 bh=N/lyh+pg0o3DcIAp2lFkxTzO38W+KxRoYC0coiqEB10=;
 b=Ov+GR+AZBGpiT1fH09PPRu+wZ7yEOCRsR6P3JYG2d+3ocol6iLM3rmO7EF283ae8xt
 PDoLC2wT/QovKvxErKsm49oFRRIqKMjsJbFCHAu1avIdES83vHk0Krx/ho2rD4DFJdVX
 kvPZ1qB4KXIEih0OEvNHJqFOi9TMGIjaoay06H6NmaSXCPdOsNFEdzkUuTxbFHNpi8iE
 wk4h5A176qmFdEsQakuKkJi27qhL3DPtCMlBgMPqfe9k/z8DH2fifSver6DbeEdizz8L
 Cx2wOQHoZkjiNq9aqWW5cQQtd7Jg/3oBom84Ghnw70e6HhOtiEUL6uTeJRU62GreOpNe
 XKAQ==
X-Gm-Message-State: AOJu0YyYaAMc0OB4KRSDtu3iy6OJMeqcmTqY0xid18EAuYWehbUclZrX
 zqa8vPQoBTEorKCi2uCGkH4JlXaX6GqjuZ3yljiTjfs0Q/TCwzLFV8LJad88ukOodlY1Q1Zww1d
 i/ZExgysLGcmLi8A+R/ONuIHAx2r5WWVuQKWxY331
X-Google-Smtp-Source: AGHT+IE7jCw/YB7DIm8WOL9duYd1GWxugirR/h2J+ecms8OKj+O0eyogbPYGOIT7busi4YID68OkTmKjCSZ0
X-Received: by 2002:a05:6e02:1a6f:b0:366:abec:b3f2 with SMTP id
 w15-20020a056e021a6f00b00366abecb3f2mr13710427ilv.31.1712093452014; 
 Tue, 02 Apr 2024 14:30:52 -0700 (PDT)
Received: from postal.iol.unh.edu (postal.iol.unh.edu. [132.177.123.84])
 by smtp-relay.gmail.com with ESMTPS id
 j3-20020a056e02218300b0036893b6a63fsm631017ila.58.2024.04.02.14.30.51
 (version=TLS1_2 cipher=ECDHE-ECDSA-AES128-GCM-SHA256 bits=128/128);
 Tue, 02 Apr 2024 14:30:52 -0700 (PDT)
X-Relaying-Domain: iol.unh.edu
Date: Tue, 02 Apr 2024 14:30:52 -0700 (PDT)
Message-ID: <660c790c.050a0220.a7a71.38b7SMTPIN_ADDED_MISSING@mx.google.com>
Received: from [172.21.0.6] (unknown [172.18.0.240])
 by postal.iol.unh.edu (Postfix) with ESMTP id 73CE76052471;
 Tue,  2 Apr 2024 17:30:51 -0400 (EDT)
Subject: |SUCCESS| pw139031-139034 [PATCH] [v9,4/4] cryptodev: remove rte mar
From: dpdklab@iol.unh.edu
To: Test Report <test-report@dpdk.org>
Cc: dpdk-test-reports@iol.unh.edu
In-Reply-To: <1712088530-24948-5-git-send-email-roretzla@linux.microsoft.com>
References: <1712088530-24948-5-git-send-email-roretzla@linux.microsoft.com>
Content-Type: text/plain
X-BeenThere: test-report@dpdk.org
X-Mailman-Version: 2.1.29
Precedence: list
List-Id: automatic DPDK test reports <test-report.dpdk.org>
List-Unsubscribe: <https://mails.dpdk.org/options/test-report>,
 <mailto:test-report-request@dpdk.org?subject=unsubscribe>
List-Archive: <http://mails.dpdk.org/archives/test-report/>
List-Post: <mailto:test-report@dpdk.org>
List-Help: <mailto:test-report-request@dpdk.org?subject=help>
List-Subscribe: <https://mails.dpdk.org/listinfo/test-report>,
 <mailto:test-report-request@dpdk.org?subject=subscribe>
Errors-To: test-report-bounces@dpdk.org

Test-Label: iol-unit-arm64-testing
Test-Status: SUCCESS
http://dpdk.org/patch/139034

_Testing PASS_

Submitter: Tyler Retzlaff <roretzla@linux.microsoft.com>
Date: Tuesday, April 02 2024 20:08:50 
DPDK git baseline: Repo:dpdk
  Branch: master
  CommitID:e2e546ab5bf5e024986ccb5310ab43982f3bb40c

139031-139034 --> testing pass

Test environment and result as below:

+-----------------------------+------------------------------+----------------+---------------------------+--------------+
|         Environment         | cryptodev_sw_snow3g_autotest | dpdk_unit_test | cryptodev_sw_zuc_autotest | lpm_autotest |
+=============================+==============================+================+===========================+==============+
| Debian 12 (arm)             | PASS                         | PASS           | PASS                      | SKIPPED      |
+-----------------------------+------------------------------+----------------+---------------------------+--------------+
| Debian 11 (Buster) (ARM)    | SKIPPED                      | PASS           | SKIPPED                   | SKIPPED      |
+-----------------------------+------------------------------+----------------+---------------------------+--------------+
| 32-bit Ubuntu 20.04.4 (ARM) | SKIPPED                      | PASS           | SKIPPED                   | SKIPPED      |
+-----------------------------+------------------------------+----------------+---------------------------+--------------+
| Fedora 38 (ARM)             | SKIPPED                      | PASS           | SKIPPED                   | SKIPPED      |
+-----------------------------+------------------------------+----------------+---------------------------+--------------+
| Fedora 39 (ARM)             | SKIPPED                      | PASS           | SKIPPED                   | SKIPPED      |
+-----------------------------+------------------------------+----------------+---------------------------+--------------+
| Fedora 38 (ARM Clang)       | SKIPPED                      | PASS           | SKIPPED                   | SKIPPED      |
+-----------------------------+------------------------------+----------------+---------------------------+--------------+
| Ubuntu 20.04 ARM SVE        | SKIPPED                      | SKIPPED        | SKIPPED                   | PASS         |
+-----------------------------+------------------------------+----------------+---------------------------+--------------+


Debian 12 (arm)
	Kernel: Container Host Kernel
	Compiler: gcc 12.2.0

Debian 11 (Buster) (ARM)
	Kernel: Container Host Kernel
	Compiler: gcc 10.2.1

32-bit Ubuntu 20.04.4 (ARM)
	Kernel: 5.4.0-155-generic aarch64
	Compiler: gcc 9.4

Fedora 38 (ARM)
	Kernel: Depends on container host
	Compiler: gcc 13.2.1

Fedora 39 (ARM)
	Kernel: Depends on container host
	Compiler: gcc 13.2.1

Fedora 38 (ARM Clang)
	Kernel: Depends on container host
	Compiler: clang 16.0.6

Ubuntu 20.04 ARM SVE
	Kernel: 5.4.0-167-generic
	Compiler: gcc (Ubuntu 10.5.0-1ubuntu1~20.04) 10.5.0

To view detailed results, visit:
https://lab.dpdk.org/results/dashboard/patchsets/29694/

UNH-IOL DPDK Community Lab

To manage your email subscriptions, visit: 
https://lab.dpdk.org/results/dashboard/preferences/subscriptions/