From mboxrd@z Thu Jan  1 00:00:00 1970
Return-Path: <test-report-bounces@dpdk.org>
Received: from mails.dpdk.org (mails.dpdk.org [217.70.189.124])
	by inbox.dpdk.org (Postfix) with ESMTP id 329B643DCB
	for <public@inbox.dpdk.org>; Wed,  3 Apr 2024 00:00:26 +0200 (CEST)
Received: from mails.dpdk.org (localhost [127.0.0.1])
	by mails.dpdk.org (Postfix) with ESMTP id 2E90D40144;
	Wed,  3 Apr 2024 00:00:26 +0200 (CEST)
Received: from mail-yb1-f226.google.com (mail-yb1-f226.google.com
 [209.85.219.226])
 by mails.dpdk.org (Postfix) with ESMTP id 40DBD402A3
 for <test-report@dpdk.org>; Wed,  3 Apr 2024 00:00:24 +0200 (CEST)
Received: by mail-yb1-f226.google.com with SMTP id
 3f1490d57ef6-dc236729a2bso5301012276.0
 for <test-report@dpdk.org>; Tue, 02 Apr 2024 15:00:24 -0700 (PDT)
DKIM-Signature: v=1; a=rsa-sha256; c=relaxed/relaxed;
 d=iol.unh.edu; s=unh-iol; t=1712095223; x=1712700023; darn=dpdk.org;
 h=references:in-reply-to:cc:to:from:subject:message-id:date:from:to
 :cc:subject:date:message-id:reply-to;
 bh=drUBlRdo5dLVIHB88d9Tn+fr53sfojWNJyE2Xh+u7jM=;
 b=dRzDK6iBezz8Rn3mPmHxPgxMIALJKXSjYiHDmZ4A+8O1EJ6sWw8KR/qg4w/CjBv/BN
 0uWnn9QatrsAMRmlXJmSceqKXN+/6rC9KSFX6dyaT69ViJ3aHE5Zd2ay2zw0QB9lEnBK
 Qv8BFtBfT3s6wloLvjf5Q5zagqZVJ8qtga1YM=
X-Google-DKIM-Signature: v=1; a=rsa-sha256; c=relaxed/relaxed;
 d=1e100.net; s=20230601; t=1712095223; x=1712700023;
 h=references:in-reply-to:cc:to:from:subject:message-id:date
 :x-gm-message-state:from:to:cc:subject:date:message-id:reply-to;
 bh=drUBlRdo5dLVIHB88d9Tn+fr53sfojWNJyE2Xh+u7jM=;
 b=xDYKsVIEHTNG7GnO40NvBRvdkqcW6gAFdqIwq+nQFuCRKordTRcInsVCK90Keq4FxQ
 RumfN93xulsZe4brI3HaD9gNs6qkkSkQ7z3sx3eTIv75SAr2Zwi7SRaDgpxCcYOOZlzd
 CeHowTOARkDQk1Tw5coS+4xEF5zvZTsooroJlwa1T0JkNdWIAsSOVRXNDiEW2HLIrd/c
 NpiArZU2RF5ZuRxK56bGlwUskq/ewgIjYz7BN58wEoF8V89quTxRtDhKYhix3uD9AvYp
 D9XWVxXtY3lssH9+BOW3Obx+kc6DsMb7xyER2Vkwk5wT81BCr+b2vHNu3TS4WHIbOjuH
 XN2Q==
X-Gm-Message-State: AOJu0YwNjIV1iI8QtJpjnu9VxWAwgeTpvZnJz49C8lKy+4u/cX55Swx4
 TzLV4vJKOAMVxSKSjixza3MSqbKFiisWP2rWGA3dD/YGNObtA4phjoJylat17YuxE3elKXzJ2iT
 Ko2Kd6O7GVzch4oJjTqsJKkLCyropEsWACcS3q7tSy59szaQ+MV2dTSQl
X-Google-Smtp-Source: AGHT+IFtQb/Z2FalLhcVTtyPtaDc5b///HXmNTuMTRhMLRMQ0txenHX0cFiWGfu70/fV6PIgrkpidD/77RTw
X-Received: by 2002:a25:a527:0:b0:dcd:4e54:9420 with SMTP id
 h36-20020a25a527000000b00dcd4e549420mr888657ybi.5.1712095223534; 
 Tue, 02 Apr 2024 15:00:23 -0700 (PDT)
Received: from postal.iol.unh.edu (postal.iol.unh.edu.
 [2606:4100:3880:1234::84]) by smtp-relay.gmail.com with ESMTPS id
 s72-20020a25aa4e000000b00dcf59d26e55sm601575ybi.12.2024.04.02.15.00.23
 (version=TLS1_2 cipher=ECDHE-ECDSA-AES128-GCM-SHA256 bits=128/128);
 Tue, 02 Apr 2024 15:00:23 -0700 (PDT)
X-Relaying-Domain: iol.unh.edu
Date: Tue, 02 Apr 2024 15:00:23 -0700 (PDT)
Message-ID: <660c7ff7.250a0220.f90ad.1274SMTPIN_ADDED_MISSING@mx.google.com>
Received: from [172.21.0.7] (unknown [172.18.0.240])
 by postal.iol.unh.edu (Postfix) with ESMTP id 2BAFC6052471;
 Tue,  2 Apr 2024 18:00:23 -0400 (EDT)
Subject: |SUCCESS| pw139023-139030 [PATCH] [v5,8/8] net/tap: remove no longer
From: dpdklab@iol.unh.edu
To: Test Report <test-report@dpdk.org>
Cc: dpdk-test-reports@iol.unh.edu
In-Reply-To: <20240402171751.138324-9-stephen@networkplumber.org>
References: <20240402171751.138324-9-stephen@networkplumber.org>
Content-Type: text/plain
X-BeenThere: test-report@dpdk.org
X-Mailman-Version: 2.1.29
Precedence: list
List-Id: automatic DPDK test reports <test-report.dpdk.org>
List-Unsubscribe: <https://mails.dpdk.org/options/test-report>,
 <mailto:test-report-request@dpdk.org?subject=unsubscribe>
List-Archive: <http://mails.dpdk.org/archives/test-report/>
List-Post: <mailto:test-report@dpdk.org>
List-Help: <mailto:test-report-request@dpdk.org?subject=help>
List-Subscribe: <https://mails.dpdk.org/listinfo/test-report>,
 <mailto:test-report-request@dpdk.org?subject=subscribe>
Errors-To: test-report-bounces@dpdk.org

Test-Label: iol-compile-arm64-testing
Test-Status: SUCCESS
http://dpdk.org/patch/139030

_Testing PASS_

Submitter: Stephen Hemminger <stephen@networkplumber.org>
Date: Tuesday, April 02 2024 17:12:40 
DPDK git baseline: Repo:dpdk
  Branch: master
  CommitID:e2e546ab5bf5e024986ccb5310ab43982f3bb40c

139023-139030 --> testing pass

Test environment and result as below:

+----------------------+--------------------+
|     Environment      | dpdk_meson_compile |
+======================+====================+
| Ubuntu 20.04 ARM SVE | PASS               |
+----------------------+--------------------+
| Debian 12 with MUSDK | PASS               |
+----------------------+--------------------+
| Fedora 38 (ARM)      | PASS               |
+----------------------+--------------------+


Ubuntu 20.04 ARM SVE
	Kernel: 5.4.0-167-generic
	Compiler: gcc (Ubuntu 10.5.0-1ubuntu1~20.04) 10.5.0

Debian 12 with MUSDK
	Kernel: Container Host Kernel
	Compiler: gcc 12.2.0

Fedora 38 (ARM)
	Kernel: Depends on container host
	Compiler: gcc 13.2.1

To view detailed results, visit:
https://lab.dpdk.org/results/dashboard/patchsets/29693/

UNH-IOL DPDK Community Lab

To manage your email subscriptions, visit: 
https://lab.dpdk.org/results/dashboard/preferences/subscriptions/