From mboxrd@z Thu Jan  1 00:00:00 1970
Return-Path: <test-report-bounces@dpdk.org>
Received: from mails.dpdk.org (mails.dpdk.org [217.70.189.124])
	by inbox.dpdk.org (Postfix) with ESMTP id CFC4D43DCD
	for <public@inbox.dpdk.org>; Wed,  3 Apr 2024 00:27:12 +0200 (CEST)
Received: from mails.dpdk.org (localhost [127.0.0.1])
	by mails.dpdk.org (Postfix) with ESMTP id C8DF740144;
	Wed,  3 Apr 2024 00:27:12 +0200 (CEST)
Received: from mail-il1-f226.google.com (mail-il1-f226.google.com
 [209.85.166.226])
 by mails.dpdk.org (Postfix) with ESMTP id F064B400D7
 for <test-report@dpdk.org>; Wed,  3 Apr 2024 00:27:10 +0200 (CEST)
Received: by mail-il1-f226.google.com with SMTP id
 e9e14a558f8ab-368cd5ddb65so18837895ab.0
 for <test-report@dpdk.org>; Tue, 02 Apr 2024 15:27:10 -0700 (PDT)
DKIM-Signature: v=1; a=rsa-sha256; c=relaxed/relaxed;
 d=iol.unh.edu; s=unh-iol; t=1712096830; x=1712701630; darn=dpdk.org;
 h=references:in-reply-to:cc:to:from:subject:message-id:date:from:to
 :cc:subject:date:message-id:reply-to;
 bh=fMd1JPCWAVxALLpinoRJZsCeYpR+PwMKTFW/q0o3xik=;
 b=OrNkumBqiGP/DrPO2I48u2JFiLVGEuz5xDpdxZAm2hXQ6ZqGORX2dBW9XWnD8UmHWm
 emLYo7o3a1CSmP6/TAWEs3zQ0DvDt4ba4JZLXaoFEAqTfku9WgQslH9UU++CbEAvWeHK
 1SHctuEESLgI31v+0fMGfVBA9bTKYWGzqlBDc=
X-Google-DKIM-Signature: v=1; a=rsa-sha256; c=relaxed/relaxed;
 d=1e100.net; s=20230601; t=1712096830; x=1712701630;
 h=references:in-reply-to:cc:to:from:subject:message-id:date
 :x-gm-message-state:from:to:cc:subject:date:message-id:reply-to;
 bh=fMd1JPCWAVxALLpinoRJZsCeYpR+PwMKTFW/q0o3xik=;
 b=ZxdHeuzSUZRLKmrOIHMYLTCqCHMejm2GL1Mpp5ukTjF9RB1wvLiCINNCFooYE51U/O
 yXhBmI3fHSzRxg01+yXWG/r3JUQWM50RtRiqNifyUPlXe4T+S9k6rtN4hbUD7QhRZBkQ
 z2Hl451oDcXzRopYPu1oIyQqJQ8J4CSffF3XD4+R1BNkJXzndI+OyN+4CnILUqHVaREN
 y0iwdBXTFNoXOZmx5t4FJNKT1uLITY+BQUeGEMQf0tGluO76skTI2zaX7OwTKe239iG7
 hQoVXPczY9zv6CVV2h6Y7F4oYnOFukGs1bEVxVLmJkK0b6v0nb9w6RxyX/q/e4jfEfH8
 NImQ==
X-Gm-Message-State: AOJu0Yw7LUxs7us3FbTepBKgFMuqT7gQUddzsYtU245Z0QfAgTowXStM
 wj+3tWCr/mb1tkWV6e0Rod3ZaCI3V9KTJT0wwreVlFfMRnX41iY/lqX8m4AiRY4UcEfe/77CVw0
 1U4se3KNN8uT0GFfFFRJFLLPS+FGwyyX3iOC5Or+IR32mYuXHio/fmSwZ
X-Google-Smtp-Source: AGHT+IE6X/n5RF7e4lCNV4QC443HZij1drgVTPAhQ8nR9M7qX5cwCP29NtE/gMM72SS54hT+8mKjlRL9i9k7
X-Received: by 2002:a05:6e02:1562:b0:368:975f:fcb with SMTP id
 k2-20020a056e02156200b00368975f0fcbmr1355252ilu.4.1712096830468; 
 Tue, 02 Apr 2024 15:27:10 -0700 (PDT)
Received: from postal.iol.unh.edu (postal.iol.unh.edu.
 [2606:4100:3880:1234::84]) by smtp-relay.gmail.com with ESMTPS id
 k8-20020a92c248000000b00368f986c400sm502837ilo.65.2024.04.02.15.27.10
 (version=TLS1_2 cipher=ECDHE-ECDSA-AES128-GCM-SHA256 bits=128/128);
 Tue, 02 Apr 2024 15:27:10 -0700 (PDT)
X-Relaying-Domain: iol.unh.edu
Date: Tue, 02 Apr 2024 15:27:10 -0700 (PDT)
Message-ID: <660c863e.920a0220.b4814.c02dSMTPIN_ADDED_MISSING@mx.google.com>
Received: from [172.21.0.6] (unknown [172.18.0.240])
 by postal.iol.unh.edu (Postfix) with ESMTP id E963E6052471;
 Tue,  2 Apr 2024 18:27:09 -0400 (EDT)
Subject: |SUCCESS| pw139031-139034 [PATCH] [v9,4/4] cryptodev: remove rte mar
From: dpdklab@iol.unh.edu
To: Test Report <test-report@dpdk.org>
Cc: dpdk-test-reports@iol.unh.edu
In-Reply-To: <1712088530-24948-5-git-send-email-roretzla@linux.microsoft.com>
References: <1712088530-24948-5-git-send-email-roretzla@linux.microsoft.com>
Content-Type: text/plain
X-BeenThere: test-report@dpdk.org
X-Mailman-Version: 2.1.29
Precedence: list
List-Id: automatic DPDK test reports <test-report.dpdk.org>
List-Unsubscribe: <https://mails.dpdk.org/options/test-report>,
 <mailto:test-report-request@dpdk.org?subject=unsubscribe>
List-Archive: <http://mails.dpdk.org/archives/test-report/>
List-Post: <mailto:test-report@dpdk.org>
List-Help: <mailto:test-report-request@dpdk.org?subject=help>
List-Subscribe: <https://mails.dpdk.org/listinfo/test-report>,
 <mailto:test-report-request@dpdk.org?subject=subscribe>
Errors-To: test-report-bounces@dpdk.org

Test-Label: iol-compile-arm64-testing
Test-Status: SUCCESS
http://dpdk.org/patch/139034

_Testing PASS_

Submitter: Tyler Retzlaff <roretzla@linux.microsoft.com>
Date: Tuesday, April 02 2024 20:08:50 
DPDK git baseline: Repo:dpdk
  Branch: master
  CommitID:e2e546ab5bf5e024986ccb5310ab43982f3bb40c

139031-139034 --> testing pass

Test environment and result as below:

+----------------------------------------+--------------------+
|              Environment               | dpdk_meson_compile |
+========================================+====================+
| Ubuntu 20.04 ARM SVE                   | PASS               |
+----------------------------------------+--------------------+
| Debian 12 with MUSDK                   | PASS               |
+----------------------------------------+--------------------+
| Fedora 39 (ARM)                        | PASS               |
+----------------------------------------+--------------------+
| Debian 12 (arm)                        | PASS               |
+----------------------------------------+--------------------+
| Ubuntu 20.04 (ARM)                     | PASS               |
+----------------------------------------+--------------------+
| Fedora 37 (ARM)                        | PASS               |
+----------------------------------------+--------------------+
| Ubuntu 20.04 aarch32 GCC Cross Compile | PASS               |
+----------------------------------------+--------------------+
| Ubuntu 20.04 ARM Clang Cross Compile   | PASS               |
+----------------------------------------+--------------------+
| Ubuntu 20.04 ARM GCC Cross Compile     | PASS               |
+----------------------------------------+--------------------+
| Fedora 38 (ARM Clang)                  | PASS               |
+----------------------------------------+--------------------+
| Debian 11 (Buster) (ARM)               | PASS               |
+----------------------------------------+--------------------+


Ubuntu 20.04 ARM SVE
	Kernel: 5.4.0-167-generic
	Compiler: gcc (Ubuntu 10.5.0-1ubuntu1~20.04) 10.5.0

Debian 12 with MUSDK
	Kernel: Container Host Kernel
	Compiler: gcc 12.2.0

Fedora 39 (ARM)
	Kernel: Depends on container host
	Compiler: gcc 13.2.1

Debian 12 (arm)
	Kernel: Container Host Kernel
	Compiler: gcc 12.2.0

Ubuntu 20.04 (ARM)
	Kernel: Container Host Kernel
	Compiler: gcc 9.4.0

Fedora 37 (ARM)
	Kernel: Depends on container host
	Compiler: gcc 12.3.1

Ubuntu 20.04 aarch32 GCC Cross Compile
	Kernel: 5.4.0-167-generic
	Compiler: gcc 9.4.0

Ubuntu 20.04 ARM Clang Cross Compile
	Kernel: 5.4.0-72-generic
	Compiler: clang 10.0.0-4ubuntu1

Ubuntu 20.04 ARM GCC Cross Compile
	Kernel: 5.4.0-167-generic
	Compiler: aarch64-linux-gnu-gcc (Ubuntu 9.4.0-1ubuntu1~20.04.2) 9.4.0

Fedora 38 (ARM Clang)
	Kernel: Depends on container host
	Compiler: clang 16.0.6

Debian 11 (Buster) (ARM)
	Kernel: Container Host Kernel
	Compiler: gcc 10.2.1

To view detailed results, visit:
https://lab.dpdk.org/results/dashboard/patchsets/29694/

UNH-IOL DPDK Community Lab

To manage your email subscriptions, visit: 
https://lab.dpdk.org/results/dashboard/preferences/subscriptions/