From mboxrd@z Thu Jan  1 00:00:00 1970
Return-Path: <test-report-bounces@dpdk.org>
Received: from mails.dpdk.org (mails.dpdk.org [217.70.189.124])
	by inbox.dpdk.org (Postfix) with ESMTP id AE48043DCD
	for <public@inbox.dpdk.org>; Wed,  3 Apr 2024 00:30:02 +0200 (CEST)
Received: from mails.dpdk.org (localhost [127.0.0.1])
	by mails.dpdk.org (Postfix) with ESMTP id A4B2F40144;
	Wed,  3 Apr 2024 00:30:02 +0200 (CEST)
Received: from mail-oo1-f97.google.com (mail-oo1-f97.google.com
 [209.85.161.97]) by mails.dpdk.org (Postfix) with ESMTP id 82812400D7
 for <test-report@dpdk.org>; Wed,  3 Apr 2024 00:30:01 +0200 (CEST)
Received: by mail-oo1-f97.google.com with SMTP id
 006d021491bc7-5a56a5f597dso3947514eaf.2
 for <test-report@dpdk.org>; Tue, 02 Apr 2024 15:30:01 -0700 (PDT)
DKIM-Signature: v=1; a=rsa-sha256; c=relaxed/relaxed;
 d=iol.unh.edu; s=unh-iol; t=1712097001; x=1712701801; darn=dpdk.org;
 h=references:in-reply-to:cc:to:from:subject:message-id:date:from:to
 :cc:subject:date:message-id:reply-to;
 bh=M8t14Pt/V0bC0KVgpDYPBioDyvfo0QlHPyFKqV9TVVw=;
 b=fne81LpKZWULoItSx22WqHgfdjPhJTGd+t712FM9H6SiLlMJpbmrDIsgQjVYu5Xnql
 AY3sfdSOe+0jX28W0Ci+EHY9iZPIV2/EkL7Lh4qyiJCfTeT17WAd14xuKzWt1BtSbqCa
 19e0nRnhnN36b2m0SjSRNo+xdgdMdWZpAttUk=
X-Google-DKIM-Signature: v=1; a=rsa-sha256; c=relaxed/relaxed;
 d=1e100.net; s=20230601; t=1712097001; x=1712701801;
 h=references:in-reply-to:cc:to:from:subject:message-id:date
 :x-gm-message-state:from:to:cc:subject:date:message-id:reply-to;
 bh=M8t14Pt/V0bC0KVgpDYPBioDyvfo0QlHPyFKqV9TVVw=;
 b=D+ba+Y1mAL9fC0CXTabdeNeYUScBP79GihAoACirQAJ18g7d3I4QhrLmapBAfJlsyx
 fYx+XVet80JPdy+h0vSHYoucoaymr+TlslqMdUUltwKSCYV26ogaDkt0OO0FXO2TxTtD
 OUoQJXDPUBG2CxpAq75/u4Q9f0xfuqRVWW3tzi1sTaeNU3BdskKIJ4N7vc+I1GTpXDOB
 S5MotEVdiqaQBbsU5uau5Qn0BpEFMFUIF/nzbnjdMvb5Pn734qYwIQ+AKi73V9xgGBcp
 GuWbbkJjZ+5lU4nz7f+eWWenYiO+yZjCaa0EotDMa0XT+K2oNpPnb4c5GBiS47Wc/AO2
 adFw==
X-Gm-Message-State: AOJu0YyLrSd1iNo+arZx4Oxx4HWMVgBPA6VBtA15aImf5qbBaYmBnEWA
 tvTTT18+TEGSNeKJXTFThxoNpLOx4tDvZHGQCOgvIYzIbxu+Zh92lJ/fQEON4PY4SzyH3DVG6b6
 tmPzD01o950iah02ACRcpyyC0HldcO3FqLWvh6FNH
X-Google-Smtp-Source: AGHT+IHoGzCZJG2/Z9mLg9fE6XAVkLclAjXMuStAARZXDH+qeqbu/RTu8ngl3C7uBz/IaWREWqXn94uRu4Mv
X-Received: by 2002:a05:6820:2916:b0:5a1:cefd:73d6 with SMTP id
 dp22-20020a056820291600b005a1cefd73d6mr1318654oob.7.1712097000915; 
 Tue, 02 Apr 2024 15:30:00 -0700 (PDT)
Received: from postal.iol.unh.edu (postal.iol.unh.edu. [132.177.123.84])
 by smtp-relay.gmail.com with ESMTPS id
 r125-20020a4a4e83000000b005a46c8d2f04sm858428ooa.26.2024.04.02.15.30.00
 (version=TLS1_2 cipher=ECDHE-ECDSA-AES128-GCM-SHA256 bits=128/128);
 Tue, 02 Apr 2024 15:30:00 -0700 (PDT)
X-Relaying-Domain: iol.unh.edu
Date: Tue, 02 Apr 2024 15:30:00 -0700 (PDT)
Message-ID: <660c86e8.4a0a0220.9b256.2585SMTPIN_ADDED_MISSING@mx.google.com>
Received: from [172.21.0.6] (unknown [172.18.0.240])
 by postal.iol.unh.edu (Postfix) with ESMTP id 692CB6052471;
 Tue,  2 Apr 2024 18:30:00 -0400 (EDT)
Subject: |SUCCESS| pw139023-139030 [PATCH] [v5,8/8] net/tap: remove no longer
From: dpdklab@iol.unh.edu
To: Test Report <test-report@dpdk.org>
Cc: dpdk-test-reports@iol.unh.edu
In-Reply-To: <20240402171751.138324-9-stephen@networkplumber.org>
References: <20240402171751.138324-9-stephen@networkplumber.org>
Content-Type: text/plain
X-BeenThere: test-report@dpdk.org
X-Mailman-Version: 2.1.29
Precedence: list
List-Id: automatic DPDK test reports <test-report.dpdk.org>
List-Unsubscribe: <https://mails.dpdk.org/options/test-report>,
 <mailto:test-report-request@dpdk.org?subject=unsubscribe>
List-Archive: <http://mails.dpdk.org/archives/test-report/>
List-Post: <mailto:test-report@dpdk.org>
List-Help: <mailto:test-report-request@dpdk.org?subject=help>
List-Subscribe: <https://mails.dpdk.org/listinfo/test-report>,
 <mailto:test-report-request@dpdk.org?subject=subscribe>
Errors-To: test-report-bounces@dpdk.org

Test-Label: iol-abi-testing
Test-Status: SUCCESS
http://dpdk.org/patch/139030

_Testing PASS_

Submitter: Stephen Hemminger <stephen@networkplumber.org>
Date: Tuesday, April 02 2024 17:12:40 
DPDK git baseline: Repo:dpdk
  Branch: master
  CommitID:e2e546ab5bf5e024986ccb5310ab43982f3bb40c

139023-139030 --> testing pass

Test environment and result as below:

+------------------+----------+
|   Environment    | abi_test |
+==================+==========+
| CentOS Stream 8  | PASS     |
+------------------+----------+
| Fedora 38        | PASS     |
+------------------+----------+
| openSUSE Leap 15 | PASS     |
+------------------+----------+
| Debian Bullseye  | PASS     |
+------------------+----------+
| Debian 12        | PASS     |
+------------------+----------+
| Fedora 39        | PASS     |
+------------------+----------+
| CentOS Stream 9  | PASS     |
+------------------+----------+


CentOS Stream 8
	Kernel: 5.4.0-167-generic
	Compiler: gcc 8.5.0 20210514

Fedora 38
	Kernel: Depends on container host
	Compiler: clang 16.0.6

openSUSE Leap 15
	Kernel: 5.4.0-167-generic
	Compiler: gcc 7.5.0

Debian Bullseye
	Kernel: 5.4.0-167-generic
	Compiler: gcc 10.2.1-6

Debian 12
	Kernel: Container Host Kernel
	Compiler: gcc 10.2.1

Fedora 39
	Kernel: Depends on container host
	Compiler: gcc 13.2.1

CentOS Stream 9
	Kernel: 5.4.0-167-generic
	Compiler: gcc 11.4.1 20230605

To view detailed results, visit:
https://lab.dpdk.org/results/dashboard/patchsets/29693/

UNH-IOL DPDK Community Lab

To manage your email subscriptions, visit: 
https://lab.dpdk.org/results/dashboard/preferences/subscriptions/