From mboxrd@z Thu Jan  1 00:00:00 1970
Return-Path: <test-report-bounces@dpdk.org>
Received: from mails.dpdk.org (mails.dpdk.org [217.70.189.124])
	by inbox.dpdk.org (Postfix) with ESMTP id BCA0143DCF
	for <public@inbox.dpdk.org>; Wed,  3 Apr 2024 00:51:32 +0200 (CEST)
Received: from mails.dpdk.org (localhost [127.0.0.1])
	by mails.dpdk.org (Postfix) with ESMTP id B097740144;
	Wed,  3 Apr 2024 00:51:32 +0200 (CEST)
Received: from mail-yw1-f228.google.com (mail-yw1-f228.google.com
 [209.85.128.228])
 by mails.dpdk.org (Postfix) with ESMTP id 3800D400D7
 for <test-report@dpdk.org>; Wed,  3 Apr 2024 00:51:31 +0200 (CEST)
Received: by mail-yw1-f228.google.com with SMTP id
 00721157ae682-6114c9b4d83so42558737b3.3
 for <test-report@dpdk.org>; Tue, 02 Apr 2024 15:51:31 -0700 (PDT)
DKIM-Signature: v=1; a=rsa-sha256; c=relaxed/relaxed;
 d=iol.unh.edu; s=unh-iol; t=1712098290; x=1712703090; darn=dpdk.org;
 h=references:in-reply-to:cc:to:from:subject:message-id:date:from:to
 :cc:subject:date:message-id:reply-to;
 bh=Z8/woQBID7TaV6crvtpoKWXq25/nc80+4YGTzCnHzIM=;
 b=SyatTKotRqEaeOBO1iv9NglwCvodGhNIQHCwKu7oYe1SsK/ibNxXghp7v7dOFxc3Sa
 tQL5KJl9Fo6t//RsAePYOzLoZukCkOn4CRSUl/xKDH6gH5akShpTsVoVz2wv37O6Peit
 tYPe8JC8uOwx7jFmSHeysAyziL6387hNoz+FI=
X-Google-DKIM-Signature: v=1; a=rsa-sha256; c=relaxed/relaxed;
 d=1e100.net; s=20230601; t=1712098290; x=1712703090;
 h=references:in-reply-to:cc:to:from:subject:message-id:date
 :x-gm-message-state:from:to:cc:subject:date:message-id:reply-to;
 bh=Z8/woQBID7TaV6crvtpoKWXq25/nc80+4YGTzCnHzIM=;
 b=fJylfcUvecKNpl1XnOJJddqBRsfrrBy6CdGYAjOJnDUYJ4iFYuoWTZh+Z0e394s6fo
 Ro5MH5xNZHBcG+hNzIUoGwXDAofQ8e7Eo3SwPtnPHbOPqx4prn9ADF2sFIAiXvalRRYM
 lJpD9Z4lOzyz0l7eJOqvSPQHzzCqsQLrx9eUheD0XwxhSkgHIz0yOZDLLT9GG4CNRzGk
 t5dNdsZqIAhKpkmmwilD0mLhUNesTbB2gxcDhLXdNRoGd0z7bcRwoqbvMeOyjbzipFso
 44jjuElVr6dxDJMoky2VZtBjNZ0pgvc8nuRY0hfe7zgMnVqWkz0vExDqLzLQ8GvbmraR
 BRWQ==
X-Gm-Message-State: AOJu0Yzs6M3PuWIvo+8iigDiA3cXOi/X1L82giEqr4g9ur6LoctDqZ8t
 3XQamem0+JNkguINbE3k5CxSnLS7WHtFoUnHUk0yHJCyxV/GkOaTK6iXcxFt0qk1UWcpKA4IjR4
 r/OM4LsfQVI+N+7/btn3PylUN4g9SsEYeqRUt2Mhk
X-Google-Smtp-Source: AGHT+IGvkyKuXQjjx84uvUt1McxyqTYwCMLSffgfaELvSXGpW/xTgHLCLmah2qPrLQc25WemB44BWvX7M9qR
X-Received: by 2002:a81:b40d:0:b0:615:4c47:e545 with SMTP id
 h13-20020a81b40d000000b006154c47e545mr958738ywi.47.1712098290613; 
 Tue, 02 Apr 2024 15:51:30 -0700 (PDT)
Received: from postal.iol.unh.edu (postal.iol.unh.edu. [132.177.123.84])
 by smtp-relay.gmail.com with ESMTPS id
 cd15-20020a05690c088f00b00614efaaad6esm267624ywb.70.2024.04.02.15.51.30
 (version=TLS1_2 cipher=ECDHE-ECDSA-AES128-GCM-SHA256 bits=128/128);
 Tue, 02 Apr 2024 15:51:30 -0700 (PDT)
X-Relaying-Domain: iol.unh.edu
Date: Tue, 02 Apr 2024 15:51:30 -0700 (PDT)
Message-ID: <660c8bf2.050a0220.bad57.ecf9SMTPIN_ADDED_MISSING@mx.google.com>
Received: from [172.21.0.6] (unknown [172.18.0.240])
 by postal.iol.unh.edu (Postfix) with ESMTP id 3BBF46052471;
 Tue,  2 Apr 2024 18:51:30 -0400 (EDT)
Subject: |SUCCESS| pw139023-139030 [PATCH] [v5,8/8] net/tap: remove no longer
From: dpdklab@iol.unh.edu
To: Test Report <test-report@dpdk.org>
Cc: dpdk-test-reports@iol.unh.edu
In-Reply-To: <20240402171751.138324-9-stephen@networkplumber.org>
References: <20240402171751.138324-9-stephen@networkplumber.org>
Content-Type: text/plain
X-BeenThere: test-report@dpdk.org
X-Mailman-Version: 2.1.29
Precedence: list
List-Id: automatic DPDK test reports <test-report.dpdk.org>
List-Unsubscribe: <https://mails.dpdk.org/options/test-report>,
 <mailto:test-report-request@dpdk.org?subject=unsubscribe>
List-Archive: <http://mails.dpdk.org/archives/test-report/>
List-Post: <mailto:test-report@dpdk.org>
List-Help: <mailto:test-report-request@dpdk.org?subject=help>
List-Subscribe: <https://mails.dpdk.org/listinfo/test-report>,
 <mailto:test-report-request@dpdk.org?subject=subscribe>
Errors-To: test-report-bounces@dpdk.org

Test-Label: iol-unit-amd64-testing
Test-Status: SUCCESS
http://dpdk.org/patch/139030

_Testing PASS_

Submitter: Stephen Hemminger <stephen@networkplumber.org>
Date: Tuesday, April 02 2024 17:12:40 
DPDK git baseline: Repo:dpdk
  Branch: master
  CommitID:e2e546ab5bf5e024986ccb5310ab43982f3bb40c

139023-139030 --> testing pass

Test environment and result as below:

+---------------------+----------------+
|     Environment     | dpdk_unit_test |
+=====================+================+
| Windows Server 2019 | PASS           |
+---------------------+----------------+
| Windows Server 2022 | PASS           |
+---------------------+----------------+
| CentOS Stream 8     | PASS           |
+---------------------+----------------+
| CentOS Stream 9     | PASS           |
+---------------------+----------------+
| Debian 12           | PASS           |
+---------------------+----------------+
| Fedora 37           | PASS           |
+---------------------+----------------+
| Fedora 39           | PASS           |
+---------------------+----------------+
| Debian Bullseye     | PASS           |
+---------------------+----------------+
| Fedora 38           | PASS           |
+---------------------+----------------+
| Ubuntu 20.04        | PASS           |
+---------------------+----------------+


Windows Server 2019
	Kernel: 10.0.17763
	Compiler: clang 14.0 and gcc 8.1.0 (MinGW)

Windows Server 2022
	Kernel: 10.0.20348.2031
	Compiler: clang 15.0.7, gcc 8.1.0 (MinGW), and MSVC VS 17.9

CentOS Stream 8
	Kernel: 5.4.0-167-generic
	Compiler: gcc 8.5.0 20210514

CentOS Stream 9
	Kernel: 5.4.0-167-generic
	Compiler: gcc 11.4.1 20230605

Debian 12
	Kernel: Container Host Kernel
	Compiler: gcc 10.2.1

Fedora 37
	Kernel: Depends on container host system
	Compiler: gcc 12.3.1

Fedora 39
	Kernel: Depends on container host
	Compiler: gcc 13.2.1

Debian Bullseye
	Kernel: 5.4.0-167-generic
	Compiler: gcc 10.2.1-6

Fedora 38
	Kernel: Depends on container host
	Compiler: gcc 13.2.1

Ubuntu 20.04
	Kernel: 5.4.0-167-generic
	Compiler: gcc 9.4.0-1ubuntu1~20.04.1

To view detailed results, visit:
https://lab.dpdk.org/results/dashboard/patchsets/29693/

UNH-IOL DPDK Community Lab

To manage your email subscriptions, visit: 
https://lab.dpdk.org/results/dashboard/preferences/subscriptions/