From mboxrd@z Thu Jan  1 00:00:00 1970
Return-Path: <test-report-bounces@dpdk.org>
Received: from mails.dpdk.org (mails.dpdk.org [217.70.189.124])
	by inbox.dpdk.org (Postfix) with ESMTP id 45E4343DCF
	for <public@inbox.dpdk.org>; Wed,  3 Apr 2024 00:54:15 +0200 (CEST)
Received: from mails.dpdk.org (localhost [127.0.0.1])
	by mails.dpdk.org (Postfix) with ESMTP id 3FBF840144;
	Wed,  3 Apr 2024 00:54:15 +0200 (CEST)
Received: from mail-il1-f227.google.com (mail-il1-f227.google.com
 [209.85.166.227])
 by mails.dpdk.org (Postfix) with ESMTP id DE891400D7
 for <test-report@dpdk.org>; Wed,  3 Apr 2024 00:54:13 +0200 (CEST)
Received: by mail-il1-f227.google.com with SMTP id
 e9e14a558f8ab-368954f98deso25990785ab.2
 for <test-report@dpdk.org>; Tue, 02 Apr 2024 15:54:13 -0700 (PDT)
DKIM-Signature: v=1; a=rsa-sha256; c=relaxed/relaxed;
 d=iol.unh.edu; s=unh-iol; t=1712098453; x=1712703253; darn=dpdk.org;
 h=references:in-reply-to:cc:to:from:subject:message-id:date:from:to
 :cc:subject:date:message-id:reply-to;
 bh=E20PdDDAKvIrAQLoKN8SVgDEbMTM6/xYqOqTXHugZLg=;
 b=J3avQKq9YuHlQggC16M06uhWfBu9W0DKIZcFK5Ki3moGXiimPqBwO9DVogDv5hZvPK
 afhHBMbFJkWT+yEKs3OzV4ydjcKgZskHYuKoWd1b9bgOqWjcV0TpezhkUWeSo7PstVZD
 XwdaBBgc1ssvjU5Ozgraj9en8ueoSm2lLKJO4=
X-Google-DKIM-Signature: v=1; a=rsa-sha256; c=relaxed/relaxed;
 d=1e100.net; s=20230601; t=1712098453; x=1712703253;
 h=references:in-reply-to:cc:to:from:subject:message-id:date
 :x-gm-message-state:from:to:cc:subject:date:message-id:reply-to;
 bh=E20PdDDAKvIrAQLoKN8SVgDEbMTM6/xYqOqTXHugZLg=;
 b=CwwFbRjQq0aHfRzsRhcTWfiQt0buZjRFqbC2fRIPDBZpA+XRBDEmtEc41B4Q6E9u42
 5rRjs6QgJLn7+M/aXGcm9EEAgw9vWVKsJuA4SnAveLX0dlQuLie+1+KtaozCpQ61TWj2
 5I5sXCNIPyOTGaq8zxFcPIzlx+GGukoMgNQVz+C+31LfRs3trWEt24WGkE064pA6jLYT
 oGG8d8CsDL5DlbCNrSGeMbsuo4gAlTsQOFiz6rVasUYnO9kH9z1pn7ISd1YjZZpBhsUU
 dvRdTlxT8RtArKNzLQZtqwFTdMXAkACR9eIoSR/CFYLd8XFhoMYlnRK+oVaOK5jP+CqX
 YX5w==
X-Gm-Message-State: AOJu0YwIVHSXJYAEfIGHiYdIZdce2CZ4/Npv/H+7GXwlvkNVXg+Sgzp3
 Vwc/UQlW+dwnN8YaVxfb86Fp4d5kfqvq4/bOKHh9dD4HxxOHo1drO+dSiaEKcVx++FKmRoZZixi
 H+zZFz72jRnpdTL2wQ8Abadx+49sDmKuJdI9dM77t6ND7+b+X5c4oBZpn
X-Google-Smtp-Source: AGHT+IFwZCRZnwg9Ar/yPwPLfaDX0eur2r/XWyI8Q6rP0K8UIJLTPw2b+u/sOUIwR5wcu9T/Z80xUA87xYCi
X-Received: by 2002:a92:ca09:0:b0:366:5744:6695 with SMTP id
 j9-20020a92ca09000000b0036657446695mr18323220ils.19.1712098453352; 
 Tue, 02 Apr 2024 15:54:13 -0700 (PDT)
Received: from postal.iol.unh.edu (postal.iol.unh.edu.
 [2606:4100:3880:1234::84]) by smtp-relay.gmail.com with ESMTPS id
 u14-20020a056638134e00b0047ed0467f91sm496610jad.24.2024.04.02.15.54.13
 (version=TLS1_2 cipher=ECDHE-ECDSA-AES128-GCM-SHA256 bits=128/128);
 Tue, 02 Apr 2024 15:54:13 -0700 (PDT)
X-Relaying-Domain: iol.unh.edu
Date: Tue, 02 Apr 2024 15:54:13 -0700 (PDT)
Message-ID: <660c8c95.050a0220.62e6e.a3d9SMTPIN_ADDED_MISSING@mx.google.com>
Received: from [172.21.0.6] (unknown [172.18.0.240])
 by postal.iol.unh.edu (Postfix) with ESMTP id C904B6052471;
 Tue,  2 Apr 2024 18:54:12 -0400 (EDT)
Subject: |SUCCESS| pw139023-139030 [PATCH] [v5,8/8] net/tap: remove no longer
From: dpdklab@iol.unh.edu
To: Test Report <test-report@dpdk.org>
Cc: dpdk-test-reports@iol.unh.edu
In-Reply-To: <20240402171751.138324-9-stephen@networkplumber.org>
References: <20240402171751.138324-9-stephen@networkplumber.org>
Content-Type: text/plain
X-BeenThere: test-report@dpdk.org
X-Mailman-Version: 2.1.29
Precedence: list
List-Id: automatic DPDK test reports <test-report.dpdk.org>
List-Unsubscribe: <https://mails.dpdk.org/options/test-report>,
 <mailto:test-report-request@dpdk.org?subject=unsubscribe>
List-Archive: <http://mails.dpdk.org/archives/test-report/>
List-Post: <mailto:test-report@dpdk.org>
List-Help: <mailto:test-report-request@dpdk.org?subject=help>
List-Subscribe: <https://mails.dpdk.org/listinfo/test-report>,
 <mailto:test-report-request@dpdk.org?subject=subscribe>
Errors-To: test-report-bounces@dpdk.org

Test-Label: iol-unit-amd64-testing
Test-Status: SUCCESS
http://dpdk.org/patch/139030

_Testing PASS_

Submitter: Stephen Hemminger <stephen@networkplumber.org>
Date: Tuesday, April 02 2024 17:12:40 
DPDK git baseline: Repo:dpdk
  Branch: master
  CommitID:e2e546ab5bf5e024986ccb5310ab43982f3bb40c

139023-139030 --> testing pass

Test environment and result as below:

+---------------------+----------------+
|     Environment     | dpdk_unit_test |
+=====================+================+
| Windows Server 2019 | PASS           |
+---------------------+----------------+
| Windows Server 2022 | PASS           |
+---------------------+----------------+
| CentOS Stream 8     | PASS           |
+---------------------+----------------+
| CentOS Stream 9     | PASS           |
+---------------------+----------------+
| Debian 12           | PASS           |
+---------------------+----------------+
| Fedora 37           | PASS           |
+---------------------+----------------+
| Fedora 39           | PASS           |
+---------------------+----------------+
| Debian Bullseye     | PASS           |
+---------------------+----------------+
| Fedora 38           | PASS           |
+---------------------+----------------+
| Ubuntu 20.04        | PASS           |
+---------------------+----------------+
| openSUSE Leap 15    | PASS           |
+---------------------+----------------+


Windows Server 2019
	Kernel: 10.0.17763
	Compiler: clang 14.0 and gcc 8.1.0 (MinGW)

Windows Server 2022
	Kernel: 10.0.20348.2031
	Compiler: clang 15.0.7, gcc 8.1.0 (MinGW), and MSVC VS 17.9

CentOS Stream 8
	Kernel: 5.4.0-167-generic
	Compiler: gcc 8.5.0 20210514

CentOS Stream 9
	Kernel: 5.4.0-167-generic
	Compiler: gcc 11.4.1 20230605

Debian 12
	Kernel: Container Host Kernel
	Compiler: gcc 10.2.1

Fedora 37
	Kernel: Depends on container host system
	Compiler: gcc 12.3.1

Fedora 39
	Kernel: Depends on container host
	Compiler: gcc 13.2.1

Debian Bullseye
	Kernel: 5.4.0-167-generic
	Compiler: gcc 10.2.1-6

Fedora 38
	Kernel: Depends on container host
	Compiler: gcc 13.2.1

Ubuntu 20.04
	Kernel: 5.4.0-167-generic
	Compiler: gcc 9.4.0-1ubuntu1~20.04.1

openSUSE Leap 15
	Kernel: 5.4.0-167-generic
	Compiler: gcc 7.5.0

To view detailed results, visit:
https://lab.dpdk.org/results/dashboard/patchsets/29693/

UNH-IOL DPDK Community Lab

To manage your email subscriptions, visit: 
https://lab.dpdk.org/results/dashboard/preferences/subscriptions/