From mboxrd@z Thu Jan  1 00:00:00 1970
Return-Path: <test-report-bounces@dpdk.org>
Received: from mails.dpdk.org (mails.dpdk.org [217.70.189.124])
	by inbox.dpdk.org (Postfix) with ESMTP id 79C6143DCF
	for <public@inbox.dpdk.org>; Wed,  3 Apr 2024 01:21:20 +0200 (CEST)
Received: from mails.dpdk.org (localhost [127.0.0.1])
	by mails.dpdk.org (Postfix) with ESMTP id 4772240144;
	Wed,  3 Apr 2024 01:21:20 +0200 (CEST)
Received: from mail-il1-f227.google.com (mail-il1-f227.google.com
 [209.85.166.227])
 by mails.dpdk.org (Postfix) with ESMTP id 40473400D7
 for <test-report@dpdk.org>; Wed,  3 Apr 2024 01:21:18 +0200 (CEST)
Received: by mail-il1-f227.google.com with SMTP id
 e9e14a558f8ab-3688676cc70so23680605ab.0
 for <test-report@dpdk.org>; Tue, 02 Apr 2024 16:21:18 -0700 (PDT)
DKIM-Signature: v=1; a=rsa-sha256; c=relaxed/relaxed;
 d=iol.unh.edu; s=unh-iol; t=1712100077; x=1712704877; darn=dpdk.org;
 h=references:in-reply-to:cc:to:from:subject:message-id:date:from:to
 :cc:subject:date:message-id:reply-to;
 bh=yf0EQVwT43IO/BbMPAETFEm2UksTOSXzeFminxgyeWg=;
 b=PNC5g/0MpDYxNafzWhGaYLW8X14la2fVQT/KQ7ADk8wGutUBkPO4eIOWEXIqmuR/CI
 FWBDKlj7bIfLrkMIPIXG9Py+H9Jv0rGRySBTOO88TSo4Ky27+nZxZ2XiwnYDGwDJO9c+
 YKyyzggK66B29AJ019FC7/c0OhMJ6Xj/9dJBI=
X-Google-DKIM-Signature: v=1; a=rsa-sha256; c=relaxed/relaxed;
 d=1e100.net; s=20230601; t=1712100077; x=1712704877;
 h=references:in-reply-to:cc:to:from:subject:message-id:date
 :x-gm-message-state:from:to:cc:subject:date:message-id:reply-to;
 bh=yf0EQVwT43IO/BbMPAETFEm2UksTOSXzeFminxgyeWg=;
 b=C6/K8DT+o+Mz+9WwbwJ8zKLM1ahnM5jyr3RbnzmkIB86j7rJ1qn+657/GTGGA9vgSt
 Yr6MJLlGVhK5N2YJvhLLuz7xMIo/63NAo1HJSTHJ+nXM/4uawDcZpAjehZP+l8gfaYtQ
 D1ZxeQ4ZdsgQYbgdHaj0on1U1Hdri0/BOQPUhgIi1pH+ibUCrMpXw2imIGfKgcEWjrjH
 4mqEyUQ7w9mM6hVFwoEZlyqMfbs0Cf5LzpZzB1iwuSdB5h4MZHcv/xVyc76Z+MFR2Kvp
 eko5T1OWZy+oksa4EtrIjQtfOmQvu3v5L9SWG7UH6AkJPMyEf8UlGrsO4ZCChyVnQQxq
 ts5A==
X-Gm-Message-State: AOJu0Yx1xRI4AftG63MDloGYMaGaX0iq3kRBnGcEbYjBBAkL/dy9RdTC
 DlULkjdvOtZowBCs5/Z8RLUvnC8UlhVE4Vac8Y6Uj6V6uv0JZBoy48/2mYjn0QJ5zjt3Ku1NNnd
 l7fO5P+laXP3bsDhZhwUEUxbJmrV7Ls+WUk9eoS9y
X-Google-Smtp-Source: AGHT+IHAk0B1GWh64F1dJriwfvKIcwm+Lj3thgPpdYQBVQyBktShjijEqBHRrZmnh1g2WkS3SLE5uxwgN89m
X-Received: by 2002:a92:c269:0:b0:368:b940:ad2 with SMTP id
 h9-20020a92c269000000b00368b9400ad2mr16206095ild.14.1712100077663; 
 Tue, 02 Apr 2024 16:21:17 -0700 (PDT)
Received: from postal.iol.unh.edu (postal.iol.unh.edu. [132.177.123.84])
 by smtp-relay.gmail.com with ESMTPS id
 x11-20020a056e021cab00b00369afea2a6bsm308535ill.11.2024.04.02.16.21.17
 (version=TLS1_2 cipher=ECDHE-ECDSA-AES128-GCM-SHA256 bits=128/128);
 Tue, 02 Apr 2024 16:21:17 -0700 (PDT)
X-Relaying-Domain: iol.unh.edu
Date: Tue, 02 Apr 2024 16:21:17 -0700 (PDT)
Message-ID: <660c92ed.050a0220.55b9a.10cbSMTPIN_ADDED_MISSING@mx.google.com>
Received: from [172.21.0.8] (unknown [172.18.0.240])
 by postal.iol.unh.edu (Postfix) with ESMTP id 21C9D6052471;
 Tue,  2 Apr 2024 19:21:17 -0400 (EDT)
Subject: |SUCCESS| pw139023-139030 [PATCH] [v5,8/8] net/tap: remove no longer
From: dpdklab@iol.unh.edu
To: Test Report <test-report@dpdk.org>
Cc: dpdk-test-reports@iol.unh.edu
In-Reply-To: <20240402171751.138324-9-stephen@networkplumber.org>
References: <20240402171751.138324-9-stephen@networkplumber.org>
Content-Type: text/plain
X-BeenThere: test-report@dpdk.org
X-Mailman-Version: 2.1.29
Precedence: list
List-Id: automatic DPDK test reports <test-report.dpdk.org>
List-Unsubscribe: <https://mails.dpdk.org/options/test-report>,
 <mailto:test-report-request@dpdk.org?subject=unsubscribe>
List-Archive: <http://mails.dpdk.org/archives/test-report/>
List-Post: <mailto:test-report@dpdk.org>
List-Help: <mailto:test-report-request@dpdk.org?subject=help>
List-Subscribe: <https://mails.dpdk.org/listinfo/test-report>,
 <mailto:test-report-request@dpdk.org?subject=subscribe>
Errors-To: test-report-bounces@dpdk.org

Test-Label: iol-compile-amd64-testing
Test-Status: SUCCESS
http://dpdk.org/patch/139030

_Testing PASS_

Submitter: Stephen Hemminger <stephen@networkplumber.org>
Date: Tuesday, April 02 2024 17:12:40 
DPDK git baseline: Repo:dpdk
  Branch: master
  CommitID:e2e546ab5bf5e024986ccb5310ab43982f3bb40c

139023-139030 --> testing pass

Test environment and result as below:

+---------------------+--------------------+----------------------+-------------------+
|     Environment     | dpdk_meson_compile | dpdk_mingw64_compile | dpdk_msvc_compile |
+=====================+====================+======================+===================+
| FreeBSD 13.2        | PASS               | SKIPPED              | SKIPPED           |
+---------------------+--------------------+----------------------+-------------------+
| Windows Server 2022 | PASS               | PASS                 | PASS              |
+---------------------+--------------------+----------------------+-------------------+
| Windows Server 2019 | PASS               | PASS                 | SKIPPED           |
+---------------------+--------------------+----------------------+-------------------+
| Debian 12           | PASS               | SKIPPED              | SKIPPED           |
+---------------------+--------------------+----------------------+-------------------+
| CentOS Stream 9     | PASS               | SKIPPED              | SKIPPED           |
+---------------------+--------------------+----------------------+-------------------+
| Fedora 37           | PASS               | SKIPPED              | SKIPPED           |
+---------------------+--------------------+----------------------+-------------------+
| Debian Bullseye     | PASS               | SKIPPED              | SKIPPED           |
+---------------------+--------------------+----------------------+-------------------+
| Fedora 38           | PASS               | SKIPPED              | SKIPPED           |
+---------------------+--------------------+----------------------+-------------------+
| CentOS Stream 8     | PASS               | SKIPPED              | SKIPPED           |
+---------------------+--------------------+----------------------+-------------------+
| Fedora 39           | PASS               | SKIPPED              | SKIPPED           |
+---------------------+--------------------+----------------------+-------------------+
| RHEL8               | PASS               | SKIPPED              | SKIPPED           |
+---------------------+--------------------+----------------------+-------------------+
| openSUSE Leap 15    | PASS               | SKIPPED              | SKIPPED           |
+---------------------+--------------------+----------------------+-------------------+


FreeBSD 13.2
	Kernel: 13.2
	Compiler: clang 14.0.5

Windows Server 2022
	Kernel: 10.0.20348.2031
	Compiler: clang 15.0.7, gcc 8.1.0 (MinGW), and MSVC VS 17.9

Windows Server 2019
	Kernel: 10.0.17763
	Compiler: clang 14.0 and gcc 8.1.0 (MinGW)

Debian 12
	Kernel: Container Host Kernel
	Compiler: gcc 10.2.1

CentOS Stream 9
	Kernel: 5.4.0-167-generic
	Compiler: gcc 11.4.1 20230605

Fedora 37
	Kernel: Depends on container host system
	Compiler: gcc 12.3.1

Debian Bullseye
	Kernel: 5.4.0-167-generic
	Compiler: gcc 10.2.1-6

Fedora 38
	Kernel: Depends on container host
	Compiler: gcc 13.2.1

CentOS Stream 8
	Kernel: 5.4.0-167-generic
	Compiler: gcc 8.5.0 20210514

Fedora 39
	Kernel: Depends on container host
	Compiler: gcc 13.2.1

RHEL8
	Kernel: 5.4.0-167-generic
	Compiler: gcc 8.5.0 20210514 (Red Hat 8.5.0-20)

openSUSE Leap 15
	Kernel: 5.4.0-167-generic
	Compiler: gcc 7.5.0

To view detailed results, visit:
https://lab.dpdk.org/results/dashboard/patchsets/29693/

UNH-IOL DPDK Community Lab

To manage your email subscriptions, visit: 
https://lab.dpdk.org/results/dashboard/preferences/subscriptions/