From mboxrd@z Thu Jan  1 00:00:00 1970
Return-Path: <test-report-bounces@dpdk.org>
Received: from mails.dpdk.org (mails.dpdk.org [217.70.189.124])
	by inbox.dpdk.org (Postfix) with ESMTP id 67DB843DDB
	for <public@inbox.dpdk.org>; Wed,  3 Apr 2024 05:48:09 +0200 (CEST)
Received: from mails.dpdk.org (localhost [127.0.0.1])
	by mails.dpdk.org (Postfix) with ESMTP id 6353640144;
	Wed,  3 Apr 2024 05:48:09 +0200 (CEST)
Received: from mail-ua1-f99.google.com (mail-ua1-f99.google.com
 [209.85.222.99]) by mails.dpdk.org (Postfix) with ESMTP id B0F60400D7
 for <test-report@dpdk.org>; Wed,  3 Apr 2024 05:48:08 +0200 (CEST)
Received: by mail-ua1-f99.google.com with SMTP id
 a1e0cc1a2514c-7e3d5cfd81fso7421241.3
 for <test-report@dpdk.org>; Tue, 02 Apr 2024 20:48:08 -0700 (PDT)
DKIM-Signature: v=1; a=rsa-sha256; c=relaxed/relaxed;
 d=iol.unh.edu; s=unh-iol; t=1712116088; x=1712720888; darn=dpdk.org;
 h=references:in-reply-to:cc:to:from:subject:message-id:date:from:to
 :cc:subject:date:message-id:reply-to;
 bh=CQx37MquPIGF8sJzqt5QFhEE0Dba0JStRHMz8rsbj0E=;
 b=QRXSnB+ZrEvmDgFD8zVz61gcyByP/zYKaACrz7eLJdpDk7oGSrDeInORveaPMMsqEM
 57o9vHJmndFBf/hVYTO7P/P6ptqbOpxOpfm+ZTbUWi0SrPEXZRdz2w2a4BAxoxy/wDpF
 0Tca4ODddga8mNWDh3yglyXY4POdV6VnLvyOc=
X-Google-DKIM-Signature: v=1; a=rsa-sha256; c=relaxed/relaxed;
 d=1e100.net; s=20230601; t=1712116088; x=1712720888;
 h=references:in-reply-to:cc:to:from:subject:message-id:date
 :x-gm-message-state:from:to:cc:subject:date:message-id:reply-to;
 bh=CQx37MquPIGF8sJzqt5QFhEE0Dba0JStRHMz8rsbj0E=;
 b=xTWSWP0hzpVpgJsWT42RkW2W0Fq09CtKWbMEw4ixUkY2c+ic3nX54nhAlAPtOvFk7k
 kee1ddGXYR+BqCsqQED32VPEQdHCuQcABe/Dx5SaaYYKSxmOrz6EDn6QGWUVMAUtuMAr
 8yjblCqT8MqRryPXfvXH3EM2Omf8k0twhLxz7nrZ7x5Xw4C0JUneg5EaOU7oK3qtBSjU
 KrsYVvWtTCu/oUzZo3DfBm6wXvFV03du3CZjc+N4iwJksVsXYiaRp5SBdozncjQ4tpig
 FGtiYAregLQPKyfSkm9lj8fbhD58aQlHdBgGwnQbv/UU3exKuwXaxl8VMTUtFMIPI+ka
 eRjA==
X-Gm-Message-State: AOJu0Yzq7KYCnigbtl/bh/6/jlGwMkjd+D3rEWB6kPALD9zLLHcsybWo
 ya3t0yvBLuHmI8U7Goo10YlBiwo6ofa43wd+cYSX7RFGa+KBaqULvjUZjTsf8b/I5cj2Gmpqgs7
 N2m5VivzR7oekB5ipAICD8LWkhOJQ3R3RJ4XKVAKVkKhty+UB8tQm7JYJ
X-Google-Smtp-Source: AGHT+IFRDupMrJ3cr5+ZSsfEFfOsb80/8cIi1RbnM0YwWUOYpPtNlaBP90Grqq5DgaGxYFoI5ycVVb5LU8qp
X-Received: by 2002:a05:6102:374c:b0:476:aecb:e09c with SMTP id
 u12-20020a056102374c00b00476aecbe09cmr11771532vst.9.1712116088079; 
 Tue, 02 Apr 2024 20:48:08 -0700 (PDT)
Received: from postal.iol.unh.edu (postal.iol.unh.edu.
 [2606:4100:3880:1234::84]) by smtp-relay.gmail.com with ESMTPS id
 x14-20020a0cda0e000000b00698fc48f09dsm34689qvj.14.2024.04.02.20.48.07
 (version=TLS1_2 cipher=ECDHE-ECDSA-AES128-GCM-SHA256 bits=128/128);
 Tue, 02 Apr 2024 20:48:08 -0700 (PDT)
X-Relaying-Domain: iol.unh.edu
Date: Tue, 02 Apr 2024 20:48:08 -0700 (PDT)
Message-ID: <660cd178.0c0a0220.ea0c9.1f46SMTPIN_ADDED_MISSING@mx.google.com>
Received: from [172.21.0.6] (unknown [172.18.0.240])
 by postal.iol.unh.edu (Postfix) with ESMTP id BDFCA6052471;
 Tue,  2 Apr 2024 23:48:07 -0400 (EDT)
Subject: |SUCCESS| pw139035-139064 [PATCH] [v3,30/30] examples: replace use o
From: dpdklab@iol.unh.edu
To: Test Report <test-report@dpdk.org>
Cc: dpdk-test-reports@iol.unh.edu
In-Reply-To: <20240402215502.278838-31-stephen@networkplumber.org>
References: <20240402215502.278838-31-stephen@networkplumber.org>
Content-Type: text/plain
X-BeenThere: test-report@dpdk.org
X-Mailman-Version: 2.1.29
Precedence: list
List-Id: automatic DPDK test reports <test-report.dpdk.org>
List-Unsubscribe: <https://mails.dpdk.org/options/test-report>,
 <mailto:test-report-request@dpdk.org?subject=unsubscribe>
List-Archive: <http://mails.dpdk.org/archives/test-report/>
List-Post: <mailto:test-report@dpdk.org>
List-Help: <mailto:test-report-request@dpdk.org?subject=help>
List-Subscribe: <https://mails.dpdk.org/listinfo/test-report>,
 <mailto:test-report-request@dpdk.org?subject=subscribe>
Errors-To: test-report-bounces@dpdk.org

Test-Label: iol-unit-arm64-testing
Test-Status: SUCCESS
http://dpdk.org/patch/139064

_Testing PASS_

Submitter: Stephen Hemminger <stephen@networkplumber.org>
Date: Tuesday, April 02 2024 21:50:46 
DPDK git baseline: Repo:dpdk
  Branch: master
  CommitID:e2e546ab5bf5e024986ccb5310ab43982f3bb40c

139035-139064 --> testing pass

Test environment and result as below:

+--------------------------+----------------+
|       Environment        | dpdk_unit_test |
+==========================+================+
| Debian 11 (Buster) (ARM) | PASS           |
+--------------------------+----------------+
| Fedora 37 (ARM)          | PASS           |
+--------------------------+----------------+
| Debian 12 (arm)          | PASS           |
+--------------------------+----------------+
| CentOS Stream 9 (ARM)    | PASS           |
+--------------------------+----------------+
| Fedora 38 (ARM)          | PASS           |
+--------------------------+----------------+


Debian 11 (Buster) (ARM)
	Kernel: Container Host Kernel
	Compiler: gcc 10.2.1

Fedora 37 (ARM)
	Kernel: Depends on container host
	Compiler: gcc 12.3.1

Debian 12 (arm)
	Kernel: Container Host Kernel
	Compiler: gcc 12.2.0

CentOS Stream 9 (ARM)
	Kernel: Container Host Kernel
	Compiler: gcc 11.4.1

Fedora 38 (ARM)
	Kernel: Depends on container host
	Compiler: gcc 13.2.1

To view detailed results, visit:
https://lab.dpdk.org/results/dashboard/patchsets/29695/

UNH-IOL DPDK Community Lab

To manage your email subscriptions, visit: 
https://lab.dpdk.org/results/dashboard/preferences/subscriptions/