From mboxrd@z Thu Jan  1 00:00:00 1970
Return-Path: <test-report-bounces@dpdk.org>
Received: from mails.dpdk.org (mails.dpdk.org [217.70.189.124])
	by inbox.dpdk.org (Postfix) with ESMTP id 86E9643DDB
	for <public@inbox.dpdk.org>; Wed,  3 Apr 2024 05:48:17 +0200 (CEST)
Received: from mails.dpdk.org (localhost [127.0.0.1])
	by mails.dpdk.org (Postfix) with ESMTP id 7A35440144;
	Wed,  3 Apr 2024 05:48:17 +0200 (CEST)
Received: from mail-qv1-f100.google.com (mail-qv1-f100.google.com
 [209.85.219.100])
 by mails.dpdk.org (Postfix) with ESMTP id 03F7B400D7
 for <test-report@dpdk.org>; Wed,  3 Apr 2024 05:48:16 +0200 (CEST)
Received: by mail-qv1-f100.google.com with SMTP id
 6a1803df08f44-69699fecccdso33246426d6.1
 for <test-report@dpdk.org>; Tue, 02 Apr 2024 20:48:15 -0700 (PDT)
DKIM-Signature: v=1; a=rsa-sha256; c=relaxed/relaxed;
 d=iol.unh.edu; s=unh-iol; t=1712116095; x=1712720895; darn=dpdk.org;
 h=references:in-reply-to:cc:to:from:subject:message-id:date:from:to
 :cc:subject:date:message-id:reply-to;
 bh=e4aUwDuPqMyxiHOU9qpMCOnJPggxq3JUSREaZMlWBxU=;
 b=h/eTYMiuwdsRHA71yVaBqnPXb4wwzsVHAa2qz4lrQ6J5FCF3mhWNvDZuTf2dL7wIIy
 q0v88PaUqIthVRxSr3jpF9mhfwrBLmbX4tq9Oo07ivaHOWVONXlIlHp6LEs4LfPvigtd
 gHEEfg6+UXj4xBwQjixjTDmSH57yrpj88fbVs=
X-Google-DKIM-Signature: v=1; a=rsa-sha256; c=relaxed/relaxed;
 d=1e100.net; s=20230601; t=1712116095; x=1712720895;
 h=references:in-reply-to:cc:to:from:subject:message-id:date
 :x-gm-message-state:from:to:cc:subject:date:message-id:reply-to;
 bh=e4aUwDuPqMyxiHOU9qpMCOnJPggxq3JUSREaZMlWBxU=;
 b=Wg18dSOC5towdw/CIp26M7jYNeFO03g1nqo1LKHDv8GYs5jO/IK16F5Bnr3YCpx2ql
 yYhC6wwY/PsvUIiK0T8m1cSgWA/asXgysP1rN/v5Oy3GInFBQLVAtzW542SCi0Kg22Xs
 6/JEGr6VIhTe3oYPs5v1qP8cxrX18C7mU5jDIOYGum35XdXP5sZrD7fcVCJBHx+HA7gD
 nH5xAdBtwSxtMyFeo82PV1IqM9Z8tciFGg1YZIgrZf3AbgnbEZvrbs0S6Tm3U3HHt0wz
 TMZS1tw8/ZLtNW9nUkrz10TS6SxNhXHuseyZMYt+zy4L6wX3VjgPucj1SXl9i4VcsY/4
 +MlA==
X-Gm-Message-State: AOJu0YwWybIlTg4fOI4UUqz6pqbvdkbX2kNS7lTIobVvFzO4Kgql4WFa
 iky0q3WNfsEZ2tG894hMU1TwQ/+E1yGRxIO0Jfi9TIBtCQlzcu2QX/9EeO/OnVmbNGgQ+mv00Fv
 874ok2+XpcHby5h6Yf9iWiPntYhYeiSdVh6aGEsVG
X-Google-Smtp-Source: AGHT+IGsPsyrf8yLpJ3KgCxM5jDQWp2+RAaT4xhQqmlapmPP0+mjYnTKzOVF4J3z0W/pIQL2LYEXXZDVYm3z
X-Received: by 2002:ad4:4b67:0:b0:696:b2bd:759f with SMTP id
 m7-20020ad44b67000000b00696b2bd759fmr11506607qvx.25.1712116095457; 
 Tue, 02 Apr 2024 20:48:15 -0700 (PDT)
Received: from postal.iol.unh.edu (postal.iol.unh.edu. [132.177.123.84])
 by smtp-relay.gmail.com with ESMTPS id
 i17-20020a0cf111000000b00699250cb18csm75448qvl.53.2024.04.02.20.48.15
 (version=TLS1_2 cipher=ECDHE-ECDSA-AES128-GCM-SHA256 bits=128/128);
 Tue, 02 Apr 2024 20:48:15 -0700 (PDT)
X-Relaying-Domain: iol.unh.edu
Date: Tue, 02 Apr 2024 20:48:15 -0700 (PDT)
Message-ID: <660cd17f.0c0a0220.7c1d9.4a0dSMTPIN_ADDED_MISSING@mx.google.com>
Received: from [172.21.0.6] (unknown [172.18.0.240])
 by postal.iol.unh.edu (Postfix) with ESMTP id 0BCA36052471;
 Tue,  2 Apr 2024 23:48:15 -0400 (EDT)
Subject: |SUCCESS| pw139035-139064 [PATCH] [v3,30/30] examples: replace use o
From: dpdklab@iol.unh.edu
To: Test Report <test-report@dpdk.org>
Cc: dpdk-test-reports@iol.unh.edu
In-Reply-To: <20240402215502.278838-31-stephen@networkplumber.org>
References: <20240402215502.278838-31-stephen@networkplumber.org>
Content-Type: text/plain
X-BeenThere: test-report@dpdk.org
X-Mailman-Version: 2.1.29
Precedence: list
List-Id: automatic DPDK test reports <test-report.dpdk.org>
List-Unsubscribe: <https://mails.dpdk.org/options/test-report>,
 <mailto:test-report-request@dpdk.org?subject=unsubscribe>
List-Archive: <http://mails.dpdk.org/archives/test-report/>
List-Post: <mailto:test-report@dpdk.org>
List-Help: <mailto:test-report-request@dpdk.org?subject=help>
List-Subscribe: <https://mails.dpdk.org/listinfo/test-report>,
 <mailto:test-report-request@dpdk.org?subject=subscribe>
Errors-To: test-report-bounces@dpdk.org

Test-Label: iol-compile-arm64-testing
Test-Status: SUCCESS
http://dpdk.org/patch/139064

_Testing PASS_

Submitter: Stephen Hemminger <stephen@networkplumber.org>
Date: Tuesday, April 02 2024 21:50:46 
DPDK git baseline: Repo:dpdk
  Branch: master
  CommitID:e2e546ab5bf5e024986ccb5310ab43982f3bb40c

139035-139064 --> testing pass

Test environment and result as below:

+----------------------+--------------------+
|     Environment      | dpdk_meson_compile |
+======================+====================+
| Ubuntu 20.04 ARM SVE | PASS               |
+----------------------+--------------------+
| Debian 12 with MUSDK | PASS               |
+----------------------+--------------------+
| Fedora 37 (ARM)      | PASS               |
+----------------------+--------------------+


Ubuntu 20.04 ARM SVE
	Kernel: 5.4.0-167-generic
	Compiler: gcc (Ubuntu 10.5.0-1ubuntu1~20.04) 10.5.0

Debian 12 with MUSDK
	Kernel: Container Host Kernel
	Compiler: gcc 12.2.0

Fedora 37 (ARM)
	Kernel: Depends on container host
	Compiler: gcc 12.3.1

To view detailed results, visit:
https://lab.dpdk.org/results/dashboard/patchsets/29695/

UNH-IOL DPDK Community Lab

To manage your email subscriptions, visit: 
https://lab.dpdk.org/results/dashboard/preferences/subscriptions/