From mboxrd@z Thu Jan  1 00:00:00 1970
Return-Path: <test-report-bounces@dpdk.org>
Received: from mails.dpdk.org (mails.dpdk.org [217.70.189.124])
	by inbox.dpdk.org (Postfix) with ESMTP id A0BD243DDC
	for <public@inbox.dpdk.org>; Wed,  3 Apr 2024 06:23:18 +0200 (CEST)
Received: from mails.dpdk.org (localhost [127.0.0.1])
	by mails.dpdk.org (Postfix) with ESMTP id 9767F40144;
	Wed,  3 Apr 2024 06:23:18 +0200 (CEST)
Received: from mail-oo1-f98.google.com (mail-oo1-f98.google.com
 [209.85.161.98]) by mails.dpdk.org (Postfix) with ESMTP id 1EE6A400D7
 for <test-report@dpdk.org>; Wed,  3 Apr 2024 06:23:17 +0200 (CEST)
Received: by mail-oo1-f98.google.com with SMTP id
 006d021491bc7-5a4f608432bso3740272eaf.2
 for <test-report@dpdk.org>; Tue, 02 Apr 2024 21:23:17 -0700 (PDT)
DKIM-Signature: v=1; a=rsa-sha256; c=relaxed/relaxed;
 d=iol.unh.edu; s=unh-iol; t=1712118196; x=1712722996; darn=dpdk.org;
 h=references:in-reply-to:cc:to:from:subject:message-id:date:from:to
 :cc:subject:date:message-id:reply-to;
 bh=zmjS0ielS2af8HZbhLedpBvQrXVDIitDa+h6TJ/YHoc=;
 b=Z0g0XhMd25qenLX/gXJoc9LjDqTm0XdzLKbjLDUXeeqdzzxcBy2/SJxPfjl3aZkepE
 qEW0COHh8s812QQhxoZkRrC0fGY8da0ovj4HZ9eU/CWfMV2rMLC8e7hMS9v2dLOpn2r1
 eriSETGUNUX4hQiXUd9xMe9ec/Jn28IMsJ7LM=
X-Google-DKIM-Signature: v=1; a=rsa-sha256; c=relaxed/relaxed;
 d=1e100.net; s=20230601; t=1712118196; x=1712722996;
 h=references:in-reply-to:cc:to:from:subject:message-id:date
 :x-gm-message-state:from:to:cc:subject:date:message-id:reply-to;
 bh=zmjS0ielS2af8HZbhLedpBvQrXVDIitDa+h6TJ/YHoc=;
 b=U/RvUUPw0BCxQ/RVmbPfRH3OL7nU5v7nPNDiZCvBoij1caKkg20IF4irNBVqSVnlu0
 8fC1zxOjZxLFmi4HXr+Lw3iq0YqOgmHsugmxen2wnYsAhW2roudJPBN8nhXSZXaGaN0m
 ZCzmOMkNAgu808HxLoVhoOYPU12jm6nZXKi+DSlyZeiS/L8sKakrUC89wJErGRtjp9gg
 DQLsrmu/2vJk0Yzc8ULaH4T30Vx96quvnknrNy7yykvPNGTw/kqjhJPREfI/zk30jLdC
 P/5+u/QOyRShsESmvJ/tTbFkj09wArolh2gSfxyOfcTLZ9Q1IEaw2PEV4IjEHqPXnYM5
 5J9Q==
X-Gm-Message-State: AOJu0YwFHTtAVeZwXVqKsrSxOcXmHoKukeK2RxtG35H9VV3V8vJtRI7X
 MNcrtXuXO/Npw7fSAfBCg0rWWway6pq65hVCzgoXrs2/8bVYTV31miC1GN3KwM1dXymarjhoFB3
 UHLlDip56rjJYEWmaQcQKciYP20wRVKGlOrGo123J
X-Google-Smtp-Source: AGHT+IFeHzykhOeMc7tmb454qwonrgq0zDU/eNsjEH6NZuKRofeE2i6LyWPQkR1MISmRQxUePB2EKij6oM1z
X-Received: by 2002:a05:6820:2608:b0:5a1:4150:6f57 with SMTP id
 cy8-20020a056820260800b005a141506f57mr13331167oob.9.1712118196464; 
 Tue, 02 Apr 2024 21:23:16 -0700 (PDT)
Received: from postal.iol.unh.edu (postal.iol.unh.edu. [132.177.123.84])
 by smtp-relay.gmail.com with ESMTPS id
 e8-20020a4a5508000000b005a56c2df31fsm892494oob.18.2024.04.02.21.23.16
 (version=TLS1_2 cipher=ECDHE-ECDSA-AES128-GCM-SHA256 bits=128/128);
 Tue, 02 Apr 2024 21:23:16 -0700 (PDT)
X-Relaying-Domain: iol.unh.edu
Date: Tue, 02 Apr 2024 21:23:16 -0700 (PDT)
Message-ID: <660cd9b4.4a0a0220.952c6.53e3SMTPIN_ADDED_MISSING@mx.google.com>
Received: from [172.21.0.6] (unknown [172.18.0.240])
 by postal.iol.unh.edu (Postfix) with ESMTP id 9364C6052471;
 Wed,  3 Apr 2024 00:23:15 -0400 (EDT)
Subject: |SUCCESS| pw139035-139064 [PATCH] [v3,30/30] examples: replace use o
From: dpdklab@iol.unh.edu
To: Test Report <test-report@dpdk.org>
Cc: dpdk-test-reports@iol.unh.edu
In-Reply-To: <20240402215502.278838-31-stephen@networkplumber.org>
References: <20240402215502.278838-31-stephen@networkplumber.org>
Content-Type: text/plain
X-BeenThere: test-report@dpdk.org
X-Mailman-Version: 2.1.29
Precedence: list
List-Id: automatic DPDK test reports <test-report.dpdk.org>
List-Unsubscribe: <https://mails.dpdk.org/options/test-report>,
 <mailto:test-report-request@dpdk.org?subject=unsubscribe>
List-Archive: <http://mails.dpdk.org/archives/test-report/>
List-Post: <mailto:test-report@dpdk.org>
List-Help: <mailto:test-report-request@dpdk.org?subject=help>
List-Subscribe: <https://mails.dpdk.org/listinfo/test-report>,
 <mailto:test-report-request@dpdk.org?subject=subscribe>
Errors-To: test-report-bounces@dpdk.org

Test-Label: iol-unit-arm64-testing
Test-Status: SUCCESS
http://dpdk.org/patch/139064

_Testing PASS_

Submitter: Stephen Hemminger <stephen@networkplumber.org>
Date: Tuesday, April 02 2024 21:50:46 
DPDK git baseline: Repo:dpdk
  Branch: master
  CommitID:e2e546ab5bf5e024986ccb5310ab43982f3bb40c

139035-139064 --> testing pass

Test environment and result as below:

+-----------------------------+----------------+---------------------------+------------------------------+
|         Environment         | dpdk_unit_test | cryptodev_sw_zuc_autotest | cryptodev_sw_snow3g_autotest |
+=============================+================+===========================+==============================+
| Debian 11 (Buster) (ARM)    | PASS           | SKIPPED                   | SKIPPED                      |
+-----------------------------+----------------+---------------------------+------------------------------+
| Fedora 37 (ARM)             | PASS           | SKIPPED                   | SKIPPED                      |
+-----------------------------+----------------+---------------------------+------------------------------+
| Debian 12 (arm)             | PASS           | PASS                      | PASS                         |
+-----------------------------+----------------+---------------------------+------------------------------+
| CentOS Stream 9 (ARM)       | PASS           | SKIPPED                   | SKIPPED                      |
+-----------------------------+----------------+---------------------------+------------------------------+
| Fedora 38 (ARM)             | PASS           | SKIPPED                   | SKIPPED                      |
+-----------------------------+----------------+---------------------------+------------------------------+
| Ubuntu 20.04 (ARM)          | PASS           | SKIPPED                   | SKIPPED                      |
+-----------------------------+----------------+---------------------------+------------------------------+
| Fedora 39 (ARM)             | PASS           | SKIPPED                   | SKIPPED                      |
+-----------------------------+----------------+---------------------------+------------------------------+
| Fedora 38 (ARM Clang)       | PASS           | SKIPPED                   | SKIPPED                      |
+-----------------------------+----------------+---------------------------+------------------------------+
| 32-bit Ubuntu 20.04.4 (ARM) | PASS           | SKIPPED                   | SKIPPED                      |
+-----------------------------+----------------+---------------------------+------------------------------+


Debian 11 (Buster) (ARM)
	Kernel: Container Host Kernel
	Compiler: gcc 10.2.1

Fedora 37 (ARM)
	Kernel: Depends on container host
	Compiler: gcc 12.3.1

Debian 12 (arm)
	Kernel: Container Host Kernel
	Compiler: gcc 12.2.0

CentOS Stream 9 (ARM)
	Kernel: Container Host Kernel
	Compiler: gcc 11.4.1

Fedora 38 (ARM)
	Kernel: Depends on container host
	Compiler: gcc 13.2.1

Ubuntu 20.04 (ARM)
	Kernel: Container Host Kernel
	Compiler: gcc 9.4.0

Fedora 39 (ARM)
	Kernel: Depends on container host
	Compiler: gcc 13.2.1

Fedora 38 (ARM Clang)
	Kernel: Depends on container host
	Compiler: clang 16.0.6

32-bit Ubuntu 20.04.4 (ARM)
	Kernel: 5.4.0-155-generic aarch64
	Compiler: gcc 9.4

To view detailed results, visit:
https://lab.dpdk.org/results/dashboard/patchsets/29695/

UNH-IOL DPDK Community Lab

To manage your email subscriptions, visit: 
https://lab.dpdk.org/results/dashboard/preferences/subscriptions/