From mboxrd@z Thu Jan  1 00:00:00 1970
Return-Path: <test-report-bounces@dpdk.org>
Received: from mails.dpdk.org (mails.dpdk.org [217.70.189.124])
	by inbox.dpdk.org (Postfix) with ESMTP id 2296843DDE
	for <public@inbox.dpdk.org>; Wed,  3 Apr 2024 06:33:35 +0200 (CEST)
Received: from mails.dpdk.org (localhost [127.0.0.1])
	by mails.dpdk.org (Postfix) with ESMTP id 1E54740144;
	Wed,  3 Apr 2024 06:33:35 +0200 (CEST)
Received: from mail-ot1-f97.google.com (mail-ot1-f97.google.com
 [209.85.210.97]) by mails.dpdk.org (Postfix) with ESMTP id 797D3400D7
 for <test-report@dpdk.org>; Wed,  3 Apr 2024 06:33:33 +0200 (CEST)
Received: by mail-ot1-f97.google.com with SMTP id
 46e09a7af769-6e68a30e6a1so215314a34.1
 for <test-report@dpdk.org>; Tue, 02 Apr 2024 21:33:33 -0700 (PDT)
DKIM-Signature: v=1; a=rsa-sha256; c=relaxed/relaxed;
 d=iol.unh.edu; s=unh-iol; t=1712118813; x=1712723613; darn=dpdk.org;
 h=references:in-reply-to:cc:to:from:subject:message-id:date:from:to
 :cc:subject:date:message-id:reply-to;
 bh=xs+mZk5UlNJmh66VqXmGG684HOg7TZs8mPXiOHgy0LY=;
 b=TQn9igGYJ63wCDGCGwxp4TRmh2YfAwypCkuF28Qt8Q6MmnTNhhrlmB6ZmbGPo7IDkM
 H/GFbtdSYodBcCvyxCWyQlzy4dcozfnOnbnQat6MwMomo4OpUHu+cwnPNmBoU+Q0lXiT
 3l4PpbT7iHvd6pJdFwA8o7b8im81RVdKFG4b0=
X-Google-DKIM-Signature: v=1; a=rsa-sha256; c=relaxed/relaxed;
 d=1e100.net; s=20230601; t=1712118813; x=1712723613;
 h=references:in-reply-to:cc:to:from:subject:message-id:date
 :x-gm-message-state:from:to:cc:subject:date:message-id:reply-to;
 bh=xs+mZk5UlNJmh66VqXmGG684HOg7TZs8mPXiOHgy0LY=;
 b=MLpGz/e3VudK4yeFSoDJZYIWHJgYGopraRXmvEAXVCaDXybz+YA4Y2S9jb7F7f3iVz
 UhT7xVzdAui/UMMWBBVbJ86FRiuuyaFP49gjzu8UaCegFNSWdYQTzaipOJgNpJU/ebl6
 OWW3Iz/1OiElz5kOV5313uwlBHvwU3gztagjW07CI1KK9OdNVPgIzLumd6JaFjAS7//2
 EJqrkAb1BqaBd2fLhYIWqIigirb8oKwzzQhVDUpvBv/NAHjK88O7B/eXXEFrhfDg0N6g
 /VYmN3LyLbCff/a76xyuUlv52C95QMf3/AKrvL/VxDsDFnSoOamENma/bHM9uqSwLfFD
 JBDw==
X-Gm-Message-State: AOJu0YxQU7BCn3NthFZXn+r2nW7AecJyOO9gAH3qo/kBp/qCJ+Ii26ez
 kiEupEzMasx8KNo1TrivGgVZ+iABtCShsuedY0dN7s5CtyN2B8lBdIJhakAXH115rxj3oTWtoP6
 3eBi7vAXdTiP8KbGA9oG+hVSXKtT3M6MIWJWncx06
X-Google-Smtp-Source: AGHT+IFM0+AJsei/PPitFy3llrxMQP+PjSQdBbriH2KORsCT2T/REVoRSfnTbgwhTVBJas9i3prHG2XLcczj
X-Received: by 2002:a9d:6d19:0:b0:6e6:f8ca:2e6 with SMTP id
 o25-20020a9d6d19000000b006e6f8ca02e6mr624853otp.9.1712118812964; 
 Tue, 02 Apr 2024 21:33:32 -0700 (PDT)
Received: from postal.iol.unh.edu (postal.iol.unh.edu. [132.177.123.84])
 by smtp-relay.gmail.com with ESMTPS id
 p62-20020a4a4841000000b005a9c98d32d4sm4803ooa.16.2024.04.02.21.33.32
 (version=TLS1_2 cipher=ECDHE-ECDSA-AES128-GCM-SHA256 bits=128/128);
 Tue, 02 Apr 2024 21:33:32 -0700 (PDT)
X-Relaying-Domain: iol.unh.edu
Date: Tue, 02 Apr 2024 21:33:32 -0700 (PDT)
Message-ID: <660cdc1c.4a0a0220.5b661.03fcSMTPIN_ADDED_MISSING@mx.google.com>
Received: from [172.17.0.7] (unknown [172.18.0.217])
 by postal.iol.unh.edu (Postfix) with ESMTP id 6FA326052471;
 Wed,  3 Apr 2024 00:33:32 -0400 (EDT)
Subject: |SUCCESS| pw139035-139064 [PATCH] [v3,30/30] examples: replace use o
From: dpdklab@iol.unh.edu
To: Test Report <test-report@dpdk.org>
Cc: dpdk-test-reports@iol.unh.edu
In-Reply-To: <20240402215502.278838-31-stephen@networkplumber.org>
References: <20240402215502.278838-31-stephen@networkplumber.org>
Content-Type: text/plain
X-BeenThere: test-report@dpdk.org
X-Mailman-Version: 2.1.29
Precedence: list
List-Id: automatic DPDK test reports <test-report.dpdk.org>
List-Unsubscribe: <https://mails.dpdk.org/options/test-report>,
 <mailto:test-report-request@dpdk.org?subject=unsubscribe>
List-Archive: <http://mails.dpdk.org/archives/test-report/>
List-Post: <mailto:test-report@dpdk.org>
List-Help: <mailto:test-report-request@dpdk.org?subject=help>
List-Subscribe: <https://mails.dpdk.org/listinfo/test-report>,
 <mailto:test-report-request@dpdk.org?subject=subscribe>
Errors-To: test-report-bounces@dpdk.org

Test-Label: iol-abi-testing
Test-Status: SUCCESS
http://dpdk.org/patch/139064

_Testing PASS_

Submitter: Stephen Hemminger <stephen@networkplumber.org>
Date: Tuesday, April 02 2024 21:50:46 
DPDK git baseline: Repo:dpdk
  Branch: master
  CommitID:e2e546ab5bf5e024986ccb5310ab43982f3bb40c

139035-139064 --> testing pass

Test environment and result as below:

+------------------+----------+
|   Environment    | abi_test |
+==================+==========+
| Debian 12        | PASS     |
+------------------+----------+
| Fedora 38        | PASS     |
+------------------+----------+
| Fedora 39        | PASS     |
+------------------+----------+
| CentOS Stream 9  | PASS     |
+------------------+----------+
| Debian Bullseye  | PASS     |
+------------------+----------+
| CentOS Stream 8  | PASS     |
+------------------+----------+
| RHEL8            | PASS     |
+------------------+----------+
| Fedora 37        | PASS     |
+------------------+----------+
| Ubuntu 22.04     | PASS     |
+------------------+----------+
| openSUSE Leap 15 | PASS     |
+------------------+----------+


Debian 12
	Kernel: Container Host Kernel
	Compiler: gcc 10.2.1

Fedora 38
	Kernel: Depends on container host
	Compiler: clang 16.0.6

Fedora 39
	Kernel: Depends on container host
	Compiler: gcc 13.2.1

CentOS Stream 9
	Kernel: 5.4.0-167-generic
	Compiler: gcc 11.4.1 20230605

Debian Bullseye
	Kernel: 5.4.0-167-generic
	Compiler: gcc 10.2.1-6

CentOS Stream 8
	Kernel: 5.4.0-167-generic
	Compiler: gcc 8.5.0 20210514

RHEL8
	Kernel: 5.4.0-167-generic
	Compiler: gcc 8.5.0 20210514 (Red Hat 8.5.0-20)

Fedora 37
	Kernel: Depends on container host system
	Compiler: gcc 12.3.1

Ubuntu 22.04
	Kernel: 5.4.0-167-generic
	Compiler: gcc 11.4.0

openSUSE Leap 15
	Kernel: 5.4.0-167-generic
	Compiler: gcc 7.5.0

To view detailed results, visit:
https://lab.dpdk.org/results/dashboard/patchsets/29695/

UNH-IOL DPDK Community Lab

To manage your email subscriptions, visit: 
https://lab.dpdk.org/results/dashboard/preferences/subscriptions/