From mboxrd@z Thu Jan  1 00:00:00 1970
Return-Path: <test-report-bounces@dpdk.org>
Received: from mails.dpdk.org (mails.dpdk.org [217.70.189.124])
	by inbox.dpdk.org (Postfix) with ESMTP id 61D7643DE5
	for <public@inbox.dpdk.org>; Wed,  3 Apr 2024 10:36:09 +0200 (CEST)
Received: from mails.dpdk.org (localhost [127.0.0.1])
	by mails.dpdk.org (Postfix) with ESMTP id 5C41A402CE;
	Wed,  3 Apr 2024 10:36:09 +0200 (CEST)
Received: from mail-io1-f97.google.com (mail-io1-f97.google.com
 [209.85.166.97]) by mails.dpdk.org (Postfix) with ESMTP id D85E44025C
 for <test-report@dpdk.org>; Wed,  3 Apr 2024 10:36:07 +0200 (CEST)
Received: by mail-io1-f97.google.com with SMTP id
 ca18e2360f4ac-7d031abe8f8so27806339f.0
 for <test-report@dpdk.org>; Wed, 03 Apr 2024 01:36:07 -0700 (PDT)
DKIM-Signature: v=1; a=rsa-sha256; c=relaxed/relaxed;
 d=iol.unh.edu; s=unh-iol; t=1712133367; x=1712738167; darn=dpdk.org;
 h=references:in-reply-to:cc:to:from:subject:message-id:date:from:to
 :cc:subject:date:message-id:reply-to;
 bh=ArIyDvbweY3D3kiZKe4T7h4fgfSRFjvksHHgpSJOLYA=;
 b=DUGwcpRoUF3UCtyh/IpaKVZo06iLUC2MkO/umYmAbBcOQzyYVEQHFZ9orN4QkVeAQS
 FvHsre3dYVnTtK3uK/UVKHNpAscaycxwNYc/ROQVMXeQcUXwF4g9QhdmDy1+OKu1ESrn
 N+a9jvQ1jGDW+bcaPMQLcHdx36EMyXw86SnZo=
X-Google-DKIM-Signature: v=1; a=rsa-sha256; c=relaxed/relaxed;
 d=1e100.net; s=20230601; t=1712133367; x=1712738167;
 h=references:in-reply-to:cc:to:from:subject:message-id:date
 :x-gm-message-state:from:to:cc:subject:date:message-id:reply-to;
 bh=ArIyDvbweY3D3kiZKe4T7h4fgfSRFjvksHHgpSJOLYA=;
 b=TiBRQ3OU5m7uoaP1xRgShwJZxRkYkmtcvpykSD3sYCXmrf8RmnF+D0YDWkfYRFl3Z8
 x4M7RiG/diyPLXpTDmBhiw6rgyGMGAvasoc0c96+hjmSolVuxNACdbIeL/KlIodlqr1e
 hggFWkJhQ70Ld8Pa2Amrd0JuYqbMl7cSZvPrmnfPqC2DHUnp5tgQqdHiJh2ViJiMGtqC
 dK5LVQtvrPOQdN0U1lVRq1PLnP1CF9yBhLvFZyafNyP+b5EsoZIFo/KvI3Xt1yeDbLa0
 aNSnjhaGp8AhVYwBWgwcRDCXCZRS92KSuuDul0ZQEe09gvDUCbQfepf+ArSdcrVbWBnh
 EEUA==
X-Gm-Message-State: AOJu0YxBKROJ/OeqwkIc4XVPP9uDvsiYv4G+TzwpudOIaiE9YThsWRWz
 2NPZ3hcHuzC0pTBBpWz5ucMZJP9RxEK6+tybF0CkxZH2HkAbiDUvOtz2xzN59suhVHoAkzvqHFw
 YJaGPd3rk/fCwHQDaSOaqkuMuHuuX0Ncg614J7YMC
X-Google-Smtp-Source: AGHT+IGSJ9DxmvtOThNX6b73ZUktKXMTIKDhDxMuXwJv3/yT0uhx2QWKoeZ5vjc2a8N+4a+Kffdq2yNGL8iQ
X-Received: by 2002:a05:6602:1246:b0:7d0:d62e:8a26 with SMTP id
 o6-20020a056602124600b007d0d62e8a26mr1490494iou.4.1712133367276; 
 Wed, 03 Apr 2024 01:36:07 -0700 (PDT)
Received: from postal.iol.unh.edu (postal.iol.unh.edu. [132.177.123.84])
 by smtp-relay.gmail.com with ESMTPS id
 fh26-20020a056638629a00b0047f072567f0sm160934jab.45.2024.04.03.01.36.07
 (version=TLS1_2 cipher=ECDHE-ECDSA-AES128-GCM-SHA256 bits=128/128);
 Wed, 03 Apr 2024 01:36:07 -0700 (PDT)
X-Relaying-Domain: iol.unh.edu
Date: Wed, 03 Apr 2024 01:36:07 -0700 (PDT)
Message-ID: <660d14f7.050a0220.63cab.8eb4SMTPIN_ADDED_MISSING@mx.google.com>
Received: from [172.21.0.7] (unknown [172.18.0.240])
 by postal.iol.unh.edu (Postfix) with ESMTP id B73876052471;
 Wed,  3 Apr 2024 04:36:06 -0400 (EDT)
Subject: |SUCCESS| pw139068 [PATCH] vhost: fix crash caused by accessing a fr
From: dpdklab@iol.unh.edu
To: Test Report <test-report@dpdk.org>
Cc: dpdk-test-reports@iol.unh.edu
In-Reply-To: <TYAP286MB0649D9A112E62A15C4792253D83D2@TYAP286MB0649.JPNP286.PROD.OUTLOOK.COM>
References: <TYAP286MB0649D9A112E62A15C4792253D83D2@TYAP286MB0649.JPNP286.PROD.OUTLOOK.COM>
Content-Type: text/plain
X-BeenThere: test-report@dpdk.org
X-Mailman-Version: 2.1.29
Precedence: list
List-Id: automatic DPDK test reports <test-report.dpdk.org>
List-Unsubscribe: <https://mails.dpdk.org/options/test-report>,
 <mailto:test-report-request@dpdk.org?subject=unsubscribe>
List-Archive: <http://mails.dpdk.org/archives/test-report/>
List-Post: <mailto:test-report@dpdk.org>
List-Help: <mailto:test-report-request@dpdk.org?subject=help>
List-Subscribe: <https://mails.dpdk.org/listinfo/test-report>,
 <mailto:test-report-request@dpdk.org?subject=subscribe>
Errors-To: test-report-bounces@dpdk.org

Test-Label: iol-compile-amd64-testing
Test-Status: SUCCESS
http://dpdk.org/patch/139068

_Testing PASS_

Submitter: Gongming Chen <chengongming1900@outlook.com>
Date: Wednesday, April 03 2024 06:31:00 
DPDK git baseline: Repo:dpdk
  Branch: master
  CommitID:deedfb86a7a6e10064d3cccd593f62072de96e36

139068 --> testing pass

Test environment and result as below:

+---------------------+----------------------+--------------------+-------------------+
|     Environment     | dpdk_mingw64_compile | dpdk_meson_compile | dpdk_msvc_compile |
+=====================+======================+====================+===================+
| Windows Server 2019 | PASS                 | PASS               | SKIPPED           |
+---------------------+----------------------+--------------------+-------------------+
| Windows Server 2022 | PASS                 | PASS               | PASS              |
+---------------------+----------------------+--------------------+-------------------+
| FreeBSD 13.2        | SKIPPED              | PASS               | SKIPPED           |
+---------------------+----------------------+--------------------+-------------------+
| CentOS Stream 8     | SKIPPED              | PASS               | SKIPPED           |
+---------------------+----------------------+--------------------+-------------------+
| Debian Bullseye     | SKIPPED              | PASS               | SKIPPED           |
+---------------------+----------------------+--------------------+-------------------+
| Fedora 38           | SKIPPED              | PASS               | SKIPPED           |
+---------------------+----------------------+--------------------+-------------------+
| CentOS Stream 9     | SKIPPED              | PASS               | SKIPPED           |
+---------------------+----------------------+--------------------+-------------------+
| Fedora 37           | SKIPPED              | PASS               | SKIPPED           |
+---------------------+----------------------+--------------------+-------------------+


Windows Server 2019
	Kernel: 10.0.17763
	Compiler: clang 14.0 and gcc 8.1.0 (MinGW)

Windows Server 2022
	Kernel: 10.0.20348.2031
	Compiler: clang 15.0.7, gcc 8.1.0 (MinGW), and MSVC VS 17.9

FreeBSD 13.2
	Kernel: 13.2
	Compiler: clang 14.0.5

CentOS Stream 8
	Kernel: 5.4.0-167-generic
	Compiler: gcc 8.5.0 20210514

Debian Bullseye
	Kernel: 5.4.0-167-generic
	Compiler: gcc 10.2.1-6

Fedora 38
	Kernel: Depends on container host
	Compiler: clang 16.0.6

CentOS Stream 9
	Kernel: 5.4.0-167-generic
	Compiler: gcc 11.4.1 20230605

Fedora 37
	Kernel: Depends on container host system
	Compiler: gcc 12.3.1

To view detailed results, visit:
https://lab.dpdk.org/results/dashboard/patchsets/29699/

UNH-IOL DPDK Community Lab

To manage your email subscriptions, visit: 
https://lab.dpdk.org/results/dashboard/preferences/subscriptions/