From mboxrd@z Thu Jan  1 00:00:00 1970
Return-Path: <test-report-bounces@dpdk.org>
Received: from mails.dpdk.org (mails.dpdk.org [217.70.189.124])
	by inbox.dpdk.org (Postfix) with ESMTP id E0BB943DE5
	for <public@inbox.dpdk.org>; Wed,  3 Apr 2024 10:58:20 +0200 (CEST)
Received: from mails.dpdk.org (localhost [127.0.0.1])
	by mails.dpdk.org (Postfix) with ESMTP id DA06B402CE;
	Wed,  3 Apr 2024 10:58:20 +0200 (CEST)
Received: from mail-pf1-f226.google.com (mail-pf1-f226.google.com
 [209.85.210.226])
 by mails.dpdk.org (Postfix) with ESMTP id AC9A74025C
 for <test-report@dpdk.org>; Wed,  3 Apr 2024 10:58:19 +0200 (CEST)
Received: by mail-pf1-f226.google.com with SMTP id
 d2e1a72fcca58-6e782e955adso5873913b3a.3
 for <test-report@dpdk.org>; Wed, 03 Apr 2024 01:58:19 -0700 (PDT)
DKIM-Signature: v=1; a=rsa-sha256; c=relaxed/relaxed;
 d=iol.unh.edu; s=unh-iol; t=1712134699; x=1712739499; darn=dpdk.org;
 h=references:in-reply-to:cc:to:from:subject:message-id:date:from:to
 :cc:subject:date:message-id:reply-to;
 bh=bZNVvWpq7LYPy2uJ7QyCJnyEKKx508Cjp2RlF7aZwzo=;
 b=IHLSsGTcPXnQI3KWO1AS0nljmM9SdjiR0QZA0n3V7rPSpx/2DXx/6xgl5TRT8FZrT1
 pX6Aa9tnQmZ6rKWdg8E/aECG+b/lgby1yDQoTSDU9XfsJDsEr9OUYYJbFLCMpgru7wY9
 J6gqiAziuuVUeTgzzOm4skqOPCrpOHWkt9CgA=
X-Google-DKIM-Signature: v=1; a=rsa-sha256; c=relaxed/relaxed;
 d=1e100.net; s=20230601; t=1712134699; x=1712739499;
 h=references:in-reply-to:cc:to:from:subject:message-id:date
 :x-gm-message-state:from:to:cc:subject:date:message-id:reply-to;
 bh=bZNVvWpq7LYPy2uJ7QyCJnyEKKx508Cjp2RlF7aZwzo=;
 b=rJNgikCjpdG7Uknk5PKSHmB1BuaJLI5xTi33xQmrqpMvKc0SJfT8Kn1oeJs9ct4Tyc
 6HhjKSlUM3QplZLEV5JGMmEotwgBrTgamCXM7pXpoEaZPuW6qOsGRz2EsGKeYZcJ32d8
 NI4Fw+9lbZ7cIXdpZpwJ7LVyI6K2mMvLWDRUVfoflnqXh6qdB+wq5m3gJWixxp1BSZbm
 +Sxq9CwD+U51hGizAurY2aU6L9SO27B/bOcfxSC7D7jeZfBH2QNbWNS6wncMezV3uzgZ
 ANu/DDOEb1i82f0XRu/y3PGpkohm6DCm65yeQAvJWD6zIV4igUB/AeMUb9mcrCfq3sZ7
 mb/g==
X-Gm-Message-State: AOJu0YzHfJbD1CM9QQYKoV+xmWClLXiuUMhZ0T4JJ+Y/jYNdmzNrlekw
 O7ddzdaqJe2BCkkGSyb8FVgmZBcFOft5FILwgYqBazGBe29twqMWweaKWnnfd/fbfglW1vTln3e
 dqg48E2TQLLciesz4SKfz4hCuIYH6uDUbKLRERp9/
X-Google-Smtp-Source: AGHT+IFtA8GPy5H2b65NslDE//2zNIZa3U4PvvHPx6kaofnW88aos2mJlKBSUDKvqdLNdZzcnNL+snIWkKV+
X-Received: by 2002:a05:6a00:c8a:b0:6ea:e2d8:487 with SMTP id
 a10-20020a056a000c8a00b006eae2d80487mr2212077pfv.17.1712134698958; 
 Wed, 03 Apr 2024 01:58:18 -0700 (PDT)
Received: from postal.iol.unh.edu (postal.iol.unh.edu. [132.177.123.84])
 by smtp-relay.gmail.com with ESMTPS id
 b19-20020a639313000000b005ce6983c9b6sm413310pge.29.2024.04.03.01.58.18
 (version=TLS1_2 cipher=ECDHE-ECDSA-AES128-GCM-SHA256 bits=128/128);
 Wed, 03 Apr 2024 01:58:18 -0700 (PDT)
X-Relaying-Domain: iol.unh.edu
Date: Wed, 03 Apr 2024 01:58:18 -0700 (PDT)
Message-ID: <660d1a2a.630a0220.46ccd.7badSMTPIN_ADDED_MISSING@mx.google.com>
Received: from [172.17.0.7] (unknown [172.18.0.217])
 by postal.iol.unh.edu (Postfix) with ESMTP id 34DAB6052471;
 Wed,  3 Apr 2024 04:58:18 -0400 (EDT)
Subject: |SUCCESS| pw139068 [PATCH] vhost: fix crash caused by accessing a fr
From: dpdklab@iol.unh.edu
To: Test Report <test-report@dpdk.org>
Cc: dpdk-test-reports@iol.unh.edu
In-Reply-To: <TYAP286MB0649D9A112E62A15C4792253D83D2@TYAP286MB0649.JPNP286.PROD.OUTLOOK.COM>
References: <TYAP286MB0649D9A112E62A15C4792253D83D2@TYAP286MB0649.JPNP286.PROD.OUTLOOK.COM>
Content-Type: text/plain
X-BeenThere: test-report@dpdk.org
X-Mailman-Version: 2.1.29
Precedence: list
List-Id: automatic DPDK test reports <test-report.dpdk.org>
List-Unsubscribe: <https://mails.dpdk.org/options/test-report>,
 <mailto:test-report-request@dpdk.org?subject=unsubscribe>
List-Archive: <http://mails.dpdk.org/archives/test-report/>
List-Post: <mailto:test-report@dpdk.org>
List-Help: <mailto:test-report-request@dpdk.org?subject=help>
List-Subscribe: <https://mails.dpdk.org/listinfo/test-report>,
 <mailto:test-report-request@dpdk.org?subject=subscribe>
Errors-To: test-report-bounces@dpdk.org

Test-Label: iol-unit-arm64-testing
Test-Status: SUCCESS
http://dpdk.org/patch/139068

_Testing PASS_

Submitter: Gongming Chen <chengongming1900@outlook.com>
Date: Wednesday, April 03 2024 06:31:00 
DPDK git baseline: Repo:dpdk
  Branch: master
  CommitID:deedfb86a7a6e10064d3cccd593f62072de96e36

139068 --> testing pass

Test environment and result as below:

+-----------------------------+------------------------------+---------------------------+----------------+--------------+
|         Environment         | cryptodev_sw_snow3g_autotest | cryptodev_sw_zuc_autotest | dpdk_unit_test | lpm_autotest |
+=============================+==============================+===========================+================+==============+
| Debian 12 (arm)             | PASS                         | PASS                      | PASS           | SKIPPED      |
+-----------------------------+------------------------------+---------------------------+----------------+--------------+
| CentOS Stream 9 (ARM)       | SKIPPED                      | SKIPPED                   | PASS           | SKIPPED      |
+-----------------------------+------------------------------+---------------------------+----------------+--------------+
| Fedora 38 (ARM)             | SKIPPED                      | SKIPPED                   | PASS           | SKIPPED      |
+-----------------------------+------------------------------+---------------------------+----------------+--------------+
| Fedora 37 (ARM)             | SKIPPED                      | SKIPPED                   | PASS           | SKIPPED      |
+-----------------------------+------------------------------+---------------------------+----------------+--------------+
| 32-bit Ubuntu 20.04.4 (ARM) | SKIPPED                      | SKIPPED                   | PASS           | SKIPPED      |
+-----------------------------+------------------------------+---------------------------+----------------+--------------+
| Debian 11 (Buster) (ARM)    | SKIPPED                      | SKIPPED                   | PASS           | SKIPPED      |
+-----------------------------+------------------------------+---------------------------+----------------+--------------+
| Ubuntu 20.04 (ARM)          | SKIPPED                      | SKIPPED                   | PASS           | SKIPPED      |
+-----------------------------+------------------------------+---------------------------+----------------+--------------+
| Fedora 39 (ARM Clang)       | SKIPPED                      | SKIPPED                   | PASS           | SKIPPED      |
+-----------------------------+------------------------------+---------------------------+----------------+--------------+
| Ubuntu 20.04 ARM SVE        | SKIPPED                      | SKIPPED                   | SKIPPED        | PASS         |
+-----------------------------+------------------------------+---------------------------+----------------+--------------+


Debian 12 (arm)
	Kernel: Container Host Kernel
	Compiler: gcc 12.2.0

CentOS Stream 9 (ARM)
	Kernel: Container Host Kernel
	Compiler: gcc 11.4.1

Fedora 38 (ARM)
	Kernel: Depends on container host
	Compiler: gcc 13.2.1

Fedora 37 (ARM)
	Kernel: Depends on container host
	Compiler: gcc 12.3.1

32-bit Ubuntu 20.04.4 (ARM)
	Kernel: 5.4.0-155-generic aarch64
	Compiler: gcc 9.4

Debian 11 (Buster) (ARM)
	Kernel: Container Host Kernel
	Compiler: gcc 10.2.1

Ubuntu 20.04 (ARM)
	Kernel: Container Host Kernel
	Compiler: gcc 9.4.0

Fedora 39 (ARM Clang)
	Kernel: Depends on container host
	Compiler: clang 17.0.6

Ubuntu 20.04 ARM SVE
	Kernel: 5.4.0-167-generic
	Compiler: gcc (Ubuntu 10.5.0-1ubuntu1~20.04) 10.5.0

To view detailed results, visit:
https://lab.dpdk.org/results/dashboard/patchsets/29699/

UNH-IOL DPDK Community Lab

To manage your email subscriptions, visit: 
https://lab.dpdk.org/results/dashboard/preferences/subscriptions/