From mboxrd@z Thu Jan  1 00:00:00 1970
Return-Path: <test-report-bounces@dpdk.org>
Received: from mails.dpdk.org (mails.dpdk.org [217.70.189.124])
	by inbox.dpdk.org (Postfix) with ESMTP id DF76443DE5
	for <public@inbox.dpdk.org>; Wed,  3 Apr 2024 11:22:05 +0200 (CEST)
Received: from mails.dpdk.org (localhost [127.0.0.1])
	by mails.dpdk.org (Postfix) with ESMTP id D58E3402CE;
	Wed,  3 Apr 2024 11:22:05 +0200 (CEST)
Received: from mail-qt1-f227.google.com (mail-qt1-f227.google.com
 [209.85.160.227])
 by mails.dpdk.org (Postfix) with ESMTP id 1E50E4025C
 for <test-report@dpdk.org>; Wed,  3 Apr 2024 11:22:04 +0200 (CEST)
Received: by mail-qt1-f227.google.com with SMTP id
 d75a77b69052e-430dcd64e58so36652911cf.0
 for <test-report@dpdk.org>; Wed, 03 Apr 2024 02:22:04 -0700 (PDT)
DKIM-Signature: v=1; a=rsa-sha256; c=relaxed/relaxed;
 d=iol.unh.edu; s=unh-iol; t=1712136123; x=1712740923; darn=dpdk.org;
 h=references:in-reply-to:cc:to:from:subject:message-id:date:from:to
 :cc:subject:date:message-id:reply-to;
 bh=j5kIM1KIMrIoQ4tmkMQq1qHahm9wWNBcilfmY+kNxII=;
 b=az+hQWivx6boCkgfjdXRI7kB1Namj+An+Oi4qyk7YNobN4/68iyIunTz+qn2b8DcbQ
 BbjoF2Tr0sWmKZpso+Q4R02+6RmrK9u+RAlyk0D0iVzKVOXAlPQMBchnWVsfI0OCu6PZ
 T6x41j8ZqTUpR8b2KL+29F+NqYXxh8n4wmjVo=
X-Google-DKIM-Signature: v=1; a=rsa-sha256; c=relaxed/relaxed;
 d=1e100.net; s=20230601; t=1712136123; x=1712740923;
 h=references:in-reply-to:cc:to:from:subject:message-id:date
 :x-gm-message-state:from:to:cc:subject:date:message-id:reply-to;
 bh=j5kIM1KIMrIoQ4tmkMQq1qHahm9wWNBcilfmY+kNxII=;
 b=Yenb0n7JIeu5l/D10cVrljVZ2ZTl9xmepGvK5mGWh7g9bcynwNlUbFSI7B7MH4TMZD
 dHwC/JjzGEf2SZXXr/5q4iR7XpwojYg+Z4ndW4YjC15a8Ek3PMnkTl3+UQ+kYfvHXslj
 bXzWYgCiEYbecfOyC/Brug/4v1A9GaV52XA5s6NEaI5DmEE4DJ+0Bw+9cmltlyTg6ZBi
 lCYpcnASVoU+NkHarPg22wml/5ajjoxZOZWe4mKcqTfzj4FZi/XM2UlKkGlt5c8xH3Su
 PkDIXVmno67dX3zdDCZd4lQvkNnA/VaLsPPBTYZJsfY24OpWeVy5qsem9bf+MKpFXoJE
 K65g==
X-Gm-Message-State: AOJu0YzZPtUYiNfQka3E7pJwjwv626CfMkdAfPNDmq5q+1CNn5lMpkZq
 L8xAPCSdB7KGxcHv0B2iJgfDxz3fZQgfTdYqcgu9O9mXs70G2CF5KKt9wZAJUonNUwoHK+Z+nAP
 dbA1n5pqc4s8/HMSpsQHv2q2ccTHKY82ei5oS8FsN
X-Google-Smtp-Source: AGHT+IH6tb91oDKSNejj/kLYDQ0dxAqYEbA3qvNfMbkYTxF5CMHIscK/Wr2FXGZ237xv0dY9x5jfU7fc9yGl
X-Received: by 2002:a05:622a:49:b0:434:40e4:2fc2 with SMTP id
 y9-20020a05622a004900b0043440e42fc2mr1581691qtw.15.1712136123242; 
 Wed, 03 Apr 2024 02:22:03 -0700 (PDT)
Received: from postal.iol.unh.edu (postal.iol.unh.edu. [132.177.123.84])
 by smtp-relay.gmail.com with ESMTPS id
 hc25-20020a05622a2a1900b00430eefaf91dsm1314113qtb.4.2024.04.03.02.22.03
 (version=TLS1_2 cipher=ECDHE-ECDSA-AES128-GCM-SHA256 bits=128/128);
 Wed, 03 Apr 2024 02:22:03 -0700 (PDT)
X-Relaying-Domain: iol.unh.edu
Date: Wed, 03 Apr 2024 02:22:03 -0700 (PDT)
Message-ID: <660d1fbb.050a0220.a497d.ad09SMTPIN_ADDED_MISSING@mx.google.com>
Received: from [172.17.0.8] (unknown [172.18.0.217])
 by postal.iol.unh.edu (Postfix) with ESMTP id DF7B66052471;
 Wed,  3 Apr 2024 05:22:02 -0400 (EDT)
Subject: |SUCCESS| pw139068 [PATCH] vhost: fix crash caused by accessing a fr
From: dpdklab@iol.unh.edu
To: Test Report <test-report@dpdk.org>
Cc: dpdk-test-reports@iol.unh.edu
In-Reply-To: <TYAP286MB0649D9A112E62A15C4792253D83D2@TYAP286MB0649.JPNP286.PROD.OUTLOOK.COM>
References: <TYAP286MB0649D9A112E62A15C4792253D83D2@TYAP286MB0649.JPNP286.PROD.OUTLOOK.COM>
Content-Type: text/plain
X-BeenThere: test-report@dpdk.org
X-Mailman-Version: 2.1.29
Precedence: list
List-Id: automatic DPDK test reports <test-report.dpdk.org>
List-Unsubscribe: <https://mails.dpdk.org/options/test-report>,
 <mailto:test-report-request@dpdk.org?subject=unsubscribe>
List-Archive: <http://mails.dpdk.org/archives/test-report/>
List-Post: <mailto:test-report@dpdk.org>
List-Help: <mailto:test-report-request@dpdk.org?subject=help>
List-Subscribe: <https://mails.dpdk.org/listinfo/test-report>,
 <mailto:test-report-request@dpdk.org?subject=subscribe>
Errors-To: test-report-bounces@dpdk.org

Test-Label: iol-compile-arm64-testing
Test-Status: SUCCESS
http://dpdk.org/patch/139068

_Testing PASS_

Submitter: Gongming Chen <chengongming1900@outlook.com>
Date: Wednesday, April 03 2024 06:31:00 
DPDK git baseline: Repo:dpdk
  Branch: master
  CommitID:deedfb86a7a6e10064d3cccd593f62072de96e36

139068 --> testing pass

Test environment and result as below:

+----------------------------------------+--------------------+
|              Environment               | dpdk_meson_compile |
+========================================+====================+
| Ubuntu 20.04 ARM SVE                   | PASS               |
+----------------------------------------+--------------------+
| Debian 12 with MUSDK                   | PASS               |
+----------------------------------------+--------------------+
| Fedora 38 (ARM)                        | PASS               |
+----------------------------------------+--------------------+
| Debian 12 (arm)                        | PASS               |
+----------------------------------------+--------------------+
| Debian 11 (Buster) (ARM)               | PASS               |
+----------------------------------------+--------------------+
| Ubuntu 20.04 aarch32 GCC Cross Compile | PASS               |
+----------------------------------------+--------------------+
| Ubuntu 20.04 ARM Clang Cross Compile   | PASS               |
+----------------------------------------+--------------------+
| CentOS Stream 9 (ARM)                  | PASS               |
+----------------------------------------+--------------------+
| Fedora 39 (ARM Clang)                  | PASS               |
+----------------------------------------+--------------------+


Ubuntu 20.04 ARM SVE
	Kernel: 5.4.0-167-generic
	Compiler: gcc (Ubuntu 10.5.0-1ubuntu1~20.04) 10.5.0

Debian 12 with MUSDK
	Kernel: Container Host Kernel
	Compiler: gcc 12.2.0

Fedora 38 (ARM)
	Kernel: Depends on container host
	Compiler: gcc 13.2.1

Debian 12 (arm)
	Kernel: Container Host Kernel
	Compiler: gcc 12.2.0

Debian 11 (Buster) (ARM)
	Kernel: Container Host Kernel
	Compiler: gcc 10.2.1

Ubuntu 20.04 aarch32 GCC Cross Compile
	Kernel: 5.4.0-167-generic
	Compiler: gcc 9.4.0

Ubuntu 20.04 ARM Clang Cross Compile
	Kernel: 5.4.0-72-generic
	Compiler: clang 10.0.0-4ubuntu1

CentOS Stream 9 (ARM)
	Kernel: Container Host Kernel
	Compiler: gcc 11.4.1

Fedora 39 (ARM Clang)
	Kernel: Depends on container host
	Compiler: clang 17.0.6

To view detailed results, visit:
https://lab.dpdk.org/results/dashboard/patchsets/29699/

UNH-IOL DPDK Community Lab

To manage your email subscriptions, visit: 
https://lab.dpdk.org/results/dashboard/preferences/subscriptions/