From mboxrd@z Thu Jan  1 00:00:00 1970
Return-Path: <test-report-bounces@dpdk.org>
Received: from mails.dpdk.org (mails.dpdk.org [217.70.189.124])
	by inbox.dpdk.org (Postfix) with ESMTP id 0208C43DE7
	for <public@inbox.dpdk.org>; Wed,  3 Apr 2024 12:13:00 +0200 (CEST)
Received: from mails.dpdk.org (localhost [127.0.0.1])
	by mails.dpdk.org (Postfix) with ESMTP id F26A7402CE;
	Wed,  3 Apr 2024 12:12:59 +0200 (CEST)
Received: from mail-pf1-f227.google.com (mail-pf1-f227.google.com
 [209.85.210.227])
 by mails.dpdk.org (Postfix) with ESMTP id D5D844025C
 for <test-report@dpdk.org>; Wed,  3 Apr 2024 12:12:58 +0200 (CEST)
Received: by mail-pf1-f227.google.com with SMTP id
 d2e1a72fcca58-6e6afb754fcso5879941b3a.3
 for <test-report@dpdk.org>; Wed, 03 Apr 2024 03:12:58 -0700 (PDT)
DKIM-Signature: v=1; a=rsa-sha256; c=relaxed/relaxed;
 d=iol.unh.edu; s=unh-iol; t=1712139178; x=1712743978; darn=dpdk.org;
 h=references:in-reply-to:cc:to:from:subject:message-id:date:from:to
 :cc:subject:date:message-id:reply-to;
 bh=LOaLK1LGlk3uBTJ0FDYY0iPTYNiaC++afD2THGfaHig=;
 b=POvJ2tb+hQQ8m9pBHwz26trwiiUyQgOfRLwAA6b9TYGHNWumY/zpsFO3JPGhXXkiEF
 2BsA3QchhdX961tRVwm1cn8cRoiGJGwWLphZvpigTvls6FjhZD/Ih8wApWXlOnnTuMZe
 qKGbMHSw3mWHT5pjnKrVuGZzifNjI9RTflQCI=
X-Google-DKIM-Signature: v=1; a=rsa-sha256; c=relaxed/relaxed;
 d=1e100.net; s=20230601; t=1712139178; x=1712743978;
 h=references:in-reply-to:cc:to:from:subject:message-id:date
 :x-gm-message-state:from:to:cc:subject:date:message-id:reply-to;
 bh=LOaLK1LGlk3uBTJ0FDYY0iPTYNiaC++afD2THGfaHig=;
 b=wXt1rqWnn7+ITvpbrbEOxE8vGtHKNoCsOrzWo1UrdxyIH9xdpGNQ+CrAgnDP0kUzVz
 zJDdp4DYt2/yCJrhHnQAjD4qnqbF5uORp436uyzP6BSRDfstb2Af1bz2O3yMm9BDn/9u
 tOEn22ruL9HYISRS7nUOxbCb+kUIz0hiAu/DmLy70g4fIty3CsylfSg9OQ3k9F+bCIGa
 HH+umk4YOWsP1m4vxMxyOCUdtxwBwIMSAF16l+GjSYUUKwzsz3dbhqsHf0fTzyp8BGOF
 y+KUF83q9QGpTYbTET8EmgO1OTNWOYOl7X10z/R6ZluBQQAjfellvs1UKfvfbz9XMY0s
 e7jg==
X-Gm-Message-State: AOJu0YzQd5OdtjM/Hfw6EG4omq3hUqmAUv4p9O6CbFjpoZfL3OaFi5gA
 lGr4/ySMrO8tfN9c9rqneLl0zRGI+1IOzBm77IKpWdOxuZEW2fdzc3IBGL1ZQB0wFsgqFC2pq/M
 VHcYi/MOGW15sY58h101/ZdFpnqAid1ZdqYLHd54O
X-Google-Smtp-Source: AGHT+IFsVYhKjY/5pwResHoM6E9hyz0oIJtnT0NryVikqGx6hdDEbJzjuKFcVMAwCZZqKmEfEdvJ0cUpu9fK
X-Received: by 2002:a05:6a20:7fa8:b0:1a3:c3e0:518c with SMTP id
 d40-20020a056a207fa800b001a3c3e0518cmr18309921pzj.52.1712139178079; 
 Wed, 03 Apr 2024 03:12:58 -0700 (PDT)
Received: from postal.iol.unh.edu (postal.iol.unh.edu. [132.177.123.84])
 by smtp-relay.gmail.com with ESMTPS id
 o6-20020a17090a420600b0029bc57871e4sm995459pjg.1.2024.04.03.03.12.57
 (version=TLS1_2 cipher=ECDHE-ECDSA-AES128-GCM-SHA256 bits=128/128);
 Wed, 03 Apr 2024 03:12:58 -0700 (PDT)
X-Relaying-Domain: iol.unh.edu
Date: Wed, 03 Apr 2024 03:12:58 -0700 (PDT)
Message-ID: <660d2baa.170a0220.3db0c.74cdSMTPIN_ADDED_MISSING@mx.google.com>
Received: from [172.21.0.6] (unknown [172.18.0.240])
 by postal.iol.unh.edu (Postfix) with ESMTP id 7A96A6052471;
 Wed,  3 Apr 2024 06:12:56 -0400 (EDT)
Subject: |SUCCESS| pw139069-139073 [PATCH] [v2,5/5] vhost: manage FD with epo
From: dpdklab@iol.unh.edu
To: Test Report <test-report@dpdk.org>
Cc: Maxime Coquelin <maxime.coquelin@redhat.com>
In-Reply-To: <20240403092448.1361820-6-maxime.coquelin@redhat.com>
References: <20240403092448.1361820-6-maxime.coquelin@redhat.com>
Content-Type: text/plain
X-BeenThere: test-report@dpdk.org
X-Mailman-Version: 2.1.29
Precedence: list
List-Id: automatic DPDK test reports <test-report.dpdk.org>
List-Unsubscribe: <https://mails.dpdk.org/options/test-report>,
 <mailto:test-report-request@dpdk.org?subject=unsubscribe>
List-Archive: <http://mails.dpdk.org/archives/test-report/>
List-Post: <mailto:test-report@dpdk.org>
List-Help: <mailto:test-report-request@dpdk.org?subject=help>
List-Subscribe: <https://mails.dpdk.org/listinfo/test-report>,
 <mailto:test-report-request@dpdk.org?subject=subscribe>
Errors-To: test-report-bounces@dpdk.org

Test-Label: iol-unit-amd64-testing
Test-Status: SUCCESS
http://dpdk.org/patch/139073

_Testing PASS_

Submitter: Maxime Coquelin <maxime.coquelin@redhat.com>
Date: Wednesday, April 03 2024 09:24:48 
DPDK git baseline: Repo:dpdk
  Branch: master
  CommitID:deedfb86a7a6e10064d3cccd593f62072de96e36

139069-139073 --> testing pass

Test environment and result as below:

+-----------------+----------------+
|   Environment   | dpdk_unit_test |
+=================+================+
| CentOS Stream 8 | PASS           |
+-----------------+----------------+
| CentOS Stream 9 | PASS           |
+-----------------+----------------+
| Debian Bullseye | PASS           |
+-----------------+----------------+


CentOS Stream 8
	Kernel: 5.4.0-167-generic
	Compiler: gcc 8.5.0 20210514

CentOS Stream 9
	Kernel: 5.4.0-167-generic
	Compiler: gcc 11.4.1 20230605

Debian Bullseye
	Kernel: 5.4.0-167-generic
	Compiler: gcc 10.2.1-6

To view detailed results, visit:
https://lab.dpdk.org/results/dashboard/patchsets/29700/

UNH-IOL DPDK Community Lab

To manage your email subscriptions, visit: 
https://lab.dpdk.org/results/dashboard/preferences/subscriptions/