From mboxrd@z Thu Jan  1 00:00:00 1970
Return-Path: <test-report-bounces@dpdk.org>
Received: from mails.dpdk.org (mails.dpdk.org [217.70.189.124])
	by inbox.dpdk.org (Postfix) with ESMTP id 889CD43DE7
	for <public@inbox.dpdk.org>; Wed,  3 Apr 2024 12:15:07 +0200 (CEST)
Received: from mails.dpdk.org (localhost [127.0.0.1])
	by mails.dpdk.org (Postfix) with ESMTP id 84CE8402CE;
	Wed,  3 Apr 2024 12:15:07 +0200 (CEST)
Received: from mail-pf1-f225.google.com (mail-pf1-f225.google.com
 [209.85.210.225])
 by mails.dpdk.org (Postfix) with ESMTP id 371904025C
 for <test-report@dpdk.org>; Wed,  3 Apr 2024 12:15:06 +0200 (CEST)
Received: by mail-pf1-f225.google.com with SMTP id
 d2e1a72fcca58-6e6ca2ac094so5714200b3a.0
 for <test-report@dpdk.org>; Wed, 03 Apr 2024 03:15:06 -0700 (PDT)
DKIM-Signature: v=1; a=rsa-sha256; c=relaxed/relaxed;
 d=iol.unh.edu; s=unh-iol; t=1712139305; x=1712744105; darn=dpdk.org;
 h=references:in-reply-to:cc:to:from:subject:message-id:date:from:to
 :cc:subject:date:message-id:reply-to;
 bh=3BZ0tCGxvqDPOBCxmgm8dCPRgQoKgITmWBKvIjgfaKM=;
 b=e2AlfOL/QCV7Wpc4wtYbTaiur+rXHBkrYk0mIXN/dn/WfmSpyKT3Lrtyl9zV1hMhTJ
 IGxrl7cNvEKocg65O+dd+66F36OnVdLyj6zhCzTrJOfBRNDF6//NG93yovaAcytm4h1U
 vDASyd4WC0ot1ITdYIAk40YbmAG/NPf0dPODY=
X-Google-DKIM-Signature: v=1; a=rsa-sha256; c=relaxed/relaxed;
 d=1e100.net; s=20230601; t=1712139305; x=1712744105;
 h=references:in-reply-to:cc:to:from:subject:message-id:date
 :x-gm-message-state:from:to:cc:subject:date:message-id:reply-to;
 bh=3BZ0tCGxvqDPOBCxmgm8dCPRgQoKgITmWBKvIjgfaKM=;
 b=tz5H9kGPNAZPAH6eI3Q0/dQOsI2TGs6NcNNY8P1774oLSTrVRmKQBZbZpkmmV4g803
 B/ahKPfTMniJT76mF2haqf4WSodVt00vIC3CPp6uD/J7Ct1YTu/m6nQKKiYnIy8Zf2Uz
 GrwmZ4NgNH/A1/yplZTtu6sz5OB+KLG9OZjAaNoyFYDhnBkTflAbrnrIOSDo5fFBSOuo
 Q8+aeIn13BmfBRFAOPuo42wGoO2ofF5uY3QDC7z9HdNlevXIFMxAZ4xOBt/3kt8dL43v
 z4QXqQ4hKAeoIA5VufF69L1c80YxUZizv9RZCSBHUgfr66EXlNk/0/lqHttZAfF99r8A
 NcjQ==
X-Gm-Message-State: AOJu0YwXybZajdxL4sbdC373h+zjJ79fn0lCEB7/ptde7ueH6ccB1462
 SCsoxkf7A1I1MTQomlu/4WMHuXIZyZEbBztDt6/e52bH6cgoXA9l63bjAU5tZ4nNrZIrKUjAftD
 8NZEDdDD5y0cCLne1w9pqkhh1R1tmLNjxytLLnXRNO6BzZDjsKmVSsebY
X-Google-Smtp-Source: AGHT+IHZUhep3AtmLiLewXH8wyvMk8F/RqAh+1nOC5D24hDFvESQKTE8Sexm14RGO7Ue4hsJzsIYb7gT/o2W
X-Received: by 2002:a05:6a00:1d24:b0:6eb:1ea:52ed with SMTP id
 a36-20020a056a001d2400b006eb01ea52edmr9915305pfx.1.1712139305431; 
 Wed, 03 Apr 2024 03:15:05 -0700 (PDT)
Received: from postal.iol.unh.edu (postal.iol.unh.edu.
 [2606:4100:3880:1234::84]) by smtp-relay.gmail.com with ESMTPS id
 z4-20020a626504000000b006eab82d6163sm1525595pfb.19.2024.04.03.03.15.05
 (version=TLS1_2 cipher=ECDHE-ECDSA-AES128-GCM-SHA256 bits=128/128);
 Wed, 03 Apr 2024 03:15:05 -0700 (PDT)
X-Relaying-Domain: iol.unh.edu
Date: Wed, 03 Apr 2024 03:15:05 -0700 (PDT)
Message-ID: <660d2c29.620a0220.82aed.656bSMTPIN_ADDED_MISSING@mx.google.com>
Received: from [172.21.0.7] (unknown [172.18.0.240])
 by postal.iol.unh.edu (Postfix) with ESMTP id 8A5BC6052471;
 Wed,  3 Apr 2024 06:15:04 -0400 (EDT)
Subject: |SUCCESS| pw139069-139073 [PATCH] [v2,5/5] vhost: manage FD with epo
From: dpdklab@iol.unh.edu
To: Test Report <test-report@dpdk.org>
Cc: dpdk-test-reports@iol.unh.edu
In-Reply-To: <20240403092448.1361820-6-maxime.coquelin@redhat.com>
References: <20240403092448.1361820-6-maxime.coquelin@redhat.com>
Content-Type: text/plain
X-BeenThere: test-report@dpdk.org
X-Mailman-Version: 2.1.29
Precedence: list
List-Id: automatic DPDK test reports <test-report.dpdk.org>
List-Unsubscribe: <https://mails.dpdk.org/options/test-report>,
 <mailto:test-report-request@dpdk.org?subject=unsubscribe>
List-Archive: <http://mails.dpdk.org/archives/test-report/>
List-Post: <mailto:test-report@dpdk.org>
List-Help: <mailto:test-report-request@dpdk.org?subject=help>
List-Subscribe: <https://mails.dpdk.org/listinfo/test-report>,
 <mailto:test-report-request@dpdk.org?subject=subscribe>
Errors-To: test-report-bounces@dpdk.org

Test-Label: iol-unit-arm64-testing
Test-Status: SUCCESS
http://dpdk.org/patch/139073

_Testing PASS_

Submitter: Maxime Coquelin <maxime.coquelin@redhat.com>
Date: Wednesday, April 03 2024 09:24:48 
DPDK git baseline: Repo:dpdk
  Branch: master
  CommitID:deedfb86a7a6e10064d3cccd593f62072de96e36

139069-139073 --> testing pass

Test environment and result as below:

+--------------------------+----------------+------------------------------+
|       Environment        | dpdk_unit_test | cryptodev_sw_snow3g_autotest |
+==========================+================+==============================+
| Debian 11 (Buster) (ARM) | PASS           | SKIPPED                      |
+--------------------------+----------------+------------------------------+
| Fedora 37 (ARM)          | PASS           | SKIPPED                      |
+--------------------------+----------------+------------------------------+
| CentOS Stream 9 (ARM)    | PASS           | SKIPPED                      |
+--------------------------+----------------+------------------------------+
| Fedora 38 (ARM)          | PASS           | SKIPPED                      |
+--------------------------+----------------+------------------------------+
| Fedora 39 (ARM)          | PASS           | SKIPPED                      |
+--------------------------+----------------+------------------------------+
| Debian 12 (arm)          | SKIPPED        | PASS                         |
+--------------------------+----------------+------------------------------+


Debian 11 (Buster) (ARM)
	Kernel: Container Host Kernel
	Compiler: gcc 10.2.1

Fedora 37 (ARM)
	Kernel: Depends on container host
	Compiler: gcc 12.3.1

CentOS Stream 9 (ARM)
	Kernel: Container Host Kernel
	Compiler: gcc 11.4.1

Fedora 38 (ARM)
	Kernel: Depends on container host
	Compiler: gcc 13.2.1

Fedora 39 (ARM)
	Kernel: Depends on container host
	Compiler: gcc 13.2.1

Debian 12 (arm)
	Kernel: Container Host Kernel
	Compiler: gcc 12.2.0

To view detailed results, visit:
https://lab.dpdk.org/results/dashboard/patchsets/29700/

UNH-IOL DPDK Community Lab

To manage your email subscriptions, visit: 
https://lab.dpdk.org/results/dashboard/preferences/subscriptions/