From mboxrd@z Thu Jan  1 00:00:00 1970
Return-Path: <test-report-bounces@dpdk.org>
Received: from mails.dpdk.org (mails.dpdk.org [217.70.189.124])
	by inbox.dpdk.org (Postfix) with ESMTP id 9D88543DE7
	for <public@inbox.dpdk.org>; Wed,  3 Apr 2024 12:18:22 +0200 (CEST)
Received: from mails.dpdk.org (localhost [127.0.0.1])
	by mails.dpdk.org (Postfix) with ESMTP id 9020D40649;
	Wed,  3 Apr 2024 12:18:22 +0200 (CEST)
Received: from mail-qv1-f98.google.com (mail-qv1-f98.google.com
 [209.85.219.98]) by mails.dpdk.org (Postfix) with ESMTP id 0B9584025C
 for <test-report@dpdk.org>; Wed,  3 Apr 2024 12:18:21 +0200 (CEST)
Received: by mail-qv1-f98.google.com with SMTP id
 6a1803df08f44-6992c96e405so250136d6.3
 for <test-report@dpdk.org>; Wed, 03 Apr 2024 03:18:20 -0700 (PDT)
DKIM-Signature: v=1; a=rsa-sha256; c=relaxed/relaxed;
 d=iol.unh.edu; s=unh-iol; t=1712139500; x=1712744300; darn=dpdk.org;
 h=references:in-reply-to:cc:to:from:subject:message-id:date:from:to
 :cc:subject:date:message-id:reply-to;
 bh=R2CyuLkd9chpaI0C2v85JRU3SpzW33G2/qpAXclfJ3I=;
 b=Wr2sKzkb2QHWlJh1gqAXcemAs5iNpCV73nK8bhWzL3EYkoXqnvT2TZpbbYzpPMWFb8
 wcRtGDT63sLoKQ/jZOM6pUF41koNmp1QhpWVDKbeO9OIjac/raIBFD6dWUgjOARYOARY
 aTqbMyN/ljURb9yKlQQvpZvm/3PjArxDEGxds=
X-Google-DKIM-Signature: v=1; a=rsa-sha256; c=relaxed/relaxed;
 d=1e100.net; s=20230601; t=1712139500; x=1712744300;
 h=references:in-reply-to:cc:to:from:subject:message-id:date
 :x-gm-message-state:from:to:cc:subject:date:message-id:reply-to;
 bh=R2CyuLkd9chpaI0C2v85JRU3SpzW33G2/qpAXclfJ3I=;
 b=OYTZ508IaQx+KiCliHXTsSTRTP83Fsvx9Xx4YxgI5idCkZc1xYFB8wrf8n0AAdEZfi
 TikOdESV9p/qJhomDy47lOefHeuYxWKjJZnWe0yJXkubekTw5BFV99+rOTtR5JVv7nSH
 vSYhfDi7FDsrYvF9a/9CiYVF1rF6QtPVx/YQB5OiaZxWL9zt7GClORkOKDeXLEyQQuJ3
 /RzvTIYQLt+vkgvkDw3iQSB8mbpvJ/H08LqwWDlatjhKW9fKN/CpLrOMbtSWSJbq5GvG
 gdgOU7ZRs//bPgcuF7vA9ar/1DjoJC+sa6eWLCwfgL+CSsZ9E/mbZXDFpXBsHKEP96D2
 +P6w==
X-Gm-Message-State: AOJu0YxCXSzsKmIZ8fKyv4R/VbViebhOxpFBkPiGWlGJBktptyrbr3GI
 kz3nKHKVPPHUa0mMuUkg8pq3yVB5UCRk8wMe+u3ZKxZJc2n+3hcpeLvp07UJ96BDP32b80Bb6F0
 m6fyxufw/SIDlT905+NOAqgJtHkBEm0rark4hDgUo
X-Google-Smtp-Source: AGHT+IFILOPLSvncMVqNkVmyvqGaL0bGYr+aqd9gBZvCFHMXCcppOscwv5Ooc+QZrkmiupLYSQlULmVnF0Kr
X-Received: by 2002:a05:6214:886:b0:696:7ba4:260 with SMTP id
 cz6-20020a056214088600b006967ba40260mr16233765qvb.35.1712139500434; 
 Wed, 03 Apr 2024 03:18:20 -0700 (PDT)
Received: from postal.iol.unh.edu (postal.iol.unh.edu. [132.177.123.84])
 by smtp-relay.gmail.com with ESMTPS id
 e9-20020a0562140d8900b00699299dac50sm44505qve.23.2024.04.03.03.18.20
 (version=TLS1_2 cipher=ECDHE-ECDSA-AES128-GCM-SHA256 bits=128/128);
 Wed, 03 Apr 2024 03:18:20 -0700 (PDT)
X-Relaying-Domain: iol.unh.edu
Date: Wed, 03 Apr 2024 03:18:20 -0700 (PDT)
Message-ID: <660d2cec.050a0220.e888b.31b9SMTPIN_ADDED_MISSING@mx.google.com>
Received: from [172.21.0.6] (unknown [172.18.0.240])
 by postal.iol.unh.edu (Postfix) with ESMTP id 0AC9D6052471;
 Wed,  3 Apr 2024 06:18:20 -0400 (EDT)
Subject: |SUCCESS| pw139069-139073 [PATCH] [v2,5/5] vhost: manage FD with epo
From: dpdklab@iol.unh.edu
To: Test Report <test-report@dpdk.org>
Cc: dpdk-test-reports@iol.unh.edu
In-Reply-To: <20240403092448.1361820-6-maxime.coquelin@redhat.com>
References: <20240403092448.1361820-6-maxime.coquelin@redhat.com>
Content-Type: text/plain
X-BeenThere: test-report@dpdk.org
X-Mailman-Version: 2.1.29
Precedence: list
List-Id: automatic DPDK test reports <test-report.dpdk.org>
List-Unsubscribe: <https://mails.dpdk.org/options/test-report>,
 <mailto:test-report-request@dpdk.org?subject=unsubscribe>
List-Archive: <http://mails.dpdk.org/archives/test-report/>
List-Post: <mailto:test-report@dpdk.org>
List-Help: <mailto:test-report-request@dpdk.org?subject=help>
List-Subscribe: <https://mails.dpdk.org/listinfo/test-report>,
 <mailto:test-report-request@dpdk.org?subject=subscribe>
Errors-To: test-report-bounces@dpdk.org

Test-Label: iol-compile-amd64-testing
Test-Status: SUCCESS
http://dpdk.org/patch/139073

_Testing PASS_

Submitter: Maxime Coquelin <maxime.coquelin@redhat.com>
Date: Wednesday, April 03 2024 09:24:48 
DPDK git baseline: Repo:dpdk
  Branch: master
  CommitID:deedfb86a7a6e10064d3cccd593f62072de96e36

139069-139073 --> testing pass

Test environment and result as below:

+---------------------+--------------------+----------------------+-------------------+
|     Environment     | dpdk_meson_compile | dpdk_mingw64_compile | dpdk_msvc_compile |
+=====================+====================+======================+===================+
| CentOS Stream 8     | PASS               | SKIPPED              | SKIPPED           |
+---------------------+--------------------+----------------------+-------------------+
| CentOS Stream 9     | PASS               | SKIPPED              | SKIPPED           |
+---------------------+--------------------+----------------------+-------------------+
| Debian Bullseye     | PASS               | SKIPPED              | SKIPPED           |
+---------------------+--------------------+----------------------+-------------------+
| Fedora 37           | PASS               | SKIPPED              | SKIPPED           |
+---------------------+--------------------+----------------------+-------------------+
| Windows Server 2019 | PASS               | PASS                 | SKIPPED           |
+---------------------+--------------------+----------------------+-------------------+
| FreeBSD 13.2        | PASS               | SKIPPED              | SKIPPED           |
+---------------------+--------------------+----------------------+-------------------+
| Windows Server 2022 | PASS               | PASS                 | PASS              |
+---------------------+--------------------+----------------------+-------------------+
| Debian 12           | PASS               | SKIPPED              | SKIPPED           |
+---------------------+--------------------+----------------------+-------------------+


CentOS Stream 8
	Kernel: 5.4.0-167-generic
	Compiler: gcc 8.5.0 20210514

CentOS Stream 9
	Kernel: 5.4.0-167-generic
	Compiler: gcc 11.4.1 20230605

Debian Bullseye
	Kernel: 5.4.0-167-generic
	Compiler: gcc 10.2.1-6

Fedora 37
	Kernel: Depends on container host system
	Compiler: gcc 12.3.1

Windows Server 2019
	Kernel: 10.0.17763
	Compiler: clang 14.0 and gcc 8.1.0 (MinGW)

FreeBSD 13.2
	Kernel: 13.2
	Compiler: clang 14.0.5

Windows Server 2022
	Kernel: 10.0.20348.2031
	Compiler: clang 15.0.7, gcc 8.1.0 (MinGW), and MSVC VS 17.9

Debian 12
	Kernel: Container Host Kernel
	Compiler: gcc 10.2.1

To view detailed results, visit:
https://lab.dpdk.org/results/dashboard/patchsets/29700/

UNH-IOL DPDK Community Lab

To manage your email subscriptions, visit: 
https://lab.dpdk.org/results/dashboard/preferences/subscriptions/