From mboxrd@z Thu Jan  1 00:00:00 1970
Return-Path: <test-report-bounces@dpdk.org>
Received: from mails.dpdk.org (mails.dpdk.org [217.70.189.124])
	by inbox.dpdk.org (Postfix) with ESMTP id B935243DE7
	for <public@inbox.dpdk.org>; Wed,  3 Apr 2024 12:23:39 +0200 (CEST)
Received: from mails.dpdk.org (localhost [127.0.0.1])
	by mails.dpdk.org (Postfix) with ESMTP id B5BF3402CE;
	Wed,  3 Apr 2024 12:23:39 +0200 (CEST)
Received: from mail-qt1-f228.google.com (mail-qt1-f228.google.com
 [209.85.160.228])
 by mails.dpdk.org (Postfix) with ESMTP id 353CE4025C
 for <test-report@dpdk.org>; Wed,  3 Apr 2024 12:23:38 +0200 (CEST)
Received: by mail-qt1-f228.google.com with SMTP id
 d75a77b69052e-42f2d02fbdeso24218931cf.1
 for <test-report@dpdk.org>; Wed, 03 Apr 2024 03:23:38 -0700 (PDT)
DKIM-Signature: v=1; a=rsa-sha256; c=relaxed/relaxed;
 d=iol.unh.edu; s=unh-iol; t=1712139817; x=1712744617; darn=dpdk.org;
 h=references:in-reply-to:cc:to:from:subject:message-id:date:from:to
 :cc:subject:date:message-id:reply-to;
 bh=lbKmMoBGb+T6cdd02m/+OtBe7gObsdwtlF978TrPpc4=;
 b=MSjzq6mbehd5yn2ngqpHKtzWwWdsMB8h/HuqvGyBfsEIjI4KujqwlvWkDx5B7oXmbI
 Buqg/TnY5YYyLeAk3H0JhMwrZaeCGkzVSkT0WFMGIEqndDmzXOtz6cTDaTFl6YyMqcVj
 60LRnJePBPRQmaJH1jQCoL/poD+HeLwE8zh4g=
X-Google-DKIM-Signature: v=1; a=rsa-sha256; c=relaxed/relaxed;
 d=1e100.net; s=20230601; t=1712139817; x=1712744617;
 h=references:in-reply-to:cc:to:from:subject:message-id:date
 :x-gm-message-state:from:to:cc:subject:date:message-id:reply-to;
 bh=lbKmMoBGb+T6cdd02m/+OtBe7gObsdwtlF978TrPpc4=;
 b=cVu64FcsIEX6HdpLok1oYHJq4mMSVC5aPSd8MR8KwLCbzfL/H+FF+L5YNJ45YWahk8
 V0STqyQi55ndbGyCpFMFNmwCGxJ4vLjE5BhE/Ex/gS+WxdQM2HySyRWkvwTa23m50Do5
 Qsh+S5rNq5aURHQxPLcMpEbh1Wu1RtHKe8I/ocoEGpgJvW2qfqWlR94om8Tlo+atOBnY
 hn22Aem4MtIgCsj9S2Jjjt5XaA5vhcBVH+65PDZbBQ48pLT2RZIAwdqgLPey2LG0ynon
 aQMMrWwPTYFwcqYKEovnKEHPgJNTnopAVCwV7vTPGfb/Yh5hYbL+hikuQLu5Ht3ewUgX
 joZA==
X-Gm-Message-State: AOJu0YwJGGgTSOu9Ij5serBdJtDtrvCAtC+E+W1eb5/axPBl5Vu0YvzH
 eBvN64V0MNGmsCT5eAJUNzakEyiqj5ovo7Y4qpsivWJUHVLPZ87E8N+e0l9qSE8Ux23df2rtDw9
 gWu9HvGo3IG//OvbMuecdagdAyXzngAEqmkQA9iUUfo8XReeGVEn/ubfX
X-Google-Smtp-Source: AGHT+IF8HAlJACGUM/MoRyavMNb6Zb3hOLI/XA6JuF3if0OSnyNS19R9GdaXzn/A9Z+ZLSCMgRqGxafZkg2a
X-Received: by 2002:a05:6214:2a49:b0:690:a66b:268e with SMTP id
 jf9-20020a0562142a4900b00690a66b268emr19604614qvb.57.1712139817609; 
 Wed, 03 Apr 2024 03:23:37 -0700 (PDT)
Received: from postal.iol.unh.edu (postal.iol.unh.edu.
 [2606:4100:3880:1234::84]) by smtp-relay.gmail.com with ESMTPS id
 r5-20020a056214212500b0069696dbd1aesm1108059qvc.56.2024.04.03.03.23.37
 (version=TLS1_2 cipher=ECDHE-ECDSA-AES128-GCM-SHA256 bits=128/128);
 Wed, 03 Apr 2024 03:23:37 -0700 (PDT)
X-Relaying-Domain: iol.unh.edu
Date: Wed, 03 Apr 2024 03:23:37 -0700 (PDT)
Message-ID: <660d2e29.050a0220.3e92b.1c36SMTPIN_ADDED_MISSING@mx.google.com>
Received: from [172.21.0.6] (unknown [172.18.0.240])
 by postal.iol.unh.edu (Postfix) with ESMTP id 523BD6052471;
 Wed,  3 Apr 2024 06:23:37 -0400 (EDT)
Subject: |SUCCESS| pw139069-139073 [PATCH] [v2,5/5] vhost: manage FD with epo
From: dpdklab@iol.unh.edu
To: Test Report <test-report@dpdk.org>
Cc: dpdk-test-reports@iol.unh.edu
In-Reply-To: <20240403092448.1361820-6-maxime.coquelin@redhat.com>
References: <20240403092448.1361820-6-maxime.coquelin@redhat.com>
Content-Type: text/plain
X-BeenThere: test-report@dpdk.org
X-Mailman-Version: 2.1.29
Precedence: list
List-Id: automatic DPDK test reports <test-report.dpdk.org>
List-Unsubscribe: <https://mails.dpdk.org/options/test-report>,
 <mailto:test-report-request@dpdk.org?subject=unsubscribe>
List-Archive: <http://mails.dpdk.org/archives/test-report/>
List-Post: <mailto:test-report@dpdk.org>
List-Help: <mailto:test-report-request@dpdk.org?subject=help>
List-Subscribe: <https://mails.dpdk.org/listinfo/test-report>,
 <mailto:test-report-request@dpdk.org?subject=subscribe>
Errors-To: test-report-bounces@dpdk.org

Test-Label: iol-compile-arm64-testing
Test-Status: SUCCESS
http://dpdk.org/patch/139073

_Testing PASS_

Submitter: Maxime Coquelin <maxime.coquelin@redhat.com>
Date: Wednesday, April 03 2024 09:24:48 
DPDK git baseline: Repo:dpdk
  Branch: master
  CommitID:deedfb86a7a6e10064d3cccd593f62072de96e36

139069-139073 --> testing pass

Test environment and result as below:

+-----------------------+--------------------+
|      Environment      | dpdk_meson_compile |
+=======================+====================+
| Ubuntu 20.04 ARM SVE  | PASS               |
+-----------------------+--------------------+
| Debian 12 with MUSDK  | PASS               |
+-----------------------+--------------------+
| Fedora 37 (ARM)       | PASS               |
+-----------------------+--------------------+
| Fedora 38 (ARM)       | PASS               |
+-----------------------+--------------------+
| CentOS Stream 9 (ARM) | PASS               |
+-----------------------+--------------------+
| Fedora 39 (ARM)       | PASS               |
+-----------------------+--------------------+
| Debian 12 (arm)       | PASS               |
+-----------------------+--------------------+
| Ubuntu 20.04 (ARM)    | PASS               |
+-----------------------+--------------------+


Ubuntu 20.04 ARM SVE
	Kernel: 5.4.0-167-generic
	Compiler: gcc (Ubuntu 10.5.0-1ubuntu1~20.04) 10.5.0

Debian 12 with MUSDK
	Kernel: Container Host Kernel
	Compiler: gcc 12.2.0

Fedora 37 (ARM)
	Kernel: Depends on container host
	Compiler: gcc 12.3.1

Fedora 38 (ARM)
	Kernel: Depends on container host
	Compiler: gcc 13.2.1

CentOS Stream 9 (ARM)
	Kernel: Container Host Kernel
	Compiler: gcc 11.4.1

Fedora 39 (ARM)
	Kernel: Depends on container host
	Compiler: gcc 13.2.1

Debian 12 (arm)
	Kernel: Container Host Kernel
	Compiler: gcc 12.2.0

Ubuntu 20.04 (ARM)
	Kernel: Container Host Kernel
	Compiler: gcc 9.4.0

To view detailed results, visit:
https://lab.dpdk.org/results/dashboard/patchsets/29700/

UNH-IOL DPDK Community Lab

To manage your email subscriptions, visit: 
https://lab.dpdk.org/results/dashboard/preferences/subscriptions/