From mboxrd@z Thu Jan  1 00:00:00 1970
Return-Path: <test-report-bounces@dpdk.org>
Received: from mails.dpdk.org (mails.dpdk.org [217.70.189.124])
	by inbox.dpdk.org (Postfix) with ESMTP id 3394243DE7
	for <public@inbox.dpdk.org>; Wed,  3 Apr 2024 12:24:26 +0200 (CEST)
Received: from mails.dpdk.org (localhost [127.0.0.1])
	by mails.dpdk.org (Postfix) with ESMTP id 302E6402CE;
	Wed,  3 Apr 2024 12:24:26 +0200 (CEST)
Received: from mail-io1-f100.google.com (mail-io1-f100.google.com
 [209.85.166.100])
 by mails.dpdk.org (Postfix) with ESMTP id D73474025C
 for <test-report@dpdk.org>; Wed,  3 Apr 2024 12:24:25 +0200 (CEST)
Received: by mail-io1-f100.google.com with SMTP id
 ca18e2360f4ac-7c8bd9837fdso174244939f.1
 for <test-report@dpdk.org>; Wed, 03 Apr 2024 03:24:25 -0700 (PDT)
DKIM-Signature: v=1; a=rsa-sha256; c=relaxed/relaxed;
 d=iol.unh.edu; s=unh-iol; t=1712139865; x=1712744665; darn=dpdk.org;
 h=references:in-reply-to:cc:to:from:subject:message-id:date:from:to
 :cc:subject:date:message-id:reply-to;
 bh=lbKmMoBGb+T6cdd02m/+OtBe7gObsdwtlF978TrPpc4=;
 b=PP5X5uxTa0tpaCaLjK5jfWYnab63QidKwLtDn8htPxFQT/UDwCcqVNLL//YbZasefa
 2gJTw7bvhMtDWrIxYjyj0/SYKf4b4M8a70bPjzdh63gVhhxL9z04GeVJSisKwLqGiJId
 jf2v/n1nT4SLviCM7QB+IsIeYzO7gfSCh6H6I=
X-Google-DKIM-Signature: v=1; a=rsa-sha256; c=relaxed/relaxed;
 d=1e100.net; s=20230601; t=1712139865; x=1712744665;
 h=references:in-reply-to:cc:to:from:subject:message-id:date
 :x-gm-message-state:from:to:cc:subject:date:message-id:reply-to;
 bh=lbKmMoBGb+T6cdd02m/+OtBe7gObsdwtlF978TrPpc4=;
 b=YOHqZDyb3ak8eh5xKHFsiXCNgVOf5OXZ6De+vfv5fY3WHYbKJqCspPDnYcG1TIzpfc
 TtnZc8qYQYS5qxmx5km7Q8WnnKVbdJlwS+gYX6+jU+R1//JlV1iM+d+4nspc+r1o0F6+
 o7HkTGO+zjVf/XRs1HnWAFqFK1T/QjQnIfrLZxSpRMLs7JHL71sGyFrnqUkL/+Iu/Kq3
 ea8OLoGJpAc4lEkFbxkuxLR+AX/CZ5KmhkiXyit/5GLCaeI1i6UZIN73UPtTs/P96QbC
 Dp3ZSjLGbN+1zZ3gGO2MjeTQy3vzny5dGAnru68K2sCs763aLPn7/1EwUpuTrq7xZXjI
 7mlA==
X-Gm-Message-State: AOJu0YzMtPlWp9UjavW4ZAh92m/FV6yAN7hSsFAHpPwgkdthlarMcWjC
 U3dMueBYKIinfzwMvuu4DZBWf+qrhTHYBs4iA+Z02Iv5g4dzaLs3IbnEJROVj6GmFq/03kJNS4U
 99aoZsY5HTVqSPk2TAlOIAPoZJGeuLWcO9gSdM4czxyl+2x/5cEAaWzSS
X-Google-Smtp-Source: AGHT+IEb8kJvxQjspIxb6OdM0xaAkK3NC7OPV5rsJIQxmZ9x+jR8PEc6fzNEOh/ea7wn6sJVZuiUVJyREB+B
X-Received: by 2002:a5e:8e09:0:b0:7d3:46ee:a9e4 with SMTP id
 a9-20020a5e8e09000000b007d346eea9e4mr1261240ion.4.1712139865224; 
 Wed, 03 Apr 2024 03:24:25 -0700 (PDT)
Received: from postal.iol.unh.edu (postal.iol.unh.edu.
 [2606:4100:3880:1234::84]) by smtp-relay.gmail.com with ESMTPS id
 v17-20020a056638251100b0047469527584sm527591jat.81.2024.04.03.03.24.25
 (version=TLS1_2 cipher=ECDHE-ECDSA-AES128-GCM-SHA256 bits=128/128);
 Wed, 03 Apr 2024 03:24:25 -0700 (PDT)
X-Relaying-Domain: iol.unh.edu
Date: Wed, 03 Apr 2024 03:24:25 -0700 (PDT)
Message-ID: <660d2e59.050a0220.59fe3.ce01SMTPIN_ADDED_MISSING@mx.google.com>
Received: from [172.21.0.7] (unknown [172.18.0.240])
 by postal.iol.unh.edu (Postfix) with ESMTP id AA2546052471;
 Wed,  3 Apr 2024 06:24:24 -0400 (EDT)
Subject: |SUCCESS| pw139069-139073 [PATCH] [v2,5/5] vhost: manage FD with epo
From: dpdklab@iol.unh.edu
To: Test Report <test-report@dpdk.org>
Cc: dpdk-test-reports@iol.unh.edu
In-Reply-To: <20240403092448.1361820-6-maxime.coquelin@redhat.com>
References: <20240403092448.1361820-6-maxime.coquelin@redhat.com>
Content-Type: text/plain
X-BeenThere: test-report@dpdk.org
X-Mailman-Version: 2.1.29
Precedence: list
List-Id: automatic DPDK test reports <test-report.dpdk.org>
List-Unsubscribe: <https://mails.dpdk.org/options/test-report>,
 <mailto:test-report-request@dpdk.org?subject=unsubscribe>
List-Archive: <http://mails.dpdk.org/archives/test-report/>
List-Post: <mailto:test-report@dpdk.org>
List-Help: <mailto:test-report-request@dpdk.org?subject=help>
List-Subscribe: <https://mails.dpdk.org/listinfo/test-report>,
 <mailto:test-report-request@dpdk.org?subject=subscribe>
Errors-To: test-report-bounces@dpdk.org

Test-Label: iol-compile-arm64-testing
Test-Status: SUCCESS
http://dpdk.org/patch/139073

_Testing PASS_

Submitter: Maxime Coquelin <maxime.coquelin@redhat.com>
Date: Wednesday, April 03 2024 09:24:48 
DPDK git baseline: Repo:dpdk
  Branch: master
  CommitID:deedfb86a7a6e10064d3cccd593f62072de96e36

139069-139073 --> testing pass

Test environment and result as below:

+-----------------------+--------------------+
|      Environment      | dpdk_meson_compile |
+=======================+====================+
| Ubuntu 20.04 ARM SVE  | PASS               |
+-----------------------+--------------------+
| Debian 12 with MUSDK  | PASS               |
+-----------------------+--------------------+
| Fedora 37 (ARM)       | PASS               |
+-----------------------+--------------------+
| Fedora 38 (ARM)       | PASS               |
+-----------------------+--------------------+
| CentOS Stream 9 (ARM) | PASS               |
+-----------------------+--------------------+
| Fedora 39 (ARM)       | PASS               |
+-----------------------+--------------------+
| Debian 12 (arm)       | PASS               |
+-----------------------+--------------------+
| Ubuntu 20.04 (ARM)    | PASS               |
+-----------------------+--------------------+


Ubuntu 20.04 ARM SVE
	Kernel: 5.4.0-167-generic
	Compiler: gcc (Ubuntu 10.5.0-1ubuntu1~20.04) 10.5.0

Debian 12 with MUSDK
	Kernel: Container Host Kernel
	Compiler: gcc 12.2.0

Fedora 37 (ARM)
	Kernel: Depends on container host
	Compiler: gcc 12.3.1

Fedora 38 (ARM)
	Kernel: Depends on container host
	Compiler: gcc 13.2.1

CentOS Stream 9 (ARM)
	Kernel: Container Host Kernel
	Compiler: gcc 11.4.1

Fedora 39 (ARM)
	Kernel: Depends on container host
	Compiler: gcc 13.2.1

Debian 12 (arm)
	Kernel: Container Host Kernel
	Compiler: gcc 12.2.0

Ubuntu 20.04 (ARM)
	Kernel: Container Host Kernel
	Compiler: gcc 9.4.0

To view detailed results, visit:
https://lab.dpdk.org/results/dashboard/patchsets/29700/

UNH-IOL DPDK Community Lab

To manage your email subscriptions, visit: 
https://lab.dpdk.org/results/dashboard/preferences/subscriptions/