From mboxrd@z Thu Jan  1 00:00:00 1970
Return-Path: <test-report-bounces@dpdk.org>
Received: from mails.dpdk.org (mails.dpdk.org [217.70.189.124])
	by inbox.dpdk.org (Postfix) with ESMTP id 8046943DE9
	for <public@inbox.dpdk.org>; Wed,  3 Apr 2024 12:38:10 +0200 (CEST)
Received: from mails.dpdk.org (localhost [127.0.0.1])
	by mails.dpdk.org (Postfix) with ESMTP id 7B64C402CE;
	Wed,  3 Apr 2024 12:38:10 +0200 (CEST)
Received: from mail-oa1-f100.google.com (mail-oa1-f100.google.com
 [209.85.160.100])
 by mails.dpdk.org (Postfix) with ESMTP id B8E404025C
 for <test-report@dpdk.org>; Wed,  3 Apr 2024 12:38:08 +0200 (CEST)
Received: by mail-oa1-f100.google.com with SMTP id
 586e51a60fabf-22e6b61d652so804422fac.0
 for <test-report@dpdk.org>; Wed, 03 Apr 2024 03:38:08 -0700 (PDT)
DKIM-Signature: v=1; a=rsa-sha256; c=relaxed/relaxed;
 d=iol.unh.edu; s=unh-iol; t=1712140688; x=1712745488; darn=dpdk.org;
 h=references:in-reply-to:cc:to:from:subject:message-id:date:from:to
 :cc:subject:date:message-id:reply-to;
 bh=BwimbCXc0lG5slbl7dpq8pGxyRCNsoo3qiaFwsgO95s=;
 b=Y7fY38gqLj0YO1uB/kve/oZLOzG3aoAhCAE9d7uZz8YsObXAJyeWWNgMBTaMxzandJ
 oIKCuPeG8lPDFvSaDDYTqk2jt+EMLY+fHGHlGkPm8vBJvQiaK6lzpieREJxo5+efrnK+
 5KdzfgtpC/9SEirwF9TNZQPC7ZWSrWpoRJofM=
X-Google-DKIM-Signature: v=1; a=rsa-sha256; c=relaxed/relaxed;
 d=1e100.net; s=20230601; t=1712140688; x=1712745488;
 h=references:in-reply-to:cc:to:from:subject:message-id:date
 :x-gm-message-state:from:to:cc:subject:date:message-id:reply-to;
 bh=BwimbCXc0lG5slbl7dpq8pGxyRCNsoo3qiaFwsgO95s=;
 b=mYBxoTygjRMxgHyPnYu+1L21TRsoz5qA0hlZ7kg8NPbTq8oKTGclMAmV7lLrHPG9KG
 l01j36Qp0bfORa7RzeCua34il1FaM68z3H31a8cLGWQf+eZWAf44mmqDifrGGc4XQzK3
 A5ID8h7Uw+ZnYQ16YAM8HLHhUlm/NVXIR2opoRDi2Phn9qYaGI2v6GVHoO7+T2cBAMsf
 96zYn0ajj5Fw2PHhGAqNGBGALylQ9aKPv/tKnPwqADqoTIojqLSNJ9DneqM7EeiyV3Ky
 R3zdOB831FmxtmPnV2aNdXJPccdcMZjR33kXZXP0HXw5kYFJZFElo+3r2Juyczf8m1fO
 EXfw==
X-Gm-Message-State: AOJu0YwlwfGONEtQlnmN6oFe33bIURzHMTqL4/VCi1K9iflDyL5VGlQl
 L6BnKCVsqbE2d2sE/hQ8rAxyQ8Fu95SJ1glkHB0eiOZLAFJA5Fe84mJtS8/1gxxHw32labwiXNl
 +MT2SlUybmuS9fZ31cNp4sf0Q5BMBKvl4/XEPw2b0
X-Google-Smtp-Source: AGHT+IEHrVIET3GbEKuppcdNjZzjiH6I9GVJpzeqOtp3nMmv6/xV6WEyH2zrUJMZ4d+OFwSNbWpya88BWFLg
X-Received: by 2002:a05:6871:520a:b0:22e:8907:e7bf with SMTP id
 ht10-20020a056871520a00b0022e8907e7bfmr3432539oac.40.1712140688007; 
 Wed, 03 Apr 2024 03:38:08 -0700 (PDT)
Received: from postal.iol.unh.edu (postal.iol.unh.edu. [132.177.123.84])
 by smtp-relay.gmail.com with ESMTPS id
 lm15-20020a056a003c8f00b006e68bf967a7sm917422pfb.17.2024.04.03.03.38.07
 (version=TLS1_2 cipher=ECDHE-ECDSA-AES128-GCM-SHA256 bits=128/128);
 Wed, 03 Apr 2024 03:38:07 -0700 (PDT)
X-Relaying-Domain: iol.unh.edu
Date: Wed, 03 Apr 2024 03:38:07 -0700 (PDT)
Message-ID: <660d318f.050a0220.10a07.563eSMTPIN_ADDED_MISSING@mx.google.com>
Received: from [172.17.0.7] (unknown [172.18.0.217])
 by postal.iol.unh.edu (Postfix) with ESMTP id 2D1EA6052471;
 Wed,  3 Apr 2024 06:38:07 -0400 (EDT)
Subject: |SUCCESS| pw139069-139073 [PATCH] [v2,5/5] vhost: manage FD with epo
From: dpdklab@iol.unh.edu
To: Test Report <test-report@dpdk.org>
Cc: dpdk-test-reports@iol.unh.edu
In-Reply-To: <20240403092448.1361820-6-maxime.coquelin@redhat.com>
References: <20240403092448.1361820-6-maxime.coquelin@redhat.com>
Content-Type: text/plain
X-BeenThere: test-report@dpdk.org
X-Mailman-Version: 2.1.29
Precedence: list
List-Id: automatic DPDK test reports <test-report.dpdk.org>
List-Unsubscribe: <https://mails.dpdk.org/options/test-report>,
 <mailto:test-report-request@dpdk.org?subject=unsubscribe>
List-Archive: <http://mails.dpdk.org/archives/test-report/>
List-Post: <mailto:test-report@dpdk.org>
List-Help: <mailto:test-report-request@dpdk.org?subject=help>
List-Subscribe: <https://mails.dpdk.org/listinfo/test-report>,
 <mailto:test-report-request@dpdk.org?subject=subscribe>
Errors-To: test-report-bounces@dpdk.org

Test-Label: iol-unit-amd64-testing
Test-Status: SUCCESS
http://dpdk.org/patch/139073

_Testing PASS_

Submitter: Maxime Coquelin <maxime.coquelin@redhat.com>
Date: Wednesday, April 03 2024 09:24:48 
DPDK git baseline: Repo:dpdk
  Branch: master
  CommitID:deedfb86a7a6e10064d3cccd593f62072de96e36

139069-139073 --> testing pass

Test environment and result as below:

+---------------------+----------------+
|     Environment     | dpdk_unit_test |
+=====================+================+
| CentOS Stream 8     | PASS           |
+---------------------+----------------+
| CentOS Stream 9     | PASS           |
+---------------------+----------------+
| Debian Bullseye     | PASS           |
+---------------------+----------------+
| Debian 12           | PASS           |
+---------------------+----------------+
| Windows Server 2019 | PASS           |
+---------------------+----------------+
| Fedora 38           | PASS           |
+---------------------+----------------+
| Fedora 39           | PASS           |
+---------------------+----------------+
| Fedora 37           | PASS           |
+---------------------+----------------+
| openSUSE Leap 15    | PASS           |
+---------------------+----------------+


CentOS Stream 8
	Kernel: 5.4.0-167-generic
	Compiler: gcc 8.5.0 20210514

CentOS Stream 9
	Kernel: 5.4.0-167-generic
	Compiler: gcc 11.4.1 20230605

Debian Bullseye
	Kernel: 5.4.0-167-generic
	Compiler: gcc 10.2.1-6

Debian 12
	Kernel: Container Host Kernel
	Compiler: gcc 10.2.1

Windows Server 2019
	Kernel: 10.0.17763
	Compiler: clang 14.0 and gcc 8.1.0 (MinGW)

Fedora 38
	Kernel: Depends on container host
	Compiler: clang 16.0.6

Fedora 39
	Kernel: Depends on container host
	Compiler: gcc 13.2.1

Fedora 37
	Kernel: Depends on container host system
	Compiler: gcc 12.3.1

openSUSE Leap 15
	Kernel: 5.4.0-167-generic
	Compiler: gcc 7.5.0

To view detailed results, visit:
https://lab.dpdk.org/results/dashboard/patchsets/29700/

UNH-IOL DPDK Community Lab

To manage your email subscriptions, visit: 
https://lab.dpdk.org/results/dashboard/preferences/subscriptions/