From mboxrd@z Thu Jan  1 00:00:00 1970
Return-Path: <test-report-bounces@dpdk.org>
Received: from mails.dpdk.org (mails.dpdk.org [217.70.189.124])
	by inbox.dpdk.org (Postfix) with ESMTP id 9EA2743DE9
	for <public@inbox.dpdk.org>; Wed,  3 Apr 2024 12:38:56 +0200 (CEST)
Received: from mails.dpdk.org (localhost [127.0.0.1])
	by mails.dpdk.org (Postfix) with ESMTP id 9AE79402CE;
	Wed,  3 Apr 2024 12:38:56 +0200 (CEST)
Received: from mail-oi1-f225.google.com (mail-oi1-f225.google.com
 [209.85.167.225])
 by mails.dpdk.org (Postfix) with ESMTP id C29BD4025C
 for <test-report@dpdk.org>; Wed,  3 Apr 2024 12:38:54 +0200 (CEST)
Received: by mail-oi1-f225.google.com with SMTP id
 5614622812f47-3c5d50e190bso15373b6e.2
 for <test-report@dpdk.org>; Wed, 03 Apr 2024 03:38:54 -0700 (PDT)
DKIM-Signature: v=1; a=rsa-sha256; c=relaxed/relaxed;
 d=iol.unh.edu; s=unh-iol; t=1712140734; x=1712745534; darn=dpdk.org;
 h=references:in-reply-to:cc:to:from:subject:message-id:date:from:to
 :cc:subject:date:message-id:reply-to;
 bh=BwimbCXc0lG5slbl7dpq8pGxyRCNsoo3qiaFwsgO95s=;
 b=eBYduijtPNGx6p0ghGnm38cNlBRvg1bbjJtG3ryI64q7mmJD1cyAkR0t/NCih6bWlg
 9pD5Z17Njo8WzpukqDg6l1PbSOzGFxKn2IthTU/wqy0mNsMBLMhZBkcVr+7NXWdFFNcu
 kprKjKQJ9QKPiJ16qb6H55IHHMOjy8JfrDZsU=
X-Google-DKIM-Signature: v=1; a=rsa-sha256; c=relaxed/relaxed;
 d=1e100.net; s=20230601; t=1712140734; x=1712745534;
 h=references:in-reply-to:cc:to:from:subject:message-id:date
 :x-gm-message-state:from:to:cc:subject:date:message-id:reply-to;
 bh=BwimbCXc0lG5slbl7dpq8pGxyRCNsoo3qiaFwsgO95s=;
 b=vGYGsQEmWUbDOh6zqkD4GIfvE+vuTqy9b+HByPlbdTFL6lf8P9yoShKsfvqxg7VPi1
 uJZwMfScweMSYMWzPPC4XBqqPNzkE3hnE3xzWMZCIlGdq7M48Z1gRsu1Bh4ER1uickTP
 xNy+Dr1sqxAXStRJCcGdj99AVDj+yjufEEZbucoN9PH+VR1Y4PvIs1ERmlW6f4+JIj0N
 tlzjBynsdUoHDatoO3I+dpZ2SEug3rciL5pwnHd8fCGtOl8lOWo2lQ7dRy9pC2uCsrfV
 zVe7c5DtntUNurR8MAmalayTDoPqALMR+JPVUPNscht+PnsT0BKczCgRTXoQn4SGr9wJ
 NXeQ==
X-Gm-Message-State: AOJu0YzFaNkGehn0MiwutUUlrkuZiam/j6ChcWnECFcjqZ0VHHzXVgfi
 kARwS3ARY7jb3Y0Jc/ai0wntVwuprte1MZULeFAzR2bCN/Ktgzxpbe6F/djAgkLEx2K8O46fQ99
 7LarHui4m6FajAgqW9CEXQW68fa3X3RkgcskHwQ+f
X-Google-Smtp-Source: AGHT+IFrI/QQkacs+dwoIzfUmWy8gsjX3gYnDyEIDCddAc+Nd8TYJ5vAycvH+ii8N+fRm55hQ1waN8aM90jv
X-Received: by 2002:a05:6808:13ce:b0:3c4:e00a:6c2b with SMTP id
 d14-20020a05680813ce00b003c4e00a6c2bmr13954070oiw.53.1712140734103; 
 Wed, 03 Apr 2024 03:38:54 -0700 (PDT)
Received: from postal.iol.unh.edu (postal.iol.unh.edu. [132.177.123.84])
 by smtp-relay.gmail.com with ESMTPS id
 ca11-20020a05622a1f0b00b00430df10e4absm1178857qtb.27.2024.04.03.03.38.54
 (version=TLS1_2 cipher=ECDHE-ECDSA-AES128-GCM-SHA256 bits=128/128);
 Wed, 03 Apr 2024 03:38:54 -0700 (PDT)
X-Relaying-Domain: iol.unh.edu
Date: Wed, 03 Apr 2024 03:38:54 -0700 (PDT)
Message-ID: <660d31be.050a0220.9d964.52feSMTPIN_ADDED_MISSING@mx.google.com>
Received: from [172.17.0.7] (unknown [172.18.0.217])
 by postal.iol.unh.edu (Postfix) with ESMTP id C660D6052471;
 Wed,  3 Apr 2024 06:38:53 -0400 (EDT)
Subject: |SUCCESS| pw139069-139073 [PATCH] [v2,5/5] vhost: manage FD with epo
From: dpdklab@iol.unh.edu
To: Test Report <test-report@dpdk.org>
Cc: dpdk-test-reports@iol.unh.edu
In-Reply-To: <20240403092448.1361820-6-maxime.coquelin@redhat.com>
References: <20240403092448.1361820-6-maxime.coquelin@redhat.com>
Content-Type: text/plain
X-BeenThere: test-report@dpdk.org
X-Mailman-Version: 2.1.29
Precedence: list
List-Id: automatic DPDK test reports <test-report.dpdk.org>
List-Unsubscribe: <https://mails.dpdk.org/options/test-report>,
 <mailto:test-report-request@dpdk.org?subject=unsubscribe>
List-Archive: <http://mails.dpdk.org/archives/test-report/>
List-Post: <mailto:test-report@dpdk.org>
List-Help: <mailto:test-report-request@dpdk.org?subject=help>
List-Subscribe: <https://mails.dpdk.org/listinfo/test-report>,
 <mailto:test-report-request@dpdk.org?subject=subscribe>
Errors-To: test-report-bounces@dpdk.org

Test-Label: iol-unit-amd64-testing
Test-Status: SUCCESS
http://dpdk.org/patch/139073

_Testing PASS_

Submitter: Maxime Coquelin <maxime.coquelin@redhat.com>
Date: Wednesday, April 03 2024 09:24:48 
DPDK git baseline: Repo:dpdk
  Branch: master
  CommitID:deedfb86a7a6e10064d3cccd593f62072de96e36

139069-139073 --> testing pass

Test environment and result as below:

+---------------------+----------------+
|     Environment     | dpdk_unit_test |
+=====================+================+
| CentOS Stream 8     | PASS           |
+---------------------+----------------+
| CentOS Stream 9     | PASS           |
+---------------------+----------------+
| Debian Bullseye     | PASS           |
+---------------------+----------------+
| Debian 12           | PASS           |
+---------------------+----------------+
| Windows Server 2019 | PASS           |
+---------------------+----------------+
| Fedora 38           | PASS           |
+---------------------+----------------+
| Fedora 39           | PASS           |
+---------------------+----------------+
| Fedora 37           | PASS           |
+---------------------+----------------+
| openSUSE Leap 15    | PASS           |
+---------------------+----------------+


CentOS Stream 8
	Kernel: 5.4.0-167-generic
	Compiler: gcc 8.5.0 20210514

CentOS Stream 9
	Kernel: 5.4.0-167-generic
	Compiler: gcc 11.4.1 20230605

Debian Bullseye
	Kernel: 5.4.0-167-generic
	Compiler: gcc 10.2.1-6

Debian 12
	Kernel: Container Host Kernel
	Compiler: gcc 10.2.1

Windows Server 2019
	Kernel: 10.0.17763
	Compiler: clang 14.0 and gcc 8.1.0 (MinGW)

Fedora 38
	Kernel: Depends on container host
	Compiler: clang 16.0.6

Fedora 39
	Kernel: Depends on container host
	Compiler: gcc 13.2.1

Fedora 37
	Kernel: Depends on container host system
	Compiler: gcc 12.3.1

openSUSE Leap 15
	Kernel: 5.4.0-167-generic
	Compiler: gcc 7.5.0

To view detailed results, visit:
https://lab.dpdk.org/results/dashboard/patchsets/29700/

UNH-IOL DPDK Community Lab

To manage your email subscriptions, visit: 
https://lab.dpdk.org/results/dashboard/preferences/subscriptions/