From mboxrd@z Thu Jan  1 00:00:00 1970
Return-Path: <test-report-bounces@dpdk.org>
Received: from mails.dpdk.org (mails.dpdk.org [217.70.189.124])
	by inbox.dpdk.org (Postfix) with ESMTP id EDF9843DEC
	for <public@inbox.dpdk.org>; Wed,  3 Apr 2024 15:45:17 +0200 (CEST)
Received: from mails.dpdk.org (localhost [127.0.0.1])
	by mails.dpdk.org (Postfix) with ESMTP id E7ED9402CE;
	Wed,  3 Apr 2024 15:45:17 +0200 (CEST)
Received: from mail-yw1-f226.google.com (mail-yw1-f226.google.com
 [209.85.128.226])
 by mails.dpdk.org (Postfix) with ESMTP id 4541A4025C
 for <test-report@dpdk.org>; Wed,  3 Apr 2024 15:45:17 +0200 (CEST)
Received: by mail-yw1-f226.google.com with SMTP id
 00721157ae682-6114c9b4d83so47935777b3.3
 for <test-report@dpdk.org>; Wed, 03 Apr 2024 06:45:17 -0700 (PDT)
DKIM-Signature: v=1; a=rsa-sha256; c=relaxed/relaxed;
 d=iol.unh.edu; s=unh-iol; t=1712151916; x=1712756716; darn=dpdk.org;
 h=references:in-reply-to:cc:to:from:subject:message-id:date:from:to
 :cc:subject:date:message-id:reply-to;
 bh=TruhyqVnx0rm9XwhAO2wokMZ/0U87ZV8X2h/jXn51Bc=;
 b=dRaZTm+fQrc1MXJ03UFZ4qN6PnNh/LjIQ60uDPs62vS7TXGWs009us8EI8X2HYc7bC
 cyqav/4rp/91xHd8/6umqnM1GesH6QR7KdF4uuOrKyb3HdUA7SpWiOEU+595K1RIGM5c
 g0rlwcP2b6YvM6oWH9n3n1m1aZNF1MjIKBro4=
X-Google-DKIM-Signature: v=1; a=rsa-sha256; c=relaxed/relaxed;
 d=1e100.net; s=20230601; t=1712151916; x=1712756716;
 h=references:in-reply-to:cc:to:from:subject:message-id:date
 :x-gm-message-state:from:to:cc:subject:date:message-id:reply-to;
 bh=TruhyqVnx0rm9XwhAO2wokMZ/0U87ZV8X2h/jXn51Bc=;
 b=sHHvTJ1tNrHVgcUnfFHjbywgNJJKYDm+2fuueVb9vIKETtgiJfMmHlD5dO5+//bZAC
 vlNDBct9EXC/X3y1e4A5j2O6vkrC9FiI4Qj/8qKoCgm5gZvP2ovEmc2KO85p+f9oAh1x
 JzIzFtKxpG9DT+mUg/B2IfchJQ8+WIEW5B7LAu1YD1osMgJO0mvK4+IpS4xifBWpBVe5
 x0Fy/5NumWQosHByaRuIdrOlWwVQF1+Nrj0kQTOuZfDWdCVTMukfOndF3A19kraRWH50
 /2QyYrIWvI3TvoFqsC1niuo2cY7wH2AbA+sP9ryMv6V0NHsLUmj38WyakRlIhvs2B5bK
 AYpg==
X-Gm-Message-State: AOJu0YwE8rk35vo3ZfN6rebGeQlIwz7OuxlN5ooNW8lDsv2EAYIHki2o
 vx4GOP/lX9B3JVvDG5aW/E5nyuzq1HOo0n41fK+/x7VsEOKXXsXjToaBVmCj256Pl2onmOWKCvh
 d65x9lNhDbniJH9EkSrx1OjmkUHE8KfawUMsfQnuMIPqGRC6eRzSJNLCH
X-Google-Smtp-Source: AGHT+IEjlxwLM3U00Tq1Lf8v1+FIv0LSKp+n66V/leHegZXcJ92LRNAzQJ7kFgyA1gcYenSpO0PPAsyG6iL2
X-Received: by 2002:a81:4954:0:b0:614:2c9b:4c89 with SMTP id
 w81-20020a814954000000b006142c9b4c89mr2675458ywa.11.1712151916704; 
 Wed, 03 Apr 2024 06:45:16 -0700 (PDT)
Received: from postal.iol.unh.edu (postal.iol.unh.edu.
 [2606:4100:3880:1234::84]) by smtp-relay.gmail.com with ESMTPS id
 fq3-20020a05690c350300b0061449c61d1fsm680937ywb.69.2024.04.03.06.45.16
 (version=TLS1_2 cipher=ECDHE-ECDSA-AES128-GCM-SHA256 bits=128/128);
 Wed, 03 Apr 2024 06:45:16 -0700 (PDT)
X-Relaying-Domain: iol.unh.edu
Date: Wed, 03 Apr 2024 06:45:16 -0700 (PDT)
Message-ID: <660d5d6c.050a0220.a0c42.5061SMTPIN_ADDED_MISSING@mx.google.com>
Received: from [172.21.0.6] (unknown [172.18.0.240])
 by postal.iol.unh.edu (Postfix) with ESMTP id 589C16052471;
 Wed,  3 Apr 2024 09:45:16 -0400 (EDT)
Subject: |SUCCESS| pw139074-139078 [PATCH] [5/5] net/hns3: disable SCTP verif
From: dpdklab@iol.unh.edu
To: Test Report <test-report@dpdk.org>
Cc: dpdk-test-reports@iol.unh.edu
In-Reply-To: <20240403101624.2771140-6-haijie1@huawei.com>
References: <20240403101624.2771140-6-haijie1@huawei.com>
Content-Type: text/plain
X-BeenThere: test-report@dpdk.org
X-Mailman-Version: 2.1.29
Precedence: list
List-Id: automatic DPDK test reports <test-report.dpdk.org>
List-Unsubscribe: <https://mails.dpdk.org/options/test-report>,
 <mailto:test-report-request@dpdk.org?subject=unsubscribe>
List-Archive: <http://mails.dpdk.org/archives/test-report/>
List-Post: <mailto:test-report@dpdk.org>
List-Help: <mailto:test-report-request@dpdk.org?subject=help>
List-Subscribe: <https://mails.dpdk.org/listinfo/test-report>,
 <mailto:test-report-request@dpdk.org?subject=subscribe>
Errors-To: test-report-bounces@dpdk.org

Test-Label: iol-compile-arm64-testing
Test-Status: SUCCESS
http://dpdk.org/patch/139078

_Testing PASS_

Submitter: Jie Hai <haijie1@huawei.com>
Date: Wednesday, April 03 2024 10:16:23 
DPDK git baseline: Repo:dpdk
  Branch: master
  CommitID:e2e546ab5bf5e024986ccb5310ab43982f3bb40c

139074-139078 --> testing pass

Test environment and result as below:

+--------------------------+--------------------+
|       Environment        | dpdk_meson_compile |
+==========================+====================+
| Ubuntu 20.04 ARM SVE     | PASS               |
+--------------------------+--------------------+
| Debian 12 with MUSDK     | PASS               |
+--------------------------+--------------------+
| Fedora 37 (ARM)          | PASS               |
+--------------------------+--------------------+
| Fedora 38 (ARM)          | PASS               |
+--------------------------+--------------------+
| Debian 11 (Buster) (ARM) | PASS               |
+--------------------------+--------------------+
| Fedora 39 (ARM)          | PASS               |
+--------------------------+--------------------+
| Debian 12 (arm)          | PASS               |
+--------------------------+--------------------+
| CentOS Stream 9 (ARM)    | PASS               |
+--------------------------+--------------------+
| Ubuntu 20.04 (ARM)       | PASS               |
+--------------------------+--------------------+


Ubuntu 20.04 ARM SVE
	Kernel: 5.4.0-167-generic
	Compiler: gcc (Ubuntu 10.5.0-1ubuntu1~20.04) 10.5.0

Debian 12 with MUSDK
	Kernel: Container Host Kernel
	Compiler: gcc 12.2.0

Fedora 37 (ARM)
	Kernel: Depends on container host
	Compiler: gcc 12.3.1

Fedora 38 (ARM)
	Kernel: Depends on container host
	Compiler: gcc 13.2.1

Debian 11 (Buster) (ARM)
	Kernel: Container Host Kernel
	Compiler: gcc 10.2.1

Fedora 39 (ARM)
	Kernel: Depends on container host
	Compiler: gcc 13.2.1

Debian 12 (arm)
	Kernel: Container Host Kernel
	Compiler: gcc 12.2.0

CentOS Stream 9 (ARM)
	Kernel: Container Host Kernel
	Compiler: gcc 11.4.1

Ubuntu 20.04 (ARM)
	Kernel: Container Host Kernel
	Compiler: gcc 9.4.0

To view detailed results, visit:
https://lab.dpdk.org/results/dashboard/patchsets/29701/

UNH-IOL DPDK Community Lab

To manage your email subscriptions, visit: 
https://lab.dpdk.org/results/dashboard/preferences/subscriptions/