From mboxrd@z Thu Jan  1 00:00:00 1970
Return-Path: <test-report-bounces@dpdk.org>
Received: from mails.dpdk.org (mails.dpdk.org [217.70.189.124])
	by inbox.dpdk.org (Postfix) with ESMTP id 44BCE43DEC
	for <public@inbox.dpdk.org>; Wed,  3 Apr 2024 15:46:31 +0200 (CEST)
Received: from mails.dpdk.org (localhost [127.0.0.1])
	by mails.dpdk.org (Postfix) with ESMTP id 3C749402CE;
	Wed,  3 Apr 2024 15:46:31 +0200 (CEST)
Received: from mail-io1-f99.google.com (mail-io1-f99.google.com
 [209.85.166.99]) by mails.dpdk.org (Postfix) with ESMTP id 17D564025C
 for <test-report@dpdk.org>; Wed,  3 Apr 2024 15:46:30 +0200 (CEST)
Received: by mail-io1-f99.google.com with SMTP id
 ca18e2360f4ac-7c7ee7fa1d8so210990039f.1
 for <test-report@dpdk.org>; Wed, 03 Apr 2024 06:46:30 -0700 (PDT)
DKIM-Signature: v=1; a=rsa-sha256; c=relaxed/relaxed;
 d=iol.unh.edu; s=unh-iol; t=1712151989; x=1712756789; darn=dpdk.org;
 h=references:in-reply-to:cc:to:from:subject:message-id:date:from:to
 :cc:subject:date:message-id:reply-to;
 bh=CeJXqI1OSbMlZ7sRA2/+DV0v8lLlLUu4P1LkzRjkF3A=;
 b=a9YpiFylWAZNdQO8VgL5CE8etD686K9EQZmlCy4pCtTD+XJuG984+VYDWnSM3+Gr/j
 XdgEpQtKUznDGLoQcZIYlPcUHCjDRRx6s6w8U8F0mMUqVwOE9cjjx2nbCd1MZe6UFqYq
 xopzK2QxcLjVIcg+udAfYuqwKdP3X72TfM0o8=
X-Google-DKIM-Signature: v=1; a=rsa-sha256; c=relaxed/relaxed;
 d=1e100.net; s=20230601; t=1712151989; x=1712756789;
 h=references:in-reply-to:cc:to:from:subject:message-id:date
 :x-gm-message-state:from:to:cc:subject:date:message-id:reply-to;
 bh=CeJXqI1OSbMlZ7sRA2/+DV0v8lLlLUu4P1LkzRjkF3A=;
 b=XMWIuNYZ4sZFLMCdEhHAzZ7SyRjsRiNaUVTQrwZIIpYWmaRY5UzJHUMy8ZczBCFZWm
 swaZrVFmm7iWrUm+D3m5+/xQYvUUO7lzsr2EKkC0zkOid853lW4NWbArbrsKZ1msdodX
 Kz6eUP5BZQ96LFijUnOd++GFJD//qWz2h3zR3FkTCfOIWOL06I+2L+NI+FQxEUopHRgt
 o+VWFOMLJ2NsSoakCJApuAeyx0dZU6MZnqYw/5MYh8H/CcN0YPEqrgg1ioJcQMVzfMeo
 yYviKOHG+87tQzPj7AEWrgFv+1ET5WeGVBMyf6DuKZyzuum8wKh5ahXqU3BOndCN2VrT
 mjjg==
X-Gm-Message-State: AOJu0YycwX9R7xIUbXTX6F7mQcDrPhuBJn6wnU2yq5txLtRpX11yDDXL
 S9CSRQcQMfolKWnyF8SOpwsqpl2zcBQZEr/PRQ+QAc+PQqdgFuEExG4rPXzOFLp8mozGJlG5PjK
 IGVI33mILwSFQ5pOW/n8Pq7vi2kA0FMPc5ie/u1lg
X-Google-Smtp-Source: AGHT+IEDQm9dsimZ1lgA+9m/tJUsC5frRRqjImr/EsVHMFL0vNtRQGNJsddvoWmLPkVJDNV1bGPMlXk5AV6J
X-Received: by 2002:a05:6602:3401:b0:7d0:8a56:7fde with SMTP id
 n1-20020a056602340100b007d08a567fdemr21422745ioz.4.1712151989488; 
 Wed, 03 Apr 2024 06:46:29 -0700 (PDT)
Received: from postal.iol.unh.edu (postal.iol.unh.edu. [132.177.123.84])
 by smtp-relay.gmail.com with ESMTPS id
 s15-20020a056638258f00b0047f1a92a158sm40045jat.66.2024.04.03.06.46.29
 (version=TLS1_2 cipher=ECDHE-ECDSA-AES128-GCM-SHA256 bits=128/128);
 Wed, 03 Apr 2024 06:46:29 -0700 (PDT)
X-Relaying-Domain: iol.unh.edu
Date: Wed, 03 Apr 2024 06:46:29 -0700 (PDT)
Message-ID: <660d5db5.050a0220.e0c9a.2a27SMTPIN_ADDED_MISSING@mx.google.com>
Received: from [172.21.0.6] (unknown [172.18.0.240])
 by postal.iol.unh.edu (Postfix) with ESMTP id 1B6A86052471;
 Wed,  3 Apr 2024 09:46:29 -0400 (EDT)
Subject: |SUCCESS| pw139074-139078 [PATCH] [5/5] net/hns3: disable SCTP verif
From: dpdklab@iol.unh.edu
To: Test Report <test-report@dpdk.org>
Cc: dpdk-test-reports@iol.unh.edu
In-Reply-To: <20240403101624.2771140-6-haijie1@huawei.com>
References: <20240403101624.2771140-6-haijie1@huawei.com>
Content-Type: text/plain
X-BeenThere: test-report@dpdk.org
X-Mailman-Version: 2.1.29
Precedence: list
List-Id: automatic DPDK test reports <test-report.dpdk.org>
List-Unsubscribe: <https://mails.dpdk.org/options/test-report>,
 <mailto:test-report-request@dpdk.org?subject=unsubscribe>
List-Archive: <http://mails.dpdk.org/archives/test-report/>
List-Post: <mailto:test-report@dpdk.org>
List-Help: <mailto:test-report-request@dpdk.org?subject=help>
List-Subscribe: <https://mails.dpdk.org/listinfo/test-report>,
 <mailto:test-report-request@dpdk.org?subject=subscribe>
Errors-To: test-report-bounces@dpdk.org

Test-Label: iol-compile-amd64-testing
Test-Status: SUCCESS
http://dpdk.org/patch/139078

_Testing PASS_

Submitter: Jie Hai <haijie1@huawei.com>
Date: Wednesday, April 03 2024 10:16:23 
DPDK git baseline: Repo:dpdk
  Branch: master
  CommitID:e2e546ab5bf5e024986ccb5310ab43982f3bb40c

139074-139078 --> testing pass

Test environment and result as below:

+---------------------+--------------------+-------------------+----------------------+
|     Environment     | dpdk_meson_compile | dpdk_msvc_compile | dpdk_mingw64_compile |
+=====================+====================+===================+======================+
| FreeBSD 13.2        | PASS               | SKIPPED           | SKIPPED              |
+---------------------+--------------------+-------------------+----------------------+
| Windows Server 2019 | PASS               | SKIPPED           | PASS                 |
+---------------------+--------------------+-------------------+----------------------+
| Debian Bullseye     | PASS               | SKIPPED           | SKIPPED              |
+---------------------+--------------------+-------------------+----------------------+
| Windows Server 2022 | PASS               | PASS              | PASS                 |
+---------------------+--------------------+-------------------+----------------------+
| Fedora 37           | PASS               | SKIPPED           | SKIPPED              |
+---------------------+--------------------+-------------------+----------------------+
| CentOS Stream 8     | PASS               | SKIPPED           | SKIPPED              |
+---------------------+--------------------+-------------------+----------------------+
| Debian 12           | PASS               | SKIPPED           | SKIPPED              |
+---------------------+--------------------+-------------------+----------------------+


FreeBSD 13.2
	Kernel: 13.2
	Compiler: clang 14.0.5

Windows Server 2019
	Kernel: 10.0.17763
	Compiler: clang 14.0 and gcc 8.1.0 (MinGW)

Debian Bullseye
	Kernel: 5.4.0-167-generic
	Compiler: gcc 10.2.1-6

Windows Server 2022
	Kernel: 10.0.20348.2031
	Compiler: clang 15.0.7, gcc 8.1.0 (MinGW), and MSVC VS 17.9

Fedora 37
	Kernel: Depends on container host system
	Compiler: gcc 12.3.1

CentOS Stream 8
	Kernel: 5.4.0-167-generic
	Compiler: gcc 8.5.0 20210514

Debian 12
	Kernel: Container Host Kernel
	Compiler: gcc 10.2.1

To view detailed results, visit:
https://lab.dpdk.org/results/dashboard/patchsets/29701/

UNH-IOL DPDK Community Lab

To manage your email subscriptions, visit: 
https://lab.dpdk.org/results/dashboard/preferences/subscriptions/