From mboxrd@z Thu Jan  1 00:00:00 1970
Return-Path: <test-report-bounces@dpdk.org>
Received: from mails.dpdk.org (mails.dpdk.org [217.70.189.124])
	by inbox.dpdk.org (Postfix) with ESMTP id 6D70243DEC
	for <public@inbox.dpdk.org>; Wed,  3 Apr 2024 15:49:13 +0200 (CEST)
Received: from mails.dpdk.org (localhost [127.0.0.1])
	by mails.dpdk.org (Postfix) with ESMTP id 6909D402CE;
	Wed,  3 Apr 2024 15:49:13 +0200 (CEST)
Received: from mail-yw1-f228.google.com (mail-yw1-f228.google.com
 [209.85.128.228])
 by mails.dpdk.org (Postfix) with ESMTP id 29FFA4025C
 for <test-report@dpdk.org>; Wed,  3 Apr 2024 15:49:12 +0200 (CEST)
Received: by mail-yw1-f228.google.com with SMTP id
 00721157ae682-6144369599bso39170977b3.3
 for <test-report@dpdk.org>; Wed, 03 Apr 2024 06:49:12 -0700 (PDT)
DKIM-Signature: v=1; a=rsa-sha256; c=relaxed/relaxed;
 d=iol.unh.edu; s=unh-iol; t=1712152151; x=1712756951; darn=dpdk.org;
 h=references:in-reply-to:cc:to:from:subject:message-id:date:from:to
 :cc:subject:date:message-id:reply-to;
 bh=TruhyqVnx0rm9XwhAO2wokMZ/0U87ZV8X2h/jXn51Bc=;
 b=YpDESSOj5IU9fPEGwAuvP8c9wJlVKjaTCKPpoiNPzC6m0TmO/hVARZ8G3UdrlXTURV
 NN3DwvOJuzFRHoS+SGHayK8Cl+VNb2wTKx5CM//MywAgJtvIub8cebm/7FF1wC8GtOJ+
 bTGMIlzSFTT/J8BvNijvUS8fgRSpVOu0cavkk=
X-Google-DKIM-Signature: v=1; a=rsa-sha256; c=relaxed/relaxed;
 d=1e100.net; s=20230601; t=1712152151; x=1712756951;
 h=references:in-reply-to:cc:to:from:subject:message-id:date
 :x-gm-message-state:from:to:cc:subject:date:message-id:reply-to;
 bh=TruhyqVnx0rm9XwhAO2wokMZ/0U87ZV8X2h/jXn51Bc=;
 b=EeWpg5wbbh7xJT6rjfpLeUsJXOqFr3nCeeP7/E9f61tahvYOz9iv6SxKGZzDesnfpL
 ymzmCXDIQTTJByBpNGQsMeUpzQDxrKU3joUVwTF6V9m8czk4nePLo/UG5W6vi6dF9itT
 fONG9Cwfv0SaNEMQw659MM4zBWx+EAyTk+NJtrhO4XqFjYsPVZC7VIGWCyCIby3XS7rM
 DwGsNgf1S9uTvcvb02pAUZ2Ud3k1X2femn32Ko9sLw9eAef1LnZ+jVb6/rgEm0GC3n9A
 /yRrgGKV7OlmQB5dbqytphPSQomj9ZGUT9ddfjHRqKA40IIcZuyPvjDniI+PwObK/Djo
 8bTw==
X-Gm-Message-State: AOJu0YxvUALdCse9FA+wNAXuLGPcDZRL5CxsIKzahDqQaZuJtXwmVx3k
 rqi4Bhb3L2mbDTUlB6V0lCsY6DbZ2F2sFGQ0gYjf6O4RqWJjfdMf3/tXArOGBoJxudsErKg3TKD
 N+FlphiqG8WAAd9VKcf55gScQali+ggg8rnJ/sOMZ
X-Google-Smtp-Source: AGHT+IEmjhlAZPupODXlQAr2RXCQtX2/CkoWqFRv19wLzkr0I/BN/Sgf+wIRFxH/gZdjWFzYxI+f5r4GqVrK
X-Received: by 2002:a81:a185:0:b0:615:27b6:7627 with SMTP id
 y127-20020a81a185000000b0061527b67627mr4850983ywg.37.1712152151141; 
 Wed, 03 Apr 2024 06:49:11 -0700 (PDT)
Received: from postal.iol.unh.edu (postal.iol.unh.edu. [132.177.123.84])
 by smtp-relay.gmail.com with ESMTPS id
 ij6-20020a05690c6ac600b00614d79caf98sm392041ywb.31.2024.04.03.06.49.11
 (version=TLS1_2 cipher=ECDHE-ECDSA-AES128-GCM-SHA256 bits=128/128);
 Wed, 03 Apr 2024 06:49:11 -0700 (PDT)
X-Relaying-Domain: iol.unh.edu
Date: Wed, 03 Apr 2024 06:49:11 -0700 (PDT)
Message-ID: <660d5e57.050a0220.9f084.4aa5SMTPIN_ADDED_MISSING@mx.google.com>
Received: from [172.21.0.7] (unknown [172.18.0.240])
 by postal.iol.unh.edu (Postfix) with ESMTP id 7D0BA6052471;
 Wed,  3 Apr 2024 09:49:10 -0400 (EDT)
Subject: |SUCCESS| pw139074-139078 [PATCH] [5/5] net/hns3: disable SCTP verif
From: dpdklab@iol.unh.edu
To: Test Report <test-report@dpdk.org>
Cc: dpdk-test-reports@iol.unh.edu
In-Reply-To: <20240403101624.2771140-6-haijie1@huawei.com>
References: <20240403101624.2771140-6-haijie1@huawei.com>
Content-Type: text/plain
X-BeenThere: test-report@dpdk.org
X-Mailman-Version: 2.1.29
Precedence: list
List-Id: automatic DPDK test reports <test-report.dpdk.org>
List-Unsubscribe: <https://mails.dpdk.org/options/test-report>,
 <mailto:test-report-request@dpdk.org?subject=unsubscribe>
List-Archive: <http://mails.dpdk.org/archives/test-report/>
List-Post: <mailto:test-report@dpdk.org>
List-Help: <mailto:test-report-request@dpdk.org?subject=help>
List-Subscribe: <https://mails.dpdk.org/listinfo/test-report>,
 <mailto:test-report-request@dpdk.org?subject=subscribe>
Errors-To: test-report-bounces@dpdk.org

Test-Label: iol-compile-arm64-testing
Test-Status: SUCCESS
http://dpdk.org/patch/139078

_Testing PASS_

Submitter: Jie Hai <haijie1@huawei.com>
Date: Wednesday, April 03 2024 10:16:23 
DPDK git baseline: Repo:dpdk
  Branch: master
  CommitID:e2e546ab5bf5e024986ccb5310ab43982f3bb40c

139074-139078 --> testing pass

Test environment and result as below:

+--------------------------+--------------------+
|       Environment        | dpdk_meson_compile |
+==========================+====================+
| Ubuntu 20.04 ARM SVE     | PASS               |
+--------------------------+--------------------+
| Debian 12 with MUSDK     | PASS               |
+--------------------------+--------------------+
| Fedora 37 (ARM)          | PASS               |
+--------------------------+--------------------+
| Fedora 38 (ARM)          | PASS               |
+--------------------------+--------------------+
| Debian 11 (Buster) (ARM) | PASS               |
+--------------------------+--------------------+
| Fedora 39 (ARM)          | PASS               |
+--------------------------+--------------------+
| Debian 12 (arm)          | PASS               |
+--------------------------+--------------------+
| CentOS Stream 9 (ARM)    | PASS               |
+--------------------------+--------------------+
| Ubuntu 20.04 (ARM)       | PASS               |
+--------------------------+--------------------+


Ubuntu 20.04 ARM SVE
	Kernel: 5.4.0-167-generic
	Compiler: gcc (Ubuntu 10.5.0-1ubuntu1~20.04) 10.5.0

Debian 12 with MUSDK
	Kernel: Container Host Kernel
	Compiler: gcc 12.2.0

Fedora 37 (ARM)
	Kernel: Depends on container host
	Compiler: gcc 12.3.1

Fedora 38 (ARM)
	Kernel: Depends on container host
	Compiler: gcc 13.2.1

Debian 11 (Buster) (ARM)
	Kernel: Container Host Kernel
	Compiler: gcc 10.2.1

Fedora 39 (ARM)
	Kernel: Depends on container host
	Compiler: gcc 13.2.1

Debian 12 (arm)
	Kernel: Container Host Kernel
	Compiler: gcc 12.2.0

CentOS Stream 9 (ARM)
	Kernel: Container Host Kernel
	Compiler: gcc 11.4.1

Ubuntu 20.04 (ARM)
	Kernel: Container Host Kernel
	Compiler: gcc 9.4.0

To view detailed results, visit:
https://lab.dpdk.org/results/dashboard/patchsets/29701/

UNH-IOL DPDK Community Lab

To manage your email subscriptions, visit: 
https://lab.dpdk.org/results/dashboard/preferences/subscriptions/