From mboxrd@z Thu Jan  1 00:00:00 1970
Return-Path: <test-report-bounces@dpdk.org>
Received: from mails.dpdk.org (mails.dpdk.org [217.70.189.124])
	by inbox.dpdk.org (Postfix) with ESMTP id 6436343DEC
	for <public@inbox.dpdk.org>; Wed,  3 Apr 2024 15:54:32 +0200 (CEST)
Received: from mails.dpdk.org (localhost [127.0.0.1])
	by mails.dpdk.org (Postfix) with ESMTP id 5FAE1402CE;
	Wed,  3 Apr 2024 15:54:32 +0200 (CEST)
Received: from mail-qt1-f227.google.com (mail-qt1-f227.google.com
 [209.85.160.227])
 by mails.dpdk.org (Postfix) with ESMTP id 095024025C
 for <test-report@dpdk.org>; Wed,  3 Apr 2024 15:54:31 +0200 (CEST)
Received: by mail-qt1-f227.google.com with SMTP id
 d75a77b69052e-430b7b22b17so39477831cf.2
 for <test-report@dpdk.org>; Wed, 03 Apr 2024 06:54:30 -0700 (PDT)
DKIM-Signature: v=1; a=rsa-sha256; c=relaxed/relaxed;
 d=iol.unh.edu; s=unh-iol; t=1712152470; x=1712757270; darn=dpdk.org;
 h=references:in-reply-to:cc:to:from:subject:message-id:date:from:to
 :cc:subject:date:message-id:reply-to;
 bh=d+XzWurCagwECGZJV8HIuQcx0zYHSxeLBJKmXvN0DB8=;
 b=Ccry/vJspxTQv9h1P7sLNbA7NrQBhbztuINVmgqbkwHgWCVSQDbRVBa+l0MV5FOZH+
 P3sOnibn2Oi9oS3+i9SZ6iWzdR3xvERPp2L6dgoJUVoFMaXDEgPCTCJvtXWwt71jkKtv
 FWwqP8NPJ9ZC37Lh/3JPDeokuITIIAY42+gHg=
X-Google-DKIM-Signature: v=1; a=rsa-sha256; c=relaxed/relaxed;
 d=1e100.net; s=20230601; t=1712152470; x=1712757270;
 h=references:in-reply-to:cc:to:from:subject:message-id:date
 :x-gm-message-state:from:to:cc:subject:date:message-id:reply-to;
 bh=d+XzWurCagwECGZJV8HIuQcx0zYHSxeLBJKmXvN0DB8=;
 b=D8hFRBkvyVvD0vUudMeTUnF4al3k9NPEqr8sTEoDUlGOctprKD0AOk3dKNazjJHyKR
 lIHv9fFGgd6cY3+WQD9Ubvsi+mvoZ6nnX0DPxM0+ifENm1k2l1wzqJWGnbRihjDJhFnm
 uoMU2ZiQZPNOCjrilvsKttZO7ZVbepKTQpSOXF5A/0eJ8aft6t/3hj/39f+m6bYwXPf6
 8C09d7EpFWN4UmSV2siSWsb2ADpsXUNVGtqo2luNvGGC/henPsJyT+JfN4OTChbK5CLH
 b/xb1gCzRWZ+ETpCvlgxTUrJWplp0BjP5/8mTjHNytyqXhcYK19Q1zdkE2PROnOf9a13
 d64Q==
X-Gm-Message-State: AOJu0YzluSMymjZzBE0lALbFJxuziUkbWzM6zTqHMYpcW6J1j51QWbIP
 xxA7yCSfEQrEbcCxhGUYYf/aXvtrYKb1XzZlGIfpmb61bqgUOdhciOvq/BPI6vmilHdKu1jyRHE
 J3NgFPsiBN5ri/XL+1WSnW5kSSftJ9ogu3mj6W55/
X-Google-Smtp-Source: AGHT+IHod3i/5FLhuZnzyFrKszFLoHgEsYxq8gj7OWB17Jbjnn2VNCczORCz9EYLOpgYrAAB7t2j1LkKMaIU
X-Received: by 2002:a05:622a:547:b0:431:529b:e0ed with SMTP id
 m7-20020a05622a054700b00431529be0edmr19421248qtx.14.1712152470391; 
 Wed, 03 Apr 2024 06:54:30 -0700 (PDT)
Received: from postal.iol.unh.edu (postal.iol.unh.edu. [132.177.123.84])
 by smtp-relay.gmail.com with ESMTPS id
 en6-20020a05622a540600b00430d276817csm1347490qtb.15.2024.04.03.06.54.30
 (version=TLS1_2 cipher=ECDHE-ECDSA-AES128-GCM-SHA256 bits=128/128);
 Wed, 03 Apr 2024 06:54:30 -0700 (PDT)
X-Relaying-Domain: iol.unh.edu
Date: Wed, 03 Apr 2024 06:54:30 -0700 (PDT)
Message-ID: <660d5f96.050a0220.8926e.ec85SMTPIN_ADDED_MISSING@mx.google.com>
Received: from [172.21.0.6] (unknown [172.18.0.240])
 by postal.iol.unh.edu (Postfix) with ESMTP id 079C46052471;
 Wed,  3 Apr 2024 09:54:30 -0400 (EDT)
Subject: |SUCCESS| pw139074-139078 [PATCH] [5/5] net/hns3: disable SCTP verif
From: dpdklab@iol.unh.edu
To: Test Report <test-report@dpdk.org>
Cc: dpdk-test-reports@iol.unh.edu
In-Reply-To: <20240403101624.2771140-6-haijie1@huawei.com>
References: <20240403101624.2771140-6-haijie1@huawei.com>
Content-Type: text/plain
X-BeenThere: test-report@dpdk.org
X-Mailman-Version: 2.1.29
Precedence: list
List-Id: automatic DPDK test reports <test-report.dpdk.org>
List-Unsubscribe: <https://mails.dpdk.org/options/test-report>,
 <mailto:test-report-request@dpdk.org?subject=unsubscribe>
List-Archive: <http://mails.dpdk.org/archives/test-report/>
List-Post: <mailto:test-report@dpdk.org>
List-Help: <mailto:test-report-request@dpdk.org?subject=help>
List-Subscribe: <https://mails.dpdk.org/listinfo/test-report>,
 <mailto:test-report-request@dpdk.org?subject=subscribe>
Errors-To: test-report-bounces@dpdk.org

Test-Label: iol-abi-testing
Test-Status: SUCCESS
http://dpdk.org/patch/139078

_Testing PASS_

Submitter: Jie Hai <haijie1@huawei.com>
Date: Wednesday, April 03 2024 10:16:23 
DPDK git baseline: Repo:dpdk
  Branch: master
  CommitID:e2e546ab5bf5e024986ccb5310ab43982f3bb40c

139074-139078 --> testing pass

Test environment and result as below:

+------------------+----------+
|   Environment    | abi_test |
+==================+==========+
| Debian Bullseye  | PASS     |
+------------------+----------+
| Fedora 38        | PASS     |
+------------------+----------+
| CentOS Stream 8  | PASS     |
+------------------+----------+
| CentOS Stream 9  | PASS     |
+------------------+----------+
| openSUSE Leap 15 | PASS     |
+------------------+----------+
| Debian 12        | PASS     |
+------------------+----------+
| Fedora 37        | PASS     |
+------------------+----------+
| Fedora 39        | PASS     |
+------------------+----------+
| Ubuntu 22.04     | PASS     |
+------------------+----------+


Debian Bullseye
	Kernel: 5.4.0-167-generic
	Compiler: gcc 10.2.1-6

Fedora 38
	Kernel: Depends on container host
	Compiler: clang 16.0.6

CentOS Stream 8
	Kernel: 5.4.0-167-generic
	Compiler: gcc 8.5.0 20210514

CentOS Stream 9
	Kernel: 5.4.0-167-generic
	Compiler: gcc 11.4.1 20230605

openSUSE Leap 15
	Kernel: 5.4.0-167-generic
	Compiler: gcc 7.5.0

Debian 12
	Kernel: Container Host Kernel
	Compiler: gcc 10.2.1

Fedora 37
	Kernel: Depends on container host system
	Compiler: gcc 12.3.1

Fedora 39
	Kernel: Depends on container host
	Compiler: gcc 13.2.1

Ubuntu 22.04
	Kernel: 5.4.0-167-generic
	Compiler: gcc 11.4.0

To view detailed results, visit:
https://lab.dpdk.org/results/dashboard/patchsets/29701/

UNH-IOL DPDK Community Lab

To manage your email subscriptions, visit: 
https://lab.dpdk.org/results/dashboard/preferences/subscriptions/