From mboxrd@z Thu Jan  1 00:00:00 1970
Return-Path: <test-report-bounces@dpdk.org>
Received: from mails.dpdk.org (mails.dpdk.org [217.70.189.124])
	by inbox.dpdk.org (Postfix) with ESMTP id 800B443DEC
	for <public@inbox.dpdk.org>; Wed,  3 Apr 2024 15:55:05 +0200 (CEST)
Received: from mails.dpdk.org (localhost [127.0.0.1])
	by mails.dpdk.org (Postfix) with ESMTP id 7BAAE402CE;
	Wed,  3 Apr 2024 15:55:05 +0200 (CEST)
Received: from mail-pf1-f228.google.com (mail-pf1-f228.google.com
 [209.85.210.228])
 by mails.dpdk.org (Postfix) with ESMTP id 813D8402CE
 for <test-report@dpdk.org>; Wed,  3 Apr 2024 15:55:03 +0200 (CEST)
Received: by mail-pf1-f228.google.com with SMTP id
 d2e1a72fcca58-6eaf1a3e917so3554892b3a.2
 for <test-report@dpdk.org>; Wed, 03 Apr 2024 06:55:03 -0700 (PDT)
DKIM-Signature: v=1; a=rsa-sha256; c=relaxed/relaxed;
 d=iol.unh.edu; s=unh-iol; t=1712152503; x=1712757303; darn=dpdk.org;
 h=references:in-reply-to:cc:to:from:subject:message-id:date:from:to
 :cc:subject:date:message-id:reply-to;
 bh=d+XzWurCagwECGZJV8HIuQcx0zYHSxeLBJKmXvN0DB8=;
 b=Om+tXdjzqy8jjjCPR93cPS00JucUO2KGDebbw5HFgLzbVdpxhUfVZKu1xdOXrqWeQd
 Tn28DV04+RPIodr0WDNjoM6xjTkgqzCE31WV770Q9l5N/uqJSwYeEu/5tMa8eJzuni6f
 KouTEjfgY7CeZetwV+SxYkvThHyIuL8aR6crU=
X-Google-DKIM-Signature: v=1; a=rsa-sha256; c=relaxed/relaxed;
 d=1e100.net; s=20230601; t=1712152503; x=1712757303;
 h=references:in-reply-to:cc:to:from:subject:message-id:date
 :x-gm-message-state:from:to:cc:subject:date:message-id:reply-to;
 bh=d+XzWurCagwECGZJV8HIuQcx0zYHSxeLBJKmXvN0DB8=;
 b=icB84L6kSfoTkaoWhO0J671iHaPNc8Twvfm+2kRLv0Zvhk3yBUQz4P+3O6xGubzVGW
 OAfUigPp4pJsruPY7cE1U/fzd/Nz7Tdt99Sf5RMlb8glzBCok3WtZ1BwlAkAxd4ARsEB
 Wu1NseMDqv57twvcm4PB4Go4PCVIzslcWEk+imm09CbObtDr9xjOjlOEQEx1TRlCEnga
 LCIFThLfWxJlxHjhabicZ/7wfpUHX49LXbxnpyEIZHX9QWri8gpHdnegT6mfifsOVxmN
 weg7r3mfYUiq3CEdmACij1vBRmudL36fSB2rlOuzOBP38WbUcQiB1xXIvy5hDwTDDMQr
 4/CQ==
X-Gm-Message-State: AOJu0YwmygdnicLmEMlWYiEFOtiM+5aCFwqz5B16VQt96jC8pKLthA7C
 WuW1Ljz54A+yhoAiXspwLdELMolsHylhZ3TZjh8J9qLoGhClaA/fPjF12/6W7/b+OydvdRNeW8u
 IGG1/e882Vl4vN7PV2VpIikoUkAmyGViLIkqJc2Qe7o9fhq6WLFYj5sqm
X-Google-Smtp-Source: AGHT+IG4JkH3Bvqghf/VaO9NUCCNUledgq13co6oFT01CCnLC8tf8CmkDrJNhmrNuuTtDgmSeegp9ZKX0Q1X
X-Received: by 2002:a05:6a21:8cca:b0:1a3:df97:927c with SMTP id
 ta10-20020a056a218cca00b001a3df97927cmr16328290pzb.5.1712152502748; 
 Wed, 03 Apr 2024 06:55:02 -0700 (PDT)
Received: from postal.iol.unh.edu (postal.iol.unh.edu.
 [2606:4100:3880:1234::84]) by smtp-relay.gmail.com with ESMTPS id
 m7-20020a1709026bc700b001dbf607250esm316005plt.20.2024.04.03.06.55.02
 (version=TLS1_2 cipher=ECDHE-ECDSA-AES128-GCM-SHA256 bits=128/128);
 Wed, 03 Apr 2024 06:55:02 -0700 (PDT)
X-Relaying-Domain: iol.unh.edu
Date: Wed, 03 Apr 2024 06:55:02 -0700 (PDT)
Message-ID: <660d5fb6.170a0220.7d30b.16e4SMTPIN_ADDED_MISSING@mx.google.com>
Received: from [172.21.0.7] (unknown [172.18.0.240])
 by postal.iol.unh.edu (Postfix) with ESMTP id 284976052471;
 Wed,  3 Apr 2024 09:55:02 -0400 (EDT)
Subject: |SUCCESS| pw139074-139078 [PATCH] [5/5] net/hns3: disable SCTP verif
From: dpdklab@iol.unh.edu
To: Test Report <test-report@dpdk.org>
Cc: dpdk-test-reports@iol.unh.edu
In-Reply-To: <20240403101624.2771140-6-haijie1@huawei.com>
References: <20240403101624.2771140-6-haijie1@huawei.com>
Content-Type: text/plain
X-BeenThere: test-report@dpdk.org
X-Mailman-Version: 2.1.29
Precedence: list
List-Id: automatic DPDK test reports <test-report.dpdk.org>
List-Unsubscribe: <https://mails.dpdk.org/options/test-report>,
 <mailto:test-report-request@dpdk.org?subject=unsubscribe>
List-Archive: <http://mails.dpdk.org/archives/test-report/>
List-Post: <mailto:test-report@dpdk.org>
List-Help: <mailto:test-report-request@dpdk.org?subject=help>
List-Subscribe: <https://mails.dpdk.org/listinfo/test-report>,
 <mailto:test-report-request@dpdk.org?subject=subscribe>
Errors-To: test-report-bounces@dpdk.org

Test-Label: iol-abi-testing
Test-Status: SUCCESS
http://dpdk.org/patch/139078

_Testing PASS_

Submitter: Jie Hai <haijie1@huawei.com>
Date: Wednesday, April 03 2024 10:16:23 
DPDK git baseline: Repo:dpdk
  Branch: master
  CommitID:e2e546ab5bf5e024986ccb5310ab43982f3bb40c

139074-139078 --> testing pass

Test environment and result as below:

+------------------+----------+
|   Environment    | abi_test |
+==================+==========+
| Debian Bullseye  | PASS     |
+------------------+----------+
| Fedora 38        | PASS     |
+------------------+----------+
| CentOS Stream 8  | PASS     |
+------------------+----------+
| CentOS Stream 9  | PASS     |
+------------------+----------+
| openSUSE Leap 15 | PASS     |
+------------------+----------+
| Debian 12        | PASS     |
+------------------+----------+
| Fedora 37        | PASS     |
+------------------+----------+
| Fedora 39        | PASS     |
+------------------+----------+
| Ubuntu 22.04     | PASS     |
+------------------+----------+


Debian Bullseye
	Kernel: 5.4.0-167-generic
	Compiler: gcc 10.2.1-6

Fedora 38
	Kernel: Depends on container host
	Compiler: clang 16.0.6

CentOS Stream 8
	Kernel: 5.4.0-167-generic
	Compiler: gcc 8.5.0 20210514

CentOS Stream 9
	Kernel: 5.4.0-167-generic
	Compiler: gcc 11.4.1 20230605

openSUSE Leap 15
	Kernel: 5.4.0-167-generic
	Compiler: gcc 7.5.0

Debian 12
	Kernel: Container Host Kernel
	Compiler: gcc 10.2.1

Fedora 37
	Kernel: Depends on container host system
	Compiler: gcc 12.3.1

Fedora 39
	Kernel: Depends on container host
	Compiler: gcc 13.2.1

Ubuntu 22.04
	Kernel: 5.4.0-167-generic
	Compiler: gcc 11.4.0

To view detailed results, visit:
https://lab.dpdk.org/results/dashboard/patchsets/29701/

UNH-IOL DPDK Community Lab

To manage your email subscriptions, visit: 
https://lab.dpdk.org/results/dashboard/preferences/subscriptions/