From mboxrd@z Thu Jan  1 00:00:00 1970
Return-Path: <test-report-bounces@dpdk.org>
Received: from mails.dpdk.org (mails.dpdk.org [217.70.189.124])
	by inbox.dpdk.org (Postfix) with ESMTP id EE1F543DEC
	for <public@inbox.dpdk.org>; Wed,  3 Apr 2024 15:57:53 +0200 (CEST)
Received: from mails.dpdk.org (localhost [127.0.0.1])
	by mails.dpdk.org (Postfix) with ESMTP id E8DC6402CE;
	Wed,  3 Apr 2024 15:57:53 +0200 (CEST)
Received: from mail-pl1-f225.google.com (mail-pl1-f225.google.com
 [209.85.214.225])
 by mails.dpdk.org (Postfix) with ESMTP id 9E65C4025C
 for <test-report@dpdk.org>; Wed,  3 Apr 2024 15:57:52 +0200 (CEST)
Received: by mail-pl1-f225.google.com with SMTP id
 d9443c01a7336-1e28efd8335so6340465ad.0
 for <test-report@dpdk.org>; Wed, 03 Apr 2024 06:57:52 -0700 (PDT)
DKIM-Signature: v=1; a=rsa-sha256; c=relaxed/relaxed;
 d=iol.unh.edu; s=unh-iol; t=1712152672; x=1712757472; darn=dpdk.org;
 h=references:in-reply-to:cc:to:from:subject:message-id:date:from:to
 :cc:subject:date:message-id:reply-to;
 bh=d+XzWurCagwECGZJV8HIuQcx0zYHSxeLBJKmXvN0DB8=;
 b=LCALb+l0c+n6EQv8iWsj81GiT6S05rXQuZfXQkt2K9ZkASzdv7Fdv0U1o07HeFqDsF
 2HcdgH1Kwrbmv5bQ/yXdc+0gkCB39SwE4KowXivKmRI7LBN3XW7uK/es74gucUtLrsNA
 n3MCmcN4MKflw6Ib0TKF7dQFM9gC2fZsKR/nA=
X-Google-DKIM-Signature: v=1; a=rsa-sha256; c=relaxed/relaxed;
 d=1e100.net; s=20230601; t=1712152672; x=1712757472;
 h=references:in-reply-to:cc:to:from:subject:message-id:date
 :x-gm-message-state:from:to:cc:subject:date:message-id:reply-to;
 bh=d+XzWurCagwECGZJV8HIuQcx0zYHSxeLBJKmXvN0DB8=;
 b=HCtAGRiunmDOh+pZcbtPT8vSfEeiafd558Shn07zgG6HFHc3EGJTbFh1gwqQ5DsBpP
 +kncQKkdm9h9nF7rL6tWa6KdDyO3SK0zyv64WqW+sCjUEmw7YxQGTMoawXnVGhfJJPiZ
 N09ymzbJn7KOHRwrwC9nEHiPCnflA6LodCQ9XVb2G2U/otZ1FjGJJR1yFd9HS3L4X39N
 kp0tRdRRFdsHN8Wolb1c7en8cBV0TeAi22Oirbr8kMhJHAzUuDl+qv7c2R5/hFDl4Isy
 oLgX8CgGh3rSZfDmXZ9jE/P7siG+/SzVhkWNq7eZzJJzo9A3/iq2myT1DvxYjpkX9kXC
 kKHQ==
X-Gm-Message-State: AOJu0YxUkGIg/1f/mRxgult2c0K1avQHnyArJRMuYH1wUYnaU/47yD0l
 6P8YyGv5wp0yd++MItwlgFWJkns2tw3gPRyMYV+o7cf3KpIpS4xgUXYggEJkR9imiuptGsVR4j4
 ovxMmqMuJ67OZ0ldI6lJW/6kR4juwul7IYu5Rf0Ue
X-Google-Smtp-Source: AGHT+IFdqu+zsgsG6olkWFTvBMb7GMgnHT5Q2RBVPIFldx/WhJiZBU/hzwq/yl/1cnCi4b8Qk2t3MIu4omY2
X-Received: by 2002:a17:903:210a:b0:1e2:a40d:9f94 with SMTP id
 o10-20020a170903210a00b001e2a40d9f94mr274ple.24.1712152671798; 
 Wed, 03 Apr 2024 06:57:51 -0700 (PDT)
Received: from postal.iol.unh.edu (postal.iol.unh.edu. [132.177.123.84])
 by smtp-relay.gmail.com with ESMTPS id
 kj7-20020a17090306c700b001d9a515ae87sm326897plb.45.2024.04.03.06.57.51
 (version=TLS1_2 cipher=ECDHE-ECDSA-AES128-GCM-SHA256 bits=128/128);
 Wed, 03 Apr 2024 06:57:51 -0700 (PDT)
X-Relaying-Domain: iol.unh.edu
Date: Wed, 03 Apr 2024 06:57:51 -0700 (PDT)
Message-ID: <660d605f.170a0220.b8639.1d22SMTPIN_ADDED_MISSING@mx.google.com>
Received: from [172.21.0.6] (unknown [172.18.0.240])
 by postal.iol.unh.edu (Postfix) with ESMTP id 408706052471;
 Wed,  3 Apr 2024 09:57:51 -0400 (EDT)
Subject: |SUCCESS| pw139074-139078 [PATCH] [5/5] net/hns3: disable SCTP verif
From: dpdklab@iol.unh.edu
To: Test Report <test-report@dpdk.org>
Cc: dpdk-test-reports@iol.unh.edu
In-Reply-To: <20240403101624.2771140-6-haijie1@huawei.com>
References: <20240403101624.2771140-6-haijie1@huawei.com>
Content-Type: text/plain
X-BeenThere: test-report@dpdk.org
X-Mailman-Version: 2.1.29
Precedence: list
List-Id: automatic DPDK test reports <test-report.dpdk.org>
List-Unsubscribe: <https://mails.dpdk.org/options/test-report>,
 <mailto:test-report-request@dpdk.org?subject=unsubscribe>
List-Archive: <http://mails.dpdk.org/archives/test-report/>
List-Post: <mailto:test-report@dpdk.org>
List-Help: <mailto:test-report-request@dpdk.org?subject=help>
List-Subscribe: <https://mails.dpdk.org/listinfo/test-report>,
 <mailto:test-report-request@dpdk.org?subject=subscribe>
Errors-To: test-report-bounces@dpdk.org

Test-Label: iol-abi-testing
Test-Status: SUCCESS
http://dpdk.org/patch/139078

_Testing PASS_

Submitter: Jie Hai <haijie1@huawei.com>
Date: Wednesday, April 03 2024 10:16:23 
DPDK git baseline: Repo:dpdk
  Branch: master
  CommitID:e2e546ab5bf5e024986ccb5310ab43982f3bb40c

139074-139078 --> testing pass

Test environment and result as below:

+------------------+----------+
|   Environment    | abi_test |
+==================+==========+
| Debian Bullseye  | PASS     |
+------------------+----------+
| Fedora 38        | PASS     |
+------------------+----------+
| CentOS Stream 8  | PASS     |
+------------------+----------+
| CentOS Stream 9  | PASS     |
+------------------+----------+
| openSUSE Leap 15 | PASS     |
+------------------+----------+
| Debian 12        | PASS     |
+------------------+----------+
| Fedora 37        | PASS     |
+------------------+----------+
| Fedora 39        | PASS     |
+------------------+----------+
| Ubuntu 22.04     | PASS     |
+------------------+----------+


Debian Bullseye
	Kernel: 5.4.0-167-generic
	Compiler: gcc 10.2.1-6

Fedora 38
	Kernel: Depends on container host
	Compiler: clang 16.0.6

CentOS Stream 8
	Kernel: 5.4.0-167-generic
	Compiler: gcc 8.5.0 20210514

CentOS Stream 9
	Kernel: 5.4.0-167-generic
	Compiler: gcc 11.4.1 20230605

openSUSE Leap 15
	Kernel: 5.4.0-167-generic
	Compiler: gcc 7.5.0

Debian 12
	Kernel: Container Host Kernel
	Compiler: gcc 10.2.1

Fedora 37
	Kernel: Depends on container host system
	Compiler: gcc 12.3.1

Fedora 39
	Kernel: Depends on container host
	Compiler: gcc 13.2.1

Ubuntu 22.04
	Kernel: 5.4.0-167-generic
	Compiler: gcc 11.4.0

To view detailed results, visit:
https://lab.dpdk.org/results/dashboard/patchsets/29701/

UNH-IOL DPDK Community Lab

To manage your email subscriptions, visit: 
https://lab.dpdk.org/results/dashboard/preferences/subscriptions/