From mboxrd@z Thu Jan  1 00:00:00 1970
Return-Path: <test-report-bounces@dpdk.org>
Received: from mails.dpdk.org (mails.dpdk.org [217.70.189.124])
	by inbox.dpdk.org (Postfix) with ESMTP id D54F143DED
	for <public@inbox.dpdk.org>; Wed,  3 Apr 2024 16:10:43 +0200 (CEST)
Received: from mails.dpdk.org (localhost [127.0.0.1])
	by mails.dpdk.org (Postfix) with ESMTP id D0928402CB;
	Wed,  3 Apr 2024 16:10:43 +0200 (CEST)
Received: from mail-yw1-f225.google.com (mail-yw1-f225.google.com
 [209.85.128.225])
 by mails.dpdk.org (Postfix) with ESMTP id E44504025C
 for <test-report@dpdk.org>; Wed,  3 Apr 2024 16:10:42 +0200 (CEST)
Received: by mail-yw1-f225.google.com with SMTP id
 00721157ae682-6153d85053aso15164917b3.0
 for <test-report@dpdk.org>; Wed, 03 Apr 2024 07:10:42 -0700 (PDT)
DKIM-Signature: v=1; a=rsa-sha256; c=relaxed/relaxed;
 d=iol.unh.edu; s=unh-iol; t=1712153442; x=1712758242; darn=dpdk.org;
 h=references:in-reply-to:cc:to:from:subject:message-id:date:from:to
 :cc:subject:date:message-id:reply-to;
 bh=QUDPyC2nnGRPozhWdy4LloQtzjLYurIgyShCdX2Vfyw=;
 b=G8mkDETArMQcFOsGHjgM5XXmf7vHvV8W068DqjUxAOYxVcezuxemcphEoIQBW1KHF/
 +RMIWyIOtp9aA0K7fijBB/CNop7Uthqr8J7JIpCM8FowigJKibIJ5GYpeUzn5h7PlXtt
 Hrr29wZyEjY+U9E/cUkUp95iqE3sVR1/tacsM=
X-Google-DKIM-Signature: v=1; a=rsa-sha256; c=relaxed/relaxed;
 d=1e100.net; s=20230601; t=1712153442; x=1712758242;
 h=references:in-reply-to:cc:to:from:subject:message-id:date
 :x-gm-message-state:from:to:cc:subject:date:message-id:reply-to;
 bh=QUDPyC2nnGRPozhWdy4LloQtzjLYurIgyShCdX2Vfyw=;
 b=S61PQNj8akb8nTWEpDSlQa69U8RN0bEpQUIzh2bBLMKClePcibwjCsVlc3GgvdOLmC
 rXAVYmq6B/ML/3stm6Ed7vUA0tUgQ65R/6RoUEKXiJBd8CTX/5tyfdcqFR34aDQCzsB5
 5Fxus2B7KDEWdUo7vQpW0Od1wxz2cJuhIZp4oiDXu6cI6NQIqSodl0IHNleIk1kPd26M
 6sVdZYiCnUPjoLIoG1ceEtpebcADUJMcmIbQ462/miECm1RPwjr6r8/6a+flW0PIRbXz
 DeZcz4I6klE8gyQVqZJSPLOUrdsYqCXknhAZWuu2lXvUqbcIns8XKhVJSNyIjQCH2gCg
 vBvA==
X-Gm-Message-State: AOJu0YzNaonJyFEPQXkzOINRaJlB0ActUhu1s7fxWSI+X/RLwc/OsZ95
 jQksTsOAbyXvX2kkLO6ypbinNJCcqksA5IZsHAH4tqEfUoI6OomVIW04Adjhv6qeqi4kMTSFFRg
 rDguI4GM89hcsef/Et5L4wolVKKPhxTHXPep6Jn9kxouDHi86l7hEd03w
X-Google-Smtp-Source: AGHT+IHXlFT3iFNLY+dKx1xGTvF4SSD+Z77KhMo6Zlg+zduVe55r+6iFAnp+YLmNarzbOtsnRy9/3a7dgeRV
X-Received: by 2002:a81:d342:0:b0:611:6c29:416e with SMTP id
 d2-20020a81d342000000b006116c29416emr14588833ywl.5.1712153442344; 
 Wed, 03 Apr 2024 07:10:42 -0700 (PDT)
Received: from postal.iol.unh.edu (postal.iol.unh.edu.
 [2606:4100:3880:1234::84]) by smtp-relay.gmail.com with ESMTPS id
 ij6-20020a05690c6ac600b00614d79caf98sm395637ywb.31.2024.04.03.07.10.42
 (version=TLS1_2 cipher=ECDHE-ECDSA-AES128-GCM-SHA256 bits=128/128);
 Wed, 03 Apr 2024 07:10:42 -0700 (PDT)
X-Relaying-Domain: iol.unh.edu
Date: Wed, 03 Apr 2024 07:10:42 -0700 (PDT)
Message-ID: <660d6362.050a0220.9f084.4c38SMTPIN_ADDED_MISSING@mx.google.com>
Received: from [172.17.0.7] (unknown [172.18.0.217])
 by postal.iol.unh.edu (Postfix) with ESMTP id F1BB16052471;
 Wed,  3 Apr 2024 10:10:41 -0400 (EDT)
Subject: |SUCCESS| pw139074-139078 [PATCH] [5/5] net/hns3: disable SCTP verif
From: dpdklab@iol.unh.edu
To: Test Report <test-report@dpdk.org>
Cc: Jie Hai <haijie1@huawei.com>
In-Reply-To: <20240403101624.2771140-6-haijie1@huawei.com>
References: <20240403101624.2771140-6-haijie1@huawei.com>
Content-Type: text/plain
X-BeenThere: test-report@dpdk.org
X-Mailman-Version: 2.1.29
Precedence: list
List-Id: automatic DPDK test reports <test-report.dpdk.org>
List-Unsubscribe: <https://mails.dpdk.org/options/test-report>,
 <mailto:test-report-request@dpdk.org?subject=unsubscribe>
List-Archive: <http://mails.dpdk.org/archives/test-report/>
List-Post: <mailto:test-report@dpdk.org>
List-Help: <mailto:test-report-request@dpdk.org?subject=help>
List-Subscribe: <https://mails.dpdk.org/listinfo/test-report>,
 <mailto:test-report-request@dpdk.org?subject=subscribe>
Errors-To: test-report-bounces@dpdk.org

Test-Label: iol-unit-amd64-testing
Test-Status: SUCCESS
http://dpdk.org/patch/139078

_Testing PASS_

Submitter: Jie Hai <haijie1@huawei.com>
Date: Wednesday, April 03 2024 10:16:23 
DPDK git baseline: Repo:dpdk
  Branch: master
  CommitID:e2e546ab5bf5e024986ccb5310ab43982f3bb40c

139074-139078 --> testing pass

Test environment and result as below:

+---------------------+----------------+
|     Environment     | dpdk_unit_test |
+=====================+================+
| Windows Server 2019 | PASS           |
+---------------------+----------------+
| Windows Server 2022 | PASS           |
+---------------------+----------------+
| CentOS Stream 9     | PASS           |
+---------------------+----------------+
| Fedora 37           | PASS           |
+---------------------+----------------+
| CentOS Stream 8     | PASS           |
+---------------------+----------------+
| Debian Bullseye     | PASS           |
+---------------------+----------------+


Windows Server 2019
	Kernel: 10.0.17763
	Compiler: clang 14.0 and gcc 8.1.0 (MinGW)

Windows Server 2022
	Kernel: 10.0.20348.2031
	Compiler: clang 15.0.7, gcc 8.1.0 (MinGW), and MSVC VS 17.9

CentOS Stream 9
	Kernel: 5.4.0-167-generic
	Compiler: gcc 11.4.1 20230605

Fedora 37
	Kernel: Depends on container host system
	Compiler: gcc 12.3.1

CentOS Stream 8
	Kernel: 5.4.0-167-generic
	Compiler: gcc 8.5.0 20210514

Debian Bullseye
	Kernel: 5.4.0-167-generic
	Compiler: gcc 10.2.1-6

To view detailed results, visit:
https://lab.dpdk.org/results/dashboard/patchsets/29701/

UNH-IOL DPDK Community Lab

To manage your email subscriptions, visit: 
https://lab.dpdk.org/results/dashboard/preferences/subscriptions/