From mboxrd@z Thu Jan  1 00:00:00 1970
Return-Path: <test-report-bounces@dpdk.org>
Received: from mails.dpdk.org (mails.dpdk.org [217.70.189.124])
	by inbox.dpdk.org (Postfix) with ESMTP id D29AC43DF1
	for <public@inbox.dpdk.org>; Thu,  4 Apr 2024 01:44:40 +0200 (CEST)
Received: from mails.dpdk.org (localhost [127.0.0.1])
	by mails.dpdk.org (Postfix) with ESMTP id CCA07402D1;
	Thu,  4 Apr 2024 01:44:40 +0200 (CEST)
Received: from mail-oo1-f100.google.com (mail-oo1-f100.google.com
 [209.85.161.100])
 by mails.dpdk.org (Postfix) with ESMTP id 79F3F4029B
 for <test-report@dpdk.org>; Thu,  4 Apr 2024 01:44:39 +0200 (CEST)
Received: by mail-oo1-f100.google.com with SMTP id
 006d021491bc7-5a4817189c8so301418eaf.1
 for <test-report@dpdk.org>; Wed, 03 Apr 2024 16:44:39 -0700 (PDT)
DKIM-Signature: v=1; a=rsa-sha256; c=relaxed/relaxed;
 d=iol.unh.edu; s=unh-iol; t=1712187879; x=1712792679; darn=dpdk.org;
 h=references:in-reply-to:cc:to:from:subject:message-id:date:from:to
 :cc:subject:date:message-id:reply-to;
 bh=0Cxb0gEdZ8Qw8fliwm8ctqycWepI+ID9R+X2WQ/4u6w=;
 b=YQaSoxDkkVFz15mDDXdnCQ6nJ5qG/PK0hIwoGkjadfPMsvkkscKm8PFmwVUxQWjq5P
 6qbLU9Racfr5ylS9flhvvpR+GtrC0CmpxgZtdBl96GGc7LoNJzM10rYaX70o2IoVcoPV
 PKJZxexj+oF+p9+lv8B5n9q3mS/3+B9vHWlok=
X-Google-DKIM-Signature: v=1; a=rsa-sha256; c=relaxed/relaxed;
 d=1e100.net; s=20230601; t=1712187879; x=1712792679;
 h=references:in-reply-to:cc:to:from:subject:message-id:date
 :x-gm-message-state:from:to:cc:subject:date:message-id:reply-to;
 bh=0Cxb0gEdZ8Qw8fliwm8ctqycWepI+ID9R+X2WQ/4u6w=;
 b=SV+YpGrexHfG/n5yYpzz5Po+Gt8DqnSMTyPsrLxwUM4L7pK2ywGx3oSXeF5dCW6Swa
 KlGWBg/VyABRS8L3QpZdD7mfRhoDM+og3AQxcCLO1z0NuVhnn+Zkt20NNzJCH6kxaPJZ
 bZ4N/1XmxF1CWw67V80xZ74ajiNZCEn2vgmHHxl8DDFHPTdVb9ptRRkegzd+noTNyBNQ
 fMeNTyHc0CJg8OYEiR7e+FGWfMG0z0H2aXsj+/nS+Y8WeKW7aDaOzYaCC2tKDdvPF0ns
 l+6/H2wHBzgmUr5mFwKVK0bkYkuMzWSGewY3VGixCAs3z0G4+tRxAdxNPkad9tNswsaR
 AuNw==
X-Gm-Message-State: AOJu0YxhSJ7DG8CiMRbdCNsGyEQQBl1Q6Hyx1L7uiJuwqkvyR/GtDvY1
 XVfryZP/HulB0b6Z3LQRIPAiE9gvrFmuMZy5K0hisDhgffJLdiBqHAJaXyfVlRPw+nzcmXaU80m
 EcJguT2+85K6JciFt5/5+WAaZQlUccmERntWOYFCo
X-Google-Smtp-Source: AGHT+IFLijrnlLgas6u/gTFSh4YAW8JT9oyMjgDIdEUHItmuQEqbGMCUxIlp1XAhG3D/p4oaBTHBOPhAg2AG
X-Received: by 2002:a05:6820:1904:b0:5a7:c767:5f6b with SMTP id
 bk4-20020a056820190400b005a7c7675f6bmr993016oob.0.1712187878892; 
 Wed, 03 Apr 2024 16:44:38 -0700 (PDT)
Received: from postal.iol.unh.edu (postal.iol.unh.edu. [132.177.123.84])
 by smtp-relay.gmail.com with ESMTPS id
 6-20020a4a0606000000b005a4c5a39b15sm998080ooj.12.2024.04.03.16.44.38
 (version=TLS1_2 cipher=ECDHE-ECDSA-AES128-GCM-SHA256 bits=128/128);
 Wed, 03 Apr 2024 16:44:38 -0700 (PDT)
X-Relaying-Domain: iol.unh.edu
Date: Wed, 03 Apr 2024 16:44:38 -0700 (PDT)
Message-ID: <660de9e6.4a0a0220.2e3b1.b243SMTPIN_ADDED_MISSING@mx.google.com>
Received: from [172.21.0.6] (unknown [172.18.0.240])
 by postal.iol.unh.edu (Postfix) with ESMTP id E891F6052471;
 Wed,  3 Apr 2024 19:44:37 -0400 (EDT)
Subject: |SUCCESS| pw139091-139092 [PATCH] [v2,2/2] test: add functional test
From: dpdklab@iol.unh.edu
To: Test Report <test-report@dpdk.org>
Cc: dpdk-test-reports@iol.unh.edu
In-Reply-To: <20240403221319.499014-3-stephen@networkplumber.org>
References: <20240403221319.499014-3-stephen@networkplumber.org>
Content-Type: text/plain
X-BeenThere: test-report@dpdk.org
X-Mailman-Version: 2.1.29
Precedence: list
List-Id: automatic DPDK test reports <test-report.dpdk.org>
List-Unsubscribe: <https://mails.dpdk.org/options/test-report>,
 <mailto:test-report-request@dpdk.org?subject=unsubscribe>
List-Archive: <http://mails.dpdk.org/archives/test-report/>
List-Post: <mailto:test-report@dpdk.org>
List-Help: <mailto:test-report-request@dpdk.org?subject=help>
List-Subscribe: <https://mails.dpdk.org/listinfo/test-report>,
 <mailto:test-report-request@dpdk.org?subject=subscribe>
Errors-To: test-report-bounces@dpdk.org

Test-Label: iol-unit-amd64-testing
Test-Status: SUCCESS
http://dpdk.org/patch/139092

_Testing PASS_

Submitter: Stephen Hemminger <stephen@networkplumber.org>
Date: Wednesday, April 03 2024 22:11:08 
DPDK git baseline: Repo:dpdk
  Branch: master
  CommitID:e2e546ab5bf5e024986ccb5310ab43982f3bb40c

139091-139092 --> testing pass

Test environment and result as below:

+------------------+----------------+
|   Environment    | dpdk_unit_test |
+==================+================+
| CentOS Stream 9  | PASS           |
+------------------+----------------+
| CentOS Stream 8  | PASS           |
+------------------+----------------+
| Debian Bullseye  | PASS           |
+------------------+----------------+
| Debian 12        | PASS           |
+------------------+----------------+
| Fedora 37        | PASS           |
+------------------+----------------+
| Fedora 38        | PASS           |
+------------------+----------------+
| Fedora 39        | PASS           |
+------------------+----------------+
| RHEL8            | PASS           |
+------------------+----------------+
| openSUSE Leap 15 | PASS           |
+------------------+----------------+


CentOS Stream 9
	Kernel: 5.4.0-167-generic
	Compiler: gcc 11.4.1 20230605

CentOS Stream 8
	Kernel: 5.4.0-167-generic
	Compiler: gcc 8.5.0 20210514

Debian Bullseye
	Kernel: 5.4.0-167-generic
	Compiler: gcc 10.2.1-6

Debian 12
	Kernel: Container Host Kernel
	Compiler: gcc 10.2.1

Fedora 37
	Kernel: Depends on container host system
	Compiler: gcc 12.3.1

Fedora 38
	Kernel: Depends on container host
	Compiler: clang 16.0.6

Fedora 39
	Kernel: Depends on container host
	Compiler: clang 17.0.6

RHEL8
	Kernel: 5.4.0-167-generic
	Compiler: gcc 8.5.0 20210514 (Red Hat 8.5.0-20)

openSUSE Leap 15
	Kernel: 5.4.0-167-generic
	Compiler: gcc 7.5.0

To view detailed results, visit:
https://lab.dpdk.org/results/dashboard/patchsets/29710/

UNH-IOL DPDK Community Lab

To manage your email subscriptions, visit: 
https://lab.dpdk.org/results/dashboard/preferences/subscriptions/