From mboxrd@z Thu Jan  1 00:00:00 1970
Return-Path: <test-report-bounces@dpdk.org>
Received: from mails.dpdk.org (mails.dpdk.org [217.70.189.124])
	by inbox.dpdk.org (Postfix) with ESMTP id CFD8243DF2
	for <public@inbox.dpdk.org>; Thu,  4 Apr 2024 02:04:02 +0200 (CEST)
Received: from mails.dpdk.org (localhost [127.0.0.1])
	by mails.dpdk.org (Postfix) with ESMTP id BE75E402D4;
	Thu,  4 Apr 2024 02:04:02 +0200 (CEST)
Received: from mail-io1-f98.google.com (mail-io1-f98.google.com
 [209.85.166.98]) by mails.dpdk.org (Postfix) with ESMTP id 936BB4029B
 for <test-report@dpdk.org>; Thu,  4 Apr 2024 02:04:01 +0200 (CEST)
Received: by mail-io1-f98.google.com with SMTP id
 ca18e2360f4ac-7cc77c19a19so20296739f.2
 for <test-report@dpdk.org>; Wed, 03 Apr 2024 17:04:01 -0700 (PDT)
DKIM-Signature: v=1; a=rsa-sha256; c=relaxed/relaxed;
 d=iol.unh.edu; s=unh-iol; t=1712189041; x=1712793841; darn=dpdk.org;
 h=references:in-reply-to:cc:to:from:subject:message-id:date:from:to
 :cc:subject:date:message-id:reply-to;
 bh=sou6Ll1kNAl2TnRTKJMNoIkTXvZ2OpFVQUAJSyIakpY=;
 b=JfRhPrXrnwk5KLvrRS2HCOrac9ComzL8suswn6wJsNHl4LEGvMDGHwl7ZnRKvwwLzU
 N+AADdESoQbkftyVOLaWD77HB6Xlp2yKzPb0DqOoYArRhUjSSreGC/PQaO7gf6M8Gspg
 O0MsZwxIiOZVwHxzxgSTDZxMkVwmKAsCdCSiM=
X-Google-DKIM-Signature: v=1; a=rsa-sha256; c=relaxed/relaxed;
 d=1e100.net; s=20230601; t=1712189041; x=1712793841;
 h=references:in-reply-to:cc:to:from:subject:message-id:date
 :x-gm-message-state:from:to:cc:subject:date:message-id:reply-to;
 bh=sou6Ll1kNAl2TnRTKJMNoIkTXvZ2OpFVQUAJSyIakpY=;
 b=ah9R9pF4cOLvQSQdGgPX3Yn3rvooEWejgSn5mrK62FwHjFyr5j9uiH9F97+i84jsoT
 Q6OR3/zyK19NetYHwxKdBSJHLuX5sr5RXLTfJ+Wm+j6MWYP/Rm6F5SLBngQ4/etGxcM9
 zUbF0epSsgMzzOrlvXhY0/8YynMMXMRDMlSPrFAFG3cuQwSKy5M9yJneSHTwx8Odkkgi
 JGRMhMMJCNoR79xFmYF9T1ITPHDBGh+wO9KJKZ6QpGvfGc4s5Ku9FhKPvc8sJKcgfUeg
 WjYX/ZzEy9hVgaJX4Or+WAgNgd7B/SvLvKYVpbNuADNWHLSXpYPlgKRBg5YCPEIhgGkE
 JCqA==
X-Gm-Message-State: AOJu0YxqCm7CaeLX/oKNXslHt8Ix3/FpMBSkmpFfXAApfjQJz6Hl/tP0
 vAn07gfXa+ieRt5gNSjM3Rq4vTWYrPBn81hl8vboHdZoW6OmERrqAdlK2yTGsZcjEdnTPrtIo3W
 cLF3w4CaNJkE300cYpE4xDGpHny3317VdcfgBa4e9
X-Google-Smtp-Source: AGHT+IHTDs6AzZZJqlH6GJ8ED3DnIdYMSUGYmrGYyLv1yGUeqiUiCd6FoTvU5mSumYBn4p/zRdYMrCzPd1+Q
X-Received: by 2002:a6b:ec15:0:b0:7d3:410b:871a with SMTP id
 c21-20020a6bec15000000b007d3410b871amr1230141ioh.13.1712189041005; 
 Wed, 03 Apr 2024 17:04:01 -0700 (PDT)
Received: from postal.iol.unh.edu (postal.iol.unh.edu. [132.177.123.84])
 by smtp-relay.gmail.com with ESMTPS id
 f94-20020a0284e7000000b0047c22420fb0sm893263jai.84.2024.04.03.17.04.00
 (version=TLS1_2 cipher=ECDHE-ECDSA-AES128-GCM-SHA256 bits=128/128);
 Wed, 03 Apr 2024 17:04:00 -0700 (PDT)
X-Relaying-Domain: iol.unh.edu
Date: Wed, 03 Apr 2024 17:04:00 -0700 (PDT)
Message-ID: <660dee70.020a0220.3c4e8.7517SMTPIN_ADDED_MISSING@mx.google.com>
Received: from [172.21.0.6] (unknown [172.18.0.240])
 by postal.iol.unh.edu (Postfix) with ESMTP id 7D50B6052471;
 Wed,  3 Apr 2024 20:04:00 -0400 (EDT)
Subject: |SUCCESS| pw139091-139092 [PATCH] [v2,2/2] test: add functional test
From: dpdklab@iol.unh.edu
To: Test Report <test-report@dpdk.org>
Cc: dpdk-test-reports@iol.unh.edu
In-Reply-To: <20240403221319.499014-3-stephen@networkplumber.org>
References: <20240403221319.499014-3-stephen@networkplumber.org>
Content-Type: text/plain
X-BeenThere: test-report@dpdk.org
X-Mailman-Version: 2.1.29
Precedence: list
List-Id: automatic DPDK test reports <test-report.dpdk.org>
List-Unsubscribe: <https://mails.dpdk.org/options/test-report>,
 <mailto:test-report-request@dpdk.org?subject=unsubscribe>
List-Archive: <http://mails.dpdk.org/archives/test-report/>
List-Post: <mailto:test-report@dpdk.org>
List-Help: <mailto:test-report-request@dpdk.org?subject=help>
List-Subscribe: <https://mails.dpdk.org/listinfo/test-report>,
 <mailto:test-report-request@dpdk.org?subject=subscribe>
Errors-To: test-report-bounces@dpdk.org

Test-Label: iol-unit-arm64-testing
Test-Status: SUCCESS
http://dpdk.org/patch/139092

_Testing PASS_

Submitter: Stephen Hemminger <stephen@networkplumber.org>
Date: Wednesday, April 03 2024 22:11:08 
DPDK git baseline: Repo:dpdk
  Branch: master
  CommitID:e2e546ab5bf5e024986ccb5310ab43982f3bb40c

139091-139092 --> testing pass

Test environment and result as below:

+-----------------------------+--------------+----------------+---------------------------+------------------------------+
|         Environment         | lpm_autotest | dpdk_unit_test | cryptodev_sw_zuc_autotest | cryptodev_sw_snow3g_autotest |
+=============================+==============+================+===========================+==============================+
| Ubuntu 20.04 ARM SVE        | PASS         | SKIPPED        | SKIPPED                   | SKIPPED                      |
+-----------------------------+--------------+----------------+---------------------------+------------------------------+
| Debian 11 (Buster) (ARM)    | SKIPPED      | PASS           | SKIPPED                   | SKIPPED                      |
+-----------------------------+--------------+----------------+---------------------------+------------------------------+
| Debian 12 (arm)             | SKIPPED      | PASS           | PASS                      | PASS                         |
+-----------------------------+--------------+----------------+---------------------------+------------------------------+
| 32-bit Ubuntu 20.04.4 (ARM) | SKIPPED      | PASS           | SKIPPED                   | SKIPPED                      |
+-----------------------------+--------------+----------------+---------------------------+------------------------------+
| CentOS Stream 9 (ARM)       | SKIPPED      | PASS           | SKIPPED                   | SKIPPED                      |
+-----------------------------+--------------+----------------+---------------------------+------------------------------+
| Fedora 37 (ARM)             | SKIPPED      | PASS           | SKIPPED                   | SKIPPED                      |
+-----------------------------+--------------+----------------+---------------------------+------------------------------+


Ubuntu 20.04 ARM SVE
	Kernel: 5.4.0-167-generic
	Compiler: gcc (Ubuntu 10.5.0-1ubuntu1~20.04) 10.5.0

Debian 11 (Buster) (ARM)
	Kernel: Container Host Kernel
	Compiler: gcc 10.2.1

Debian 12 (arm)
	Kernel: Container Host Kernel
	Compiler: gcc 12.2.0

32-bit Ubuntu 20.04.4 (ARM)
	Kernel: 5.4.0-155-generic aarch64
	Compiler: gcc 9.4

CentOS Stream 9 (ARM)
	Kernel: Container Host Kernel
	Compiler: gcc 11.4.1

Fedora 37 (ARM)
	Kernel: Depends on container host
	Compiler: gcc 12.3.1

To view detailed results, visit:
https://lab.dpdk.org/results/dashboard/patchsets/29710/

UNH-IOL DPDK Community Lab

To manage your email subscriptions, visit: 
https://lab.dpdk.org/results/dashboard/preferences/subscriptions/