From mboxrd@z Thu Jan  1 00:00:00 1970
Return-Path: <test-report-bounces@dpdk.org>
Received: from mails.dpdk.org (mails.dpdk.org [217.70.189.124])
	by inbox.dpdk.org (Postfix) with ESMTP id 13A6643DF2
	for <public@inbox.dpdk.org>; Thu,  4 Apr 2024 03:15:01 +0200 (CEST)
Received: from mails.dpdk.org (localhost [127.0.0.1])
	by mails.dpdk.org (Postfix) with ESMTP id 0F6D4402D1;
	Thu,  4 Apr 2024 03:15:01 +0200 (CEST)
Received: from mail-oi1-f225.google.com (mail-oi1-f225.google.com
 [209.85.167.225])
 by mails.dpdk.org (Postfix) with ESMTP id 6E2404029B
 for <test-report@dpdk.org>; Thu,  4 Apr 2024 03:14:59 +0200 (CEST)
Received: by mail-oi1-f225.google.com with SMTP id
 5614622812f47-3c3d3710018so271674b6e.0
 for <test-report@dpdk.org>; Wed, 03 Apr 2024 18:14:59 -0700 (PDT)
DKIM-Signature: v=1; a=rsa-sha256; c=relaxed/relaxed;
 d=iol.unh.edu; s=unh-iol; t=1712193298; x=1712798098; darn=dpdk.org;
 h=references:in-reply-to:cc:to:from:subject:message-id:date:from:to
 :cc:subject:date:message-id:reply-to;
 bh=uY/0tXiveWfguymlcSORoV2b8PibZScOsS/Ks16Z7YE=;
 b=QimOOMLQQB0XWzhDFVmxzZQ1h4QqqY7sGl95GVapiOLTC3hTDGFx/sgBqJEcNn7qct
 r94klDRqQeNohkbF6p1J6jNjGpJ9x1szc51mnLQanJyh337UBfkqHctlt8VCFhzsO8PU
 3sDWzZCgazDZOe/COlniNAIrI92LkFB3F/zrc=
X-Google-DKIM-Signature: v=1; a=rsa-sha256; c=relaxed/relaxed;
 d=1e100.net; s=20230601; t=1712193298; x=1712798098;
 h=references:in-reply-to:cc:to:from:subject:message-id:date
 :x-gm-message-state:from:to:cc:subject:date:message-id:reply-to;
 bh=uY/0tXiveWfguymlcSORoV2b8PibZScOsS/Ks16Z7YE=;
 b=uOe+ZLOPAG9a9c6uxh4FO23DMnncgvwRWSpA3GQRRha5rdLZo1rGBxzU8qD1uixtTt
 0Kc8QEXjr2iZKaIedkQudvZ2deyHhDHJ5arYg6y3xEOmSwBzlaev76WLakSeCAF3fbp+
 PSQf58exbjBZOyg1e70Epd5oBUAHNjSrAy7EbjFiHWc3L2wwIpKf83MdxzGy3RzpKjYb
 ILYWRTJe2UZqwlu/ScHBL7CfuaSwHPKLzs+eFTah8kNVBpBERIVacD7OaIoNpAO2c767
 AZ2e6LMbkzDQ/u385tvfV/L0vpTP45wKasthbr5RFy1dlZ8tToOOca1weiVZChyFSFfD
 nmEQ==
X-Gm-Message-State: AOJu0YyFqFLQ/wIq2x5/B+qWgLy6KZw+UqGNS6Rry04MQgPMb8HAqYmi
 5lhXCnJi0kSvAgC9Cni4CxQJH4qGo+WZGvwo54yibL3P3h8uKk2PacLQufNXXkJNWq8urpezpQa
 zH93R47sejkq4FCYVtE0vj59KBZtUg7eTW1wT1YruKX8E8hdH4Ur895bH
X-Google-Smtp-Source: AGHT+IFHu5rosrx5U17dbonxldoRlQ4DHEZaflxWPMwV6E/KNvN4CqIBaeP28S2PI1vS70CIG+X9sas7K2gf
X-Received: by 2002:a05:6808:4493:b0:3c3:ebba:2cdc with SMTP id
 eq19-20020a056808449300b003c3ebba2cdcmr1560824oib.17.1712193298792; 
 Wed, 03 Apr 2024 18:14:58 -0700 (PDT)
Received: from postal.iol.unh.edu (postal.iol.unh.edu.
 [2606:4100:3880:1234::84]) by smtp-relay.gmail.com with ESMTPS id
 fd17-20020a056a002e9100b006eab22b7c35sm1072671pfb.18.2024.04.03.18.14.58
 (version=TLS1_2 cipher=ECDHE-ECDSA-AES128-GCM-SHA256 bits=128/128);
 Wed, 03 Apr 2024 18:14:58 -0700 (PDT)
X-Relaying-Domain: iol.unh.edu
Date: Wed, 03 Apr 2024 18:14:58 -0700 (PDT)
Message-ID: <660dff12.050a0220.242ee.f867SMTPIN_ADDED_MISSING@mx.google.com>
Received: from [172.21.0.6] (unknown [172.18.0.240])
 by postal.iol.unh.edu (Postfix) with ESMTP id D4B2A6052471;
 Wed,  3 Apr 2024 21:14:57 -0400 (EDT)
Subject: |SUCCESS| pw139091-139092 [PATCH] [v2,2/2] test: add functional test
From: dpdklab@iol.unh.edu
To: Test Report <test-report@dpdk.org>
Cc: dpdk-test-reports@iol.unh.edu
In-Reply-To: <20240403221319.499014-3-stephen@networkplumber.org>
References: <20240403221319.499014-3-stephen@networkplumber.org>
Content-Type: text/plain
X-BeenThere: test-report@dpdk.org
X-Mailman-Version: 2.1.29
Precedence: list
List-Id: automatic DPDK test reports <test-report.dpdk.org>
List-Unsubscribe: <https://mails.dpdk.org/options/test-report>,
 <mailto:test-report-request@dpdk.org?subject=unsubscribe>
List-Archive: <http://mails.dpdk.org/archives/test-report/>
List-Post: <mailto:test-report@dpdk.org>
List-Help: <mailto:test-report-request@dpdk.org?subject=help>
List-Subscribe: <https://mails.dpdk.org/listinfo/test-report>,
 <mailto:test-report-request@dpdk.org?subject=subscribe>
Errors-To: test-report-bounces@dpdk.org

Test-Label: iol-compile-arm64-testing
Test-Status: SUCCESS
http://dpdk.org/patch/139092

_Testing PASS_

Submitter: Stephen Hemminger <stephen@networkplumber.org>
Date: Wednesday, April 03 2024 22:11:08 
DPDK git baseline: Repo:dpdk
  Branch: master
  CommitID:e2e546ab5bf5e024986ccb5310ab43982f3bb40c

139091-139092 --> testing pass

Test environment and result as below:

+----------------------------------------+--------------------+
|              Environment               | dpdk_meson_compile |
+========================================+====================+
| Ubuntu 20.04 ARM SVE                   | PASS               |
+----------------------------------------+--------------------+
| Debian 12 with MUSDK                   | PASS               |
+----------------------------------------+--------------------+
| CentOS Stream 9 (ARM)                  | PASS               |
+----------------------------------------+--------------------+
| Ubuntu 20.04 aarch32 GCC Cross Compile | PASS               |
+----------------------------------------+--------------------+
| Ubuntu 20.04 ARM Clang Cross Compile   | PASS               |
+----------------------------------------+--------------------+
| Ubuntu 20.04 ARM GCC Cross Compile     | PASS               |
+----------------------------------------+--------------------+
| Fedora 39 (ARM Clang)                  | PASS               |
+----------------------------------------+--------------------+
| Fedora 37 (ARM)                        | PASS               |
+----------------------------------------+--------------------+
| Fedora 38 (ARM)                        | PASS               |
+----------------------------------------+--------------------+
| Fedora 39 (ARM)                        | PASS               |
+----------------------------------------+--------------------+
| Debian 11 (Buster) (ARM)               | PASS               |
+----------------------------------------+--------------------+
| Debian 12 (arm)                        | PASS               |
+----------------------------------------+--------------------+


Ubuntu 20.04 ARM SVE
	Kernel: 5.4.0-167-generic
	Compiler: gcc (Ubuntu 10.5.0-1ubuntu1~20.04) 10.5.0

Debian 12 with MUSDK
	Kernel: Container Host Kernel
	Compiler: gcc 12.2.0

CentOS Stream 9 (ARM)
	Kernel: Container Host Kernel
	Compiler: gcc 11.4.1

Ubuntu 20.04 aarch32 GCC Cross Compile
	Kernel: 5.4.0-167-generic
	Compiler: gcc 9.4.0

Ubuntu 20.04 ARM Clang Cross Compile
	Kernel: 5.4.0-72-generic
	Compiler: clang 10.0.0-4ubuntu1

Ubuntu 20.04 ARM GCC Cross Compile
	Kernel: 5.4.0-167-generic
	Compiler: aarch64-linux-gnu-gcc (Ubuntu 9.4.0-1ubuntu1~20.04.2) 9.4.0

Fedora 39 (ARM Clang)
	Kernel: Depends on container host
	Compiler: clang 17.0.6

Fedora 37 (ARM)
	Kernel: Depends on container host
	Compiler: gcc 12.3.1

Fedora 38 (ARM)
	Kernel: Depends on container host
	Compiler: gcc 13.2.1

Fedora 39 (ARM)
	Kernel: Depends on container host
	Compiler: gcc 13.2.1

Debian 11 (Buster) (ARM)
	Kernel: Container Host Kernel
	Compiler: gcc 10.2.1

Debian 12 (arm)
	Kernel: Container Host Kernel
	Compiler: gcc 12.2.0

To view detailed results, visit:
https://lab.dpdk.org/results/dashboard/patchsets/29710/

UNH-IOL DPDK Community Lab

To manage your email subscriptions, visit: 
https://lab.dpdk.org/results/dashboard/preferences/subscriptions/