From mboxrd@z Thu Jan  1 00:00:00 1970
Return-Path: <test-report-bounces@dpdk.org>
Received: from mails.dpdk.org (mails.dpdk.org [217.70.189.124])
	by inbox.dpdk.org (Postfix) with ESMTP id BDE9F43DF2
	for <public@inbox.dpdk.org>; Thu,  4 Apr 2024 03:20:16 +0200 (CEST)
Received: from mails.dpdk.org (localhost [127.0.0.1])
	by mails.dpdk.org (Postfix) with ESMTP id B71CC402D8;
	Thu,  4 Apr 2024 03:20:16 +0200 (CEST)
Received: from mail-ua1-f99.google.com (mail-ua1-f99.google.com
 [209.85.222.99]) by mails.dpdk.org (Postfix) with ESMTP id 85823402D8
 for <test-report@dpdk.org>; Thu,  4 Apr 2024 03:20:15 +0200 (CEST)
Received: by mail-ua1-f99.google.com with SMTP id
 a1e0cc1a2514c-7e128b1ba75so167387241.3
 for <test-report@dpdk.org>; Wed, 03 Apr 2024 18:20:15 -0700 (PDT)
DKIM-Signature: v=1; a=rsa-sha256; c=relaxed/relaxed;
 d=iol.unh.edu; s=unh-iol; t=1712193615; x=1712798415; darn=dpdk.org;
 h=references:in-reply-to:cc:to:from:subject:message-id:date:from:to
 :cc:subject:date:message-id:reply-to;
 bh=Cn+SGGC3z4Rgw7tPq//twPu4Cu3fGSSsEFS9tk76iR8=;
 b=cUk+2tVZ/eHrfb+r7pPapXGRvm+JK+uvAB/Gsp/y23nIb/sNqu/lKTsuE5PAKEpKJl
 95Rp9TwOCsko+PFnpEt8AanPWpkxFOcv/TZb15QhBXMIl03K6ZVcjHSSuC1P3y4fOdSy
 4WAAeg2j2+6UCdYrVgrSi+nkB+lVjXQgB2yXo=
X-Google-DKIM-Signature: v=1; a=rsa-sha256; c=relaxed/relaxed;
 d=1e100.net; s=20230601; t=1712193615; x=1712798415;
 h=references:in-reply-to:cc:to:from:subject:message-id:date
 :x-gm-message-state:from:to:cc:subject:date:message-id:reply-to;
 bh=Cn+SGGC3z4Rgw7tPq//twPu4Cu3fGSSsEFS9tk76iR8=;
 b=H5ojFxrG+mUjIXptnC/Fj16W981zEsAgk8PyEwHyZPgt54ioR5/mKKNwZaj53H3au/
 kqumFhrzQ86GTlItmAY0mEq5t0XBAMsdT8a7cwgI5OJrPuhFR2aFfnOQylnD2SY4hXHb
 L95sOPBSCpvCiLMw9dhxf6nmvPn67Nt2HUaDuc5yfhbALP/rBqu1fdGhykEkr4UoiJMn
 fCm1bgMTN40qqADaIZ6Ouhi01po/iRv7uNDca7bqwlZmE26dSk3+zvWFtvBzaKEatI7W
 Ve35L2JLRYjvCLqUPv/N39Ii/8A6UuKlEjuSDpbM0bBnocqCA3+hkI38gCGA8qsxQnfj
 SxNg==
X-Gm-Message-State: AOJu0Yw3o/MA99mvXbO8bhsc5QEpmOAKcrAMpubCcg0wFQynhKmqT+Y9
 H6uOJ9ZQQvFkrNLdnS9YhaZrEMvDmsS43W1wXin9UAl8xapjDKLb1QTEdRnK7CEtB9Ou2jceh6N
 Zp+LJsBU3n6ea/ASWngERy4bnhoNeqM0vCTgNq4oU
X-Google-Smtp-Source: AGHT+IE8Jsg2n2/b49+tFjE9hisYnER5MiB5E37Oo+1B9h+DnixsnqcMrVYD+15KZDe/EnoFFjQKJ8zR5aaf
X-Received: by 2002:a05:6102:5106:b0:479:caba:66a4 with SMTP id
 bm6-20020a056102510600b00479caba66a4mr254865vsb.5.1712193614945; 
 Wed, 03 Apr 2024 18:20:14 -0700 (PDT)
Received: from postal.iol.unh.edu (postal.iol.unh.edu. [132.177.123.84])
 by smtp-relay.gmail.com with ESMTPS id
 m2-20020a9f3102000000b007dba72e0c8fsm915216uab.7.2024.04.03.18.20.14
 (version=TLS1_2 cipher=ECDHE-ECDSA-AES128-GCM-SHA256 bits=128/128);
 Wed, 03 Apr 2024 18:20:14 -0700 (PDT)
X-Relaying-Domain: iol.unh.edu
Date: Wed, 03 Apr 2024 18:20:14 -0700 (PDT)
Message-ID: <660e004e.9f0a0220.37fdf.3b07SMTPIN_ADDED_MISSING@mx.google.com>
Received: from [172.17.0.6] (unknown [172.18.0.217])
 by postal.iol.unh.edu (Postfix) with ESMTP id 98FC16052471;
 Wed,  3 Apr 2024 21:20:14 -0400 (EDT)
Subject: |SUCCESS| pw139086-139089 [PATCH] [v10,4/4] cryptodev: remove rte ma
From: dpdklab@iol.unh.edu
To: Test Report <test-report@dpdk.org>
Cc: dpdk-test-reports@iol.unh.edu
In-Reply-To: <1712166816-10624-5-git-send-email-roretzla@linux.microsoft.com>
References: <1712166816-10624-5-git-send-email-roretzla@linux.microsoft.com>
Content-Type: text/plain
X-BeenThere: test-report@dpdk.org
X-Mailman-Version: 2.1.29
Precedence: list
List-Id: automatic DPDK test reports <test-report.dpdk.org>
List-Unsubscribe: <https://mails.dpdk.org/options/test-report>,
 <mailto:test-report-request@dpdk.org?subject=unsubscribe>
List-Archive: <http://mails.dpdk.org/archives/test-report/>
List-Post: <mailto:test-report@dpdk.org>
List-Help: <mailto:test-report-request@dpdk.org?subject=help>
List-Subscribe: <https://mails.dpdk.org/listinfo/test-report>,
 <mailto:test-report-request@dpdk.org?subject=subscribe>
Errors-To: test-report-bounces@dpdk.org

Test-Label: iol-compile-arm64-testing
Test-Status: SUCCESS
http://dpdk.org/patch/139089

_Testing PASS_

Submitter: Tyler Retzlaff <roretzla@linux.microsoft.com>
Date: Wednesday, April 03 2024 17:53:36 
DPDK git baseline: Repo:dpdk
  Branch: master
  CommitID:e2e546ab5bf5e024986ccb5310ab43982f3bb40c

139086-139089 --> testing pass

Test environment and result as below:

+----------------------------------------+--------------------+
|              Environment               | dpdk_meson_compile |
+========================================+====================+
| Ubuntu 20.04 ARM SVE                   | PASS               |
+----------------------------------------+--------------------+
| Debian 12 with MUSDK                   | PASS               |
+----------------------------------------+--------------------+
| Fedora 39 (ARM)                        | PASS               |
+----------------------------------------+--------------------+
| Fedora 37 (ARM)                        | PASS               |
+----------------------------------------+--------------------+
| Debian 12 (arm)                        | PASS               |
+----------------------------------------+--------------------+
| Ubuntu 20.04 aarch32 GCC Cross Compile | PASS               |
+----------------------------------------+--------------------+


Ubuntu 20.04 ARM SVE
	Kernel: 5.4.0-167-generic
	Compiler: gcc (Ubuntu 10.5.0-1ubuntu1~20.04) 10.5.0

Debian 12 with MUSDK
	Kernel: Container Host Kernel
	Compiler: gcc 12.2.0

Fedora 39 (ARM)
	Kernel: Depends on container host
	Compiler: gcc 13.2.1

Fedora 37 (ARM)
	Kernel: Depends on container host
	Compiler: gcc 12.3.1

Debian 12 (arm)
	Kernel: Container Host Kernel
	Compiler: gcc 12.2.0

Ubuntu 20.04 aarch32 GCC Cross Compile
	Kernel: 5.4.0-167-generic
	Compiler: gcc 9.4.0

To view detailed results, visit:
https://lab.dpdk.org/results/dashboard/patchsets/29708/

UNH-IOL DPDK Community Lab

To manage your email subscriptions, visit: 
https://lab.dpdk.org/results/dashboard/preferences/subscriptions/