From mboxrd@z Thu Jan  1 00:00:00 1970
Return-Path: <test-report-bounces@dpdk.org>
Received: from mails.dpdk.org (mails.dpdk.org [217.70.189.124])
	by inbox.dpdk.org (Postfix) with ESMTP id 0A32143DF2
	for <public@inbox.dpdk.org>; Thu,  4 Apr 2024 03:43:25 +0200 (CEST)
Received: from mails.dpdk.org (localhost [127.0.0.1])
	by mails.dpdk.org (Postfix) with ESMTP id 011D1402D1;
	Thu,  4 Apr 2024 03:43:25 +0200 (CEST)
Received: from mail-pg1-f227.google.com (mail-pg1-f227.google.com
 [209.85.215.227])
 by mails.dpdk.org (Postfix) with ESMTP id EF9C04029B
 for <test-report@dpdk.org>; Thu,  4 Apr 2024 03:43:22 +0200 (CEST)
Received: by mail-pg1-f227.google.com with SMTP id
 41be03b00d2f7-5d8b887bb0cso407445a12.2
 for <test-report@dpdk.org>; Wed, 03 Apr 2024 18:43:22 -0700 (PDT)
DKIM-Signature: v=1; a=rsa-sha256; c=relaxed/relaxed;
 d=iol.unh.edu; s=unh-iol; t=1712195002; x=1712799802; darn=dpdk.org;
 h=references:in-reply-to:cc:to:from:subject:message-id:date:from:to
 :cc:subject:date:message-id:reply-to;
 bh=n2FryjKpXe4ETYM6dJO+zAy3ZbmrH+CinjeXYdWRAfA=;
 b=gf/kOkcbIwYeaG0P/uY5X7kKh7xTk9IZjyCB4/lUj9go+EEWWmPk85nqTbdPzX9SWR
 iryy1dVXBq1llNXN33S2MfyjixMRNR8LQB9xH5O2NVNzpE2dNFiyT3vqTQu6RFGOYxRj
 LrpHRbrDs8BaY6ziLcQN75bSSnJMenC2IBwPM=
X-Google-DKIM-Signature: v=1; a=rsa-sha256; c=relaxed/relaxed;
 d=1e100.net; s=20230601; t=1712195002; x=1712799802;
 h=references:in-reply-to:cc:to:from:subject:message-id:date
 :x-gm-message-state:from:to:cc:subject:date:message-id:reply-to;
 bh=n2FryjKpXe4ETYM6dJO+zAy3ZbmrH+CinjeXYdWRAfA=;
 b=PNcSXjGfMQ3iFLFZ2LCZZ1ZSHAmb9ne3VOzKJKpR2H5277gNMiEBW7lX9vizQanV5D
 eLf0B5fDB/R/9paI+fK2HNLcT8IcEpauhHihaI83gBW57iaXo1cKRVak275jMi0zMGXz
 lr8mwKB6YupPcMigdbd1sec6aZQaHgED9x2y13Vb2f61qGHCzFMQzEV/ccXTrme7SxXt
 TIDuZCTdjfPUIncWXJv7jtK7lfKcaDUS19PbMUikm/dvw0z/pA8CJS+YYaHNxeJbDtYg
 FI50FVXnTyjIDseRt2JBqfvXG59QqIqq1OmfhCjYBz4ftqEzAJR9jMDMGr4mIfg0NnyB
 B47Q==
X-Gm-Message-State: AOJu0YzxmUpKqKxh8ZaajrhY7dPOOA7Cz4cvY5KCN2FEGjyfhpq82eDY
 qps+nWpi9QiMiFIFp47nm7yOlhPUwW30CxQOd0+HP/MyLCpVSMsghruFWJOWqt3t7LivCQFpWQY
 WOgYHxKRBDPPtnhyF9C6naA2QUVpRDnDe35sQbc1r
X-Google-Smtp-Source: AGHT+IHufAUcDHggJCyzCSF+iSkOWABPuJYgLRIebpJA6V02XmTFkVsTMYLSUqiLLLzcVDrlOY1nRnCUkjO0
X-Received: by 2002:a17:90a:e28e:b0:2a2:b097:dabc with SMTP id
 d14-20020a17090ae28e00b002a2b097dabcmr1316790pjz.31.1712195002123; 
 Wed, 03 Apr 2024 18:43:22 -0700 (PDT)
Received: from postal.iol.unh.edu (postal.iol.unh.edu. [132.177.123.84])
 by smtp-relay.gmail.com with ESMTPS id
 su3-20020a17090b534300b002a046a6311esm40558pjb.14.2024.04.03.18.43.21
 (version=TLS1_2 cipher=ECDHE-ECDSA-AES128-GCM-SHA256 bits=128/128);
 Wed, 03 Apr 2024 18:43:22 -0700 (PDT)
X-Relaying-Domain: iol.unh.edu
Date: Wed, 03 Apr 2024 18:43:22 -0700 (PDT)
Message-ID: <660e05ba.170a0220.234b6.2a7cSMTPIN_ADDED_MISSING@mx.google.com>
Received: from [172.21.0.6] (unknown [172.18.0.240])
 by postal.iol.unh.edu (Postfix) with ESMTP id 384C16052471;
 Wed,  3 Apr 2024 21:43:21 -0400 (EDT)
Subject: |SUCCESS| pw139086-139089 [PATCH] [v10,4/4] cryptodev: remove rte ma
From: dpdklab@iol.unh.edu
To: Test Report <test-report@dpdk.org>
Cc: dpdk-test-reports@iol.unh.edu
In-Reply-To: <1712166816-10624-5-git-send-email-roretzla@linux.microsoft.com>
References: <1712166816-10624-5-git-send-email-roretzla@linux.microsoft.com>
Content-Type: text/plain
X-BeenThere: test-report@dpdk.org
X-Mailman-Version: 2.1.29
Precedence: list
List-Id: automatic DPDK test reports <test-report.dpdk.org>
List-Unsubscribe: <https://mails.dpdk.org/options/test-report>,
 <mailto:test-report-request@dpdk.org?subject=unsubscribe>
List-Archive: <http://mails.dpdk.org/archives/test-report/>
List-Post: <mailto:test-report@dpdk.org>
List-Help: <mailto:test-report-request@dpdk.org?subject=help>
List-Subscribe: <https://mails.dpdk.org/listinfo/test-report>,
 <mailto:test-report-request@dpdk.org?subject=subscribe>
Errors-To: test-report-bounces@dpdk.org

Test-Label: iol-unit-amd64-testing
Test-Status: SUCCESS
http://dpdk.org/patch/139089

_Testing PASS_

Submitter: Tyler Retzlaff <roretzla@linux.microsoft.com>
Date: Wednesday, April 03 2024 17:53:36 
DPDK git baseline: Repo:dpdk
  Branch: master
  CommitID:e2e546ab5bf5e024986ccb5310ab43982f3bb40c

139086-139089 --> testing pass

Test environment and result as below:

+------------------+----------------+
|   Environment    | dpdk_unit_test |
+==================+================+
| CentOS Stream 9  | PASS           |
+------------------+----------------+
| CentOS Stream 8  | PASS           |
+------------------+----------------+
| Debian Bullseye  | PASS           |
+------------------+----------------+
| Fedora 37        | PASS           |
+------------------+----------------+
| Fedora 39        | PASS           |
+------------------+----------------+
| Debian 12        | PASS           |
+------------------+----------------+
| Fedora 38        | PASS           |
+------------------+----------------+
| RHEL8            | PASS           |
+------------------+----------------+
| openSUSE Leap 15 | PASS           |
+------------------+----------------+
| Ubuntu 20.04     | PASS           |
+------------------+----------------+
| Ubuntu 22.04     | PASS           |
+------------------+----------------+


CentOS Stream 9
	Kernel: 5.4.0-167-generic
	Compiler: gcc 11.4.1 20230605

CentOS Stream 8
	Kernel: 5.4.0-167-generic
	Compiler: gcc 8.5.0 20210514

Debian Bullseye
	Kernel: 5.4.0-167-generic
	Compiler: gcc 10.2.1-6

Fedora 37
	Kernel: Depends on container host system
	Compiler: gcc 12.3.1

Fedora 39
	Kernel: Depends on container host
	Compiler: gcc 13.2.1

Debian 12
	Kernel: Container Host Kernel
	Compiler: gcc 10.2.1

Fedora 38
	Kernel: Depends on container host
	Compiler: gcc 13.2.1

RHEL8
	Kernel: 5.4.0-167-generic
	Compiler: gcc 8.5.0 20210514 (Red Hat 8.5.0-20)

openSUSE Leap 15
	Kernel: 5.4.0-167-generic
	Compiler: gcc 7.5.0

Ubuntu 20.04
	Kernel: 5.4.0-167-generic
	Compiler: gcc 9.4.0-1ubuntu1~20.04.1

Ubuntu 22.04
	Kernel: 5.4.0-167-generic
	Compiler: gcc 11.4.0

To view detailed results, visit:
https://lab.dpdk.org/results/dashboard/patchsets/29708/

UNH-IOL DPDK Community Lab

To manage your email subscriptions, visit: 
https://lab.dpdk.org/results/dashboard/preferences/subscriptions/