From mboxrd@z Thu Jan  1 00:00:00 1970
Return-Path: <test-report-bounces@dpdk.org>
Received: from mails.dpdk.org (mails.dpdk.org [217.70.189.124])
	by inbox.dpdk.org (Postfix) with ESMTP id EB78E43DF2
	for <public@inbox.dpdk.org>; Thu,  4 Apr 2024 03:47:53 +0200 (CEST)
Received: from mails.dpdk.org (localhost [127.0.0.1])
	by mails.dpdk.org (Postfix) with ESMTP id E6A97402D1;
	Thu,  4 Apr 2024 03:47:53 +0200 (CEST)
Received: from mail-pl1-f227.google.com (mail-pl1-f227.google.com
 [209.85.214.227])
 by mails.dpdk.org (Postfix) with ESMTP id 5B7C44029B
 for <test-report@dpdk.org>; Thu,  4 Apr 2024 03:47:53 +0200 (CEST)
Received: by mail-pl1-f227.google.com with SMTP id
 d9443c01a7336-1e2a2d5f0b7so3453375ad.1
 for <test-report@dpdk.org>; Wed, 03 Apr 2024 18:47:53 -0700 (PDT)
DKIM-Signature: v=1; a=rsa-sha256; c=relaxed/relaxed;
 d=iol.unh.edu; s=unh-iol; t=1712195272; x=1712800072; darn=dpdk.org;
 h=references:in-reply-to:cc:to:from:subject:message-id:date:from:to
 :cc:subject:date:message-id:reply-to;
 bh=n2FryjKpXe4ETYM6dJO+zAy3ZbmrH+CinjeXYdWRAfA=;
 b=Ciz68Ld4CWotHi1Uk+qvGQ7QKpzMiKFRti1O4pTL2CIwFyqNYWxN5/tQwFxf0CeViE
 6DNCJnZQKau+DLOgFArNyybjmw4/olm6P5qjdA2oAdtQ6oKVLwXLQsVs1boKKorE2Z8k
 9gnFqA8ifk5tt24fIYLB3fBBkPjnkV1YI1dT8=
X-Google-DKIM-Signature: v=1; a=rsa-sha256; c=relaxed/relaxed;
 d=1e100.net; s=20230601; t=1712195272; x=1712800072;
 h=references:in-reply-to:cc:to:from:subject:message-id:date
 :x-gm-message-state:from:to:cc:subject:date:message-id:reply-to;
 bh=n2FryjKpXe4ETYM6dJO+zAy3ZbmrH+CinjeXYdWRAfA=;
 b=Lb+kIUsG+KUy1ZhftCegkr8Ns0A4dZJfpVve+yrFiCf3/NjRMAfTMSj634rhd8ddfq
 f/68cwKkD53XJgCh1IIvFWDoEsWvjGfnscD6MxzQ+92TkgJAaQDVn6BReHkuw+lSjRbu
 qbNS9vwp1SUh94FsGR8H3Ua+/StMscC6r7oEYrtnpikKEqnQXcHxB9FjLTJBnOOV+7UB
 8ZICHVv8CxjRjXrkl+A8HfyOCNQsdzXR/qUR5sIKQdFcLptIcfPOOa3Yz5vt1HK7iS7k
 xVK06Fl4uns42vwVWbn9WJ1P0S/JdBJaZR/5ZYSmwB6HzQd5HJNJuYtt/NZOFl73BRzQ
 coEg==
X-Gm-Message-State: AOJu0Yza/+oFsjZFAD8N9nDJGvElZtMBTnZiGVeC72lZV2eCBeUDLogJ
 k4LuRDaNy1z26er3Re6+wfiPLodQItmReIIh3TaVabjmEpc2/bGNzAxQGJcnVD9uY5kYP8sOFgB
 Lb8USiX9Va/uF2wi2eDYNAa6nOlqkyHbxA30jL0agNmp6qNcmoTAyl+U0
X-Google-Smtp-Source: AGHT+IEhJVu7QWFHqLTbGSK72AQbr3D+i7ri4GQmneQUIlFB4SUubarcWZmr0pecw+tJ5afxE92JTXCaRO3o
X-Received: by 2002:a17:902:ec88:b0:1e0:e85a:21ff with SMTP id
 x8-20020a170902ec8800b001e0e85a21ffmr1169896plg.32.1712195272521; 
 Wed, 03 Apr 2024 18:47:52 -0700 (PDT)
Received: from postal.iol.unh.edu (postal.iol.unh.edu.
 [2606:4100:3880:1234::84]) by smtp-relay.gmail.com with ESMTPS id
 o16-20020a170902779000b001e2224f34acsm319676pll.95.2024.04.03.18.47.52
 (version=TLS1_2 cipher=ECDHE-ECDSA-AES128-GCM-SHA256 bits=128/128);
 Wed, 03 Apr 2024 18:47:52 -0700 (PDT)
X-Relaying-Domain: iol.unh.edu
Date: Wed, 03 Apr 2024 18:47:52 -0700 (PDT)
Message-ID: <660e06c8.170a0220.99213.162eSMTPIN_ADDED_MISSING@mx.google.com>
Received: from [172.17.0.8] (unknown [172.18.0.217])
 by postal.iol.unh.edu (Postfix) with ESMTP id B34326052471;
 Wed,  3 Apr 2024 21:47:51 -0400 (EDT)
Subject: |SUCCESS| pw139086-139089 [PATCH] [v10,4/4] cryptodev: remove rte ma
From: dpdklab@iol.unh.edu
To: Test Report <test-report@dpdk.org>
Cc: dpdk-test-reports@iol.unh.edu
In-Reply-To: <1712166816-10624-5-git-send-email-roretzla@linux.microsoft.com>
References: <1712166816-10624-5-git-send-email-roretzla@linux.microsoft.com>
Content-Type: text/plain
X-BeenThere: test-report@dpdk.org
X-Mailman-Version: 2.1.29
Precedence: list
List-Id: automatic DPDK test reports <test-report.dpdk.org>
List-Unsubscribe: <https://mails.dpdk.org/options/test-report>,
 <mailto:test-report-request@dpdk.org?subject=unsubscribe>
List-Archive: <http://mails.dpdk.org/archives/test-report/>
List-Post: <mailto:test-report@dpdk.org>
List-Help: <mailto:test-report-request@dpdk.org?subject=help>
List-Subscribe: <https://mails.dpdk.org/listinfo/test-report>,
 <mailto:test-report-request@dpdk.org?subject=subscribe>
Errors-To: test-report-bounces@dpdk.org

Test-Label: iol-unit-amd64-testing
Test-Status: SUCCESS
http://dpdk.org/patch/139089

_Testing PASS_

Submitter: Tyler Retzlaff <roretzla@linux.microsoft.com>
Date: Wednesday, April 03 2024 17:53:36 
DPDK git baseline: Repo:dpdk
  Branch: master
  CommitID:e2e546ab5bf5e024986ccb5310ab43982f3bb40c

139086-139089 --> testing pass

Test environment and result as below:

+------------------+----------------+
|   Environment    | dpdk_unit_test |
+==================+================+
| CentOS Stream 9  | PASS           |
+------------------+----------------+
| CentOS Stream 8  | PASS           |
+------------------+----------------+
| Debian Bullseye  | PASS           |
+------------------+----------------+
| Fedora 37        | PASS           |
+------------------+----------------+
| Fedora 39        | PASS           |
+------------------+----------------+
| Debian 12        | PASS           |
+------------------+----------------+
| Fedora 38        | PASS           |
+------------------+----------------+
| RHEL8            | PASS           |
+------------------+----------------+
| openSUSE Leap 15 | PASS           |
+------------------+----------------+
| Ubuntu 20.04     | PASS           |
+------------------+----------------+
| Ubuntu 22.04     | PASS           |
+------------------+----------------+


CentOS Stream 9
	Kernel: 5.4.0-167-generic
	Compiler: gcc 11.4.1 20230605

CentOS Stream 8
	Kernel: 5.4.0-167-generic
	Compiler: gcc 8.5.0 20210514

Debian Bullseye
	Kernel: 5.4.0-167-generic
	Compiler: gcc 10.2.1-6

Fedora 37
	Kernel: Depends on container host system
	Compiler: gcc 12.3.1

Fedora 39
	Kernel: Depends on container host
	Compiler: gcc 13.2.1

Debian 12
	Kernel: Container Host Kernel
	Compiler: gcc 10.2.1

Fedora 38
	Kernel: Depends on container host
	Compiler: gcc 13.2.1

RHEL8
	Kernel: 5.4.0-167-generic
	Compiler: gcc 8.5.0 20210514 (Red Hat 8.5.0-20)

openSUSE Leap 15
	Kernel: 5.4.0-167-generic
	Compiler: gcc 7.5.0

Ubuntu 20.04
	Kernel: 5.4.0-167-generic
	Compiler: gcc 9.4.0-1ubuntu1~20.04.1

Ubuntu 22.04
	Kernel: 5.4.0-167-generic
	Compiler: gcc 11.4.0

To view detailed results, visit:
https://lab.dpdk.org/results/dashboard/patchsets/29708/

UNH-IOL DPDK Community Lab

To manage your email subscriptions, visit: 
https://lab.dpdk.org/results/dashboard/preferences/subscriptions/