From mboxrd@z Thu Jan  1 00:00:00 1970
Return-Path: <test-report-bounces@dpdk.org>
Received: from mails.dpdk.org (mails.dpdk.org [217.70.189.124])
	by inbox.dpdk.org (Postfix) with ESMTP id 6B59943DF2
	for <public@inbox.dpdk.org>; Thu,  4 Apr 2024 03:48:56 +0200 (CEST)
Received: from mails.dpdk.org (localhost [127.0.0.1])
	by mails.dpdk.org (Postfix) with ESMTP id 67C86402D1;
	Thu,  4 Apr 2024 03:48:56 +0200 (CEST)
Received: from mail-io1-f97.google.com (mail-io1-f97.google.com
 [209.85.166.97]) by mails.dpdk.org (Postfix) with ESMTP id EE9524029B
 for <test-report@dpdk.org>; Thu,  4 Apr 2024 03:48:54 +0200 (CEST)
Received: by mail-io1-f97.google.com with SMTP id
 ca18e2360f4ac-7cc5fdb0148so21996639f.3
 for <test-report@dpdk.org>; Wed, 03 Apr 2024 18:48:54 -0700 (PDT)
DKIM-Signature: v=1; a=rsa-sha256; c=relaxed/relaxed;
 d=iol.unh.edu; s=unh-iol; t=1712195334; x=1712800134; darn=dpdk.org;
 h=references:in-reply-to:cc:to:from:subject:message-id:date:from:to
 :cc:subject:date:message-id:reply-to;
 bh=n2FryjKpXe4ETYM6dJO+zAy3ZbmrH+CinjeXYdWRAfA=;
 b=EpGsdNPfV4RAzgHVQD+HJvTC6nUFaWGWZB938N+6uleINFJzqfqxg6FkNXdLZy9/X6
 +Ib7TNpefUt56844aow39oghO16tK0Ye8qmEJo8FwOAv9fpMFMb8I5Iqfo2iKf7XR2d2
 mtN1q4tyqbpZ06102qBEwcC7VHCnVJ9mLqTzc=
X-Google-DKIM-Signature: v=1; a=rsa-sha256; c=relaxed/relaxed;
 d=1e100.net; s=20230601; t=1712195334; x=1712800134;
 h=references:in-reply-to:cc:to:from:subject:message-id:date
 :x-gm-message-state:from:to:cc:subject:date:message-id:reply-to;
 bh=n2FryjKpXe4ETYM6dJO+zAy3ZbmrH+CinjeXYdWRAfA=;
 b=vPazEF0morl7Hit+UOBnottqLLd4tTs+tJ0oQn9a8ycM5HUeWd/kOkugs69xgNhynd
 c3O38F0IcFTEr9TjBCK5TbpmFzi3l9SNbv0xcW4ZCproCVPHRTY0HnXuadvzh2Y0U+SR
 3fcAn2GqWvvtF3rZiWpUoF8YoIQeetA1p3p5s9AdEad5dW51AawF+1rb07TOnYE9gi78
 YY7WuFQ0rmfKIlqV4J03HJlgyNIW1+xVwqR3MOEVLQVctsumLjqM7XTxTSUG4V5tlVav
 E44KLyMCIjotYosCuQgRa3ytjdr/QI0oRRuN3rWIsmPVyun6HrqNmh1EeN1u1mQqQXle
 TxnA==
X-Gm-Message-State: AOJu0Yxk6zQVWHRoxCtqWGJggMw2UOulSvjkJ8VNU+LWZXqjH8bPntbH
 Ga79Bt5HIn76TsXLPjN6asht/a9faFQMNh3fJVgp+qj+KzGuo5jIl3jNPYV5RpjgVbwdOoOyi2F
 EtX6ik2WT4TPvKomIVUW8JjLMGTPrGngHl5LmWwUJ2j23tZLgH2IB+7rv
X-Google-Smtp-Source: AGHT+IEab7xm1hicSHi48crBPRsIUZLy4k2tNm5588ud1aCqOf68l/lk7SGVvYcnGfRm4hoZtXwD4gF63Lds
X-Received: by 2002:a05:6602:121b:b0:7d3:5458:400d with SMTP id
 y27-20020a056602121b00b007d35458400dmr145820iot.9.1712195333706; 
 Wed, 03 Apr 2024 18:48:53 -0700 (PDT)
Received: from postal.iol.unh.edu (postal.iol.unh.edu.
 [2606:4100:3880:1234::84]) by smtp-relay.gmail.com with ESMTPS id
 p22-20020a5d8d16000000b007d087d84f64sm677454ioj.20.2024.04.03.18.48.53
 (version=TLS1_2 cipher=ECDHE-ECDSA-AES128-GCM-SHA256 bits=128/128);
 Wed, 03 Apr 2024 18:48:53 -0700 (PDT)
X-Relaying-Domain: iol.unh.edu
Date: Wed, 03 Apr 2024 18:48:53 -0700 (PDT)
Message-ID: <660e0705.5d0a0220.42883.423fSMTPIN_ADDED_MISSING@mx.google.com>
Received: from [172.17.0.8] (unknown [172.18.0.217])
 by postal.iol.unh.edu (Postfix) with ESMTP id 321296052471;
 Wed,  3 Apr 2024 21:48:53 -0400 (EDT)
Subject: |SUCCESS| pw139086-139089 [PATCH] [v10,4/4] cryptodev: remove rte ma
From: dpdklab@iol.unh.edu
To: Test Report <test-report@dpdk.org>
Cc: dpdk-test-reports@iol.unh.edu
In-Reply-To: <1712166816-10624-5-git-send-email-roretzla@linux.microsoft.com>
References: <1712166816-10624-5-git-send-email-roretzla@linux.microsoft.com>
Content-Type: text/plain
X-BeenThere: test-report@dpdk.org
X-Mailman-Version: 2.1.29
Precedence: list
List-Id: automatic DPDK test reports <test-report.dpdk.org>
List-Unsubscribe: <https://mails.dpdk.org/options/test-report>,
 <mailto:test-report-request@dpdk.org?subject=unsubscribe>
List-Archive: <http://mails.dpdk.org/archives/test-report/>
List-Post: <mailto:test-report@dpdk.org>
List-Help: <mailto:test-report-request@dpdk.org?subject=help>
List-Subscribe: <https://mails.dpdk.org/listinfo/test-report>,
 <mailto:test-report-request@dpdk.org?subject=subscribe>
Errors-To: test-report-bounces@dpdk.org

Test-Label: iol-unit-amd64-testing
Test-Status: SUCCESS
http://dpdk.org/patch/139089

_Testing PASS_

Submitter: Tyler Retzlaff <roretzla@linux.microsoft.com>
Date: Wednesday, April 03 2024 17:53:36 
DPDK git baseline: Repo:dpdk
  Branch: master
  CommitID:e2e546ab5bf5e024986ccb5310ab43982f3bb40c

139086-139089 --> testing pass

Test environment and result as below:

+------------------+----------------+
|   Environment    | dpdk_unit_test |
+==================+================+
| CentOS Stream 9  | PASS           |
+------------------+----------------+
| CentOS Stream 8  | PASS           |
+------------------+----------------+
| Debian Bullseye  | PASS           |
+------------------+----------------+
| Fedora 37        | PASS           |
+------------------+----------------+
| Fedora 39        | PASS           |
+------------------+----------------+
| Debian 12        | PASS           |
+------------------+----------------+
| Fedora 38        | PASS           |
+------------------+----------------+
| RHEL8            | PASS           |
+------------------+----------------+
| openSUSE Leap 15 | PASS           |
+------------------+----------------+
| Ubuntu 20.04     | PASS           |
+------------------+----------------+
| Ubuntu 22.04     | PASS           |
+------------------+----------------+


CentOS Stream 9
	Kernel: 5.4.0-167-generic
	Compiler: gcc 11.4.1 20230605

CentOS Stream 8
	Kernel: 5.4.0-167-generic
	Compiler: gcc 8.5.0 20210514

Debian Bullseye
	Kernel: 5.4.0-167-generic
	Compiler: gcc 10.2.1-6

Fedora 37
	Kernel: Depends on container host system
	Compiler: gcc 12.3.1

Fedora 39
	Kernel: Depends on container host
	Compiler: gcc 13.2.1

Debian 12
	Kernel: Container Host Kernel
	Compiler: gcc 10.2.1

Fedora 38
	Kernel: Depends on container host
	Compiler: gcc 13.2.1

RHEL8
	Kernel: 5.4.0-167-generic
	Compiler: gcc 8.5.0 20210514 (Red Hat 8.5.0-20)

openSUSE Leap 15
	Kernel: 5.4.0-167-generic
	Compiler: gcc 7.5.0

Ubuntu 20.04
	Kernel: 5.4.0-167-generic
	Compiler: gcc 9.4.0-1ubuntu1~20.04.1

Ubuntu 22.04
	Kernel: 5.4.0-167-generic
	Compiler: gcc 11.4.0

To view detailed results, visit:
https://lab.dpdk.org/results/dashboard/patchsets/29708/

UNH-IOL DPDK Community Lab

To manage your email subscriptions, visit: 
https://lab.dpdk.org/results/dashboard/preferences/subscriptions/