From mboxrd@z Thu Jan  1 00:00:00 1970
Return-Path: <test-report-bounces@dpdk.org>
Received: from mails.dpdk.org (mails.dpdk.org [217.70.189.124])
	by inbox.dpdk.org (Postfix) with ESMTP id BCC3B43DF2
	for <public@inbox.dpdk.org>; Thu,  4 Apr 2024 03:49:52 +0200 (CEST)
Received: from mails.dpdk.org (localhost [127.0.0.1])
	by mails.dpdk.org (Postfix) with ESMTP id B550C402D1;
	Thu,  4 Apr 2024 03:49:52 +0200 (CEST)
Received: from mail-qv1-f100.google.com (mail-qv1-f100.google.com
 [209.85.219.100])
 by mails.dpdk.org (Postfix) with ESMTP id 982AC4029B
 for <test-report@dpdk.org>; Thu,  4 Apr 2024 03:49:51 +0200 (CEST)
Received: by mail-qv1-f100.google.com with SMTP id
 6a1803df08f44-69932dfab01so836466d6.1
 for <test-report@dpdk.org>; Wed, 03 Apr 2024 18:49:51 -0700 (PDT)
DKIM-Signature: v=1; a=rsa-sha256; c=relaxed/relaxed;
 d=iol.unh.edu; s=unh-iol; t=1712195391; x=1712800191; darn=dpdk.org;
 h=references:in-reply-to:cc:to:from:subject:message-id:date:from:to
 :cc:subject:date:message-id:reply-to;
 bh=n2FryjKpXe4ETYM6dJO+zAy3ZbmrH+CinjeXYdWRAfA=;
 b=AKnh37a0cA4gIJFzcY9/Xg3MVNDUvwV3eAOjR5RZC92AaYaSbYGMRRshPZReZlxqyy
 nvwml1vr2Dca3iExzFc3C3tRwnPFJBToRH9nDWyDtx/auS8NDmdM08/VbdDqll/3XRED
 qqoF4Ec1BX8U4phW+T+BvI1ciDEqXk2yIuPqU=
X-Google-DKIM-Signature: v=1; a=rsa-sha256; c=relaxed/relaxed;
 d=1e100.net; s=20230601; t=1712195391; x=1712800191;
 h=references:in-reply-to:cc:to:from:subject:message-id:date
 :x-gm-message-state:from:to:cc:subject:date:message-id:reply-to;
 bh=n2FryjKpXe4ETYM6dJO+zAy3ZbmrH+CinjeXYdWRAfA=;
 b=gCmpPE8Ez5VhrIkxz1VTrye3O+uTzrkzvQ8stqXLqvDFopRtlsJtR75MQb+RhYDfhQ
 +ByDkhAYogs2t+cDT3JrZqJxkEz+cCYUvv9+qU4gTJ7k2cU5lViBCFvzr4HScmuqS81k
 efMbKNGSDTHpdbmcXRoHm1/MKAHiqHuYUuiCpuclKbR1no4XvX3FqXUC2HhBcpYhmiPZ
 ARkJifLAD/qaFYgOp8I3NWVAgwS/WV3GV6QlhkynP2uhpx8+xjZ6iQZ9BNA4xtuM5fbX
 RZ8r1rkT6+zZKkf2nQd8zGOwkgQnYIblduA7XJliusxeo1icYNwhsNPoDZX0P1kllNJA
 1RKQ==
X-Gm-Message-State: AOJu0YyAcuGlw3T8cUzLWb0ZojEF6/II4JmpnHHxRWYgYxrVacOa/V8c
 5DpirGpfQN3Zme+q3X9bZdZpcde05ghrUdRv5uw2A3GUWftazx1wluS5qjXYx1I7+TIzcaBIwl0
 dIon2OPfvyXZSTGCf1zRHB9MIfYy3BDlA7a2II0Ps
X-Google-Smtp-Source: AGHT+IFJre57LG/bmO00+wvVG+G579OIyZidVXe3K8vcn6H++gc7jok0at6oJ4ceqtXpkIq5GTtalxKf2Cpl
X-Received: by 2002:ad4:5cc7:0:b0:699:1d84:1755 with SMTP id
 iu7-20020ad45cc7000000b006991d841755mr1120982qvb.44.1712195390950; 
 Wed, 03 Apr 2024 18:49:50 -0700 (PDT)
Received: from postal.iol.unh.edu (postal.iol.unh.edu. [132.177.123.84])
 by smtp-relay.gmail.com with ESMTPS id
 gg10-20020a056214252a00b0069928eedb10sm138722qvb.61.2024.04.03.18.49.50
 (version=TLS1_2 cipher=ECDHE-ECDSA-AES128-GCM-SHA256 bits=128/128);
 Wed, 03 Apr 2024 18:49:50 -0700 (PDT)
X-Relaying-Domain: iol.unh.edu
Date: Wed, 03 Apr 2024 18:49:50 -0700 (PDT)
Message-ID: <660e073e.050a0220.c6251.8e18SMTPIN_ADDED_MISSING@mx.google.com>
Received: from [172.17.0.8] (unknown [172.18.0.217])
 by postal.iol.unh.edu (Postfix) with ESMTP id 9B2A66052471;
 Wed,  3 Apr 2024 21:49:50 -0400 (EDT)
Subject: |SUCCESS| pw139086-139089 [PATCH] [v10,4/4] cryptodev: remove rte ma
From: dpdklab@iol.unh.edu
To: Test Report <test-report@dpdk.org>
Cc: dpdk-test-reports@iol.unh.edu
In-Reply-To: <1712166816-10624-5-git-send-email-roretzla@linux.microsoft.com>
References: <1712166816-10624-5-git-send-email-roretzla@linux.microsoft.com>
Content-Type: text/plain
X-BeenThere: test-report@dpdk.org
X-Mailman-Version: 2.1.29
Precedence: list
List-Id: automatic DPDK test reports <test-report.dpdk.org>
List-Unsubscribe: <https://mails.dpdk.org/options/test-report>,
 <mailto:test-report-request@dpdk.org?subject=unsubscribe>
List-Archive: <http://mails.dpdk.org/archives/test-report/>
List-Post: <mailto:test-report@dpdk.org>
List-Help: <mailto:test-report-request@dpdk.org?subject=help>
List-Subscribe: <https://mails.dpdk.org/listinfo/test-report>,
 <mailto:test-report-request@dpdk.org?subject=subscribe>
Errors-To: test-report-bounces@dpdk.org

Test-Label: iol-unit-amd64-testing
Test-Status: SUCCESS
http://dpdk.org/patch/139089

_Testing PASS_

Submitter: Tyler Retzlaff <roretzla@linux.microsoft.com>
Date: Wednesday, April 03 2024 17:53:36 
DPDK git baseline: Repo:dpdk
  Branch: master
  CommitID:e2e546ab5bf5e024986ccb5310ab43982f3bb40c

139086-139089 --> testing pass

Test environment and result as below:

+------------------+----------------+
|   Environment    | dpdk_unit_test |
+==================+================+
| CentOS Stream 9  | PASS           |
+------------------+----------------+
| CentOS Stream 8  | PASS           |
+------------------+----------------+
| Debian Bullseye  | PASS           |
+------------------+----------------+
| Fedora 37        | PASS           |
+------------------+----------------+
| Fedora 39        | PASS           |
+------------------+----------------+
| Debian 12        | PASS           |
+------------------+----------------+
| Fedora 38        | PASS           |
+------------------+----------------+
| RHEL8            | PASS           |
+------------------+----------------+
| openSUSE Leap 15 | PASS           |
+------------------+----------------+
| Ubuntu 20.04     | PASS           |
+------------------+----------------+
| Ubuntu 22.04     | PASS           |
+------------------+----------------+


CentOS Stream 9
	Kernel: 5.4.0-167-generic
	Compiler: gcc 11.4.1 20230605

CentOS Stream 8
	Kernel: 5.4.0-167-generic
	Compiler: gcc 8.5.0 20210514

Debian Bullseye
	Kernel: 5.4.0-167-generic
	Compiler: gcc 10.2.1-6

Fedora 37
	Kernel: Depends on container host system
	Compiler: gcc 12.3.1

Fedora 39
	Kernel: Depends on container host
	Compiler: gcc 13.2.1

Debian 12
	Kernel: Container Host Kernel
	Compiler: gcc 10.2.1

Fedora 38
	Kernel: Depends on container host
	Compiler: gcc 13.2.1

RHEL8
	Kernel: 5.4.0-167-generic
	Compiler: gcc 8.5.0 20210514 (Red Hat 8.5.0-20)

openSUSE Leap 15
	Kernel: 5.4.0-167-generic
	Compiler: gcc 7.5.0

Ubuntu 20.04
	Kernel: 5.4.0-167-generic
	Compiler: gcc 9.4.0-1ubuntu1~20.04.1

Ubuntu 22.04
	Kernel: 5.4.0-167-generic
	Compiler: gcc 11.4.0

To view detailed results, visit:
https://lab.dpdk.org/results/dashboard/patchsets/29708/

UNH-IOL DPDK Community Lab

To manage your email subscriptions, visit: 
https://lab.dpdk.org/results/dashboard/preferences/subscriptions/